{"text_format":"1","workbook":"xlsx","n_sheets":17,"sheets":["Begruessung","Menue","Laufen","Laufkal","Radeln","Radelkal","Tage","Wochen","Monate","Monate+Bel","Belastung","Schuhe","Kriterien","Daten","Jahre","Strecken","Bel-Kriterien"],"not_rendered":{"charts":9,"images":28,"macros":1,"external_links":0,"defined_names":43,"comments":5,"pivot_tables":0},"unopened":[],"bounds":{"document_bytes":16777216,"sheet_cells":100000,"rows_first":2000,"rows_last":500,"rows_between":2000,"halvings":0,"cell_chars":16384,"cell_head_chars":4096},"cells_cut":0,"cells_raw":0,"read":"whole","date_system":"1900"}

{"sheet":"Begruessung","index":0,"n_rows":47,"n_cols":8,"rows_kept":47,"cut":false,"hidden":false,"merged":[[2,1,2,9],[37,1,37,9],[8,1,8,9],[6,1,6,9],[4,1,4,9],[11,3,11,5],[11,6,11,8],[12,3,12,4],[36,1,36,9],[27,1,27,9],[26,1,26,9],[25,1,25,9],[24,1,24,9],[29,1,29,9],[17,1,18,9],[20,1,20,9],[40,1,40,9],[33,1,33,4],[41,1,41,9],[46,1,46,9],[42,1,42,9],[43,1,43,9],[44,1,44,9],[45,1,45,9],[39,1,39,9],[14,5,14,9],[28,1,28,9],[38,1,38,9],[22,1,22,9],[21,1,21,9],[19,1,19,9]]}
[null,"Hi,"]
[]
[null,"nicht erschrecken, die Datei enthält natürlich Makros. Sie dienen bis auf 1 Ausnahme nur zum Navigieren. Die Ausnahme ist das Lösch-Makro, das alle Trainingsdaten entfernt. Man kann aber auch normal von Hand in der Datei navigieren. Es ist nichts versteckt (da fällt mir ein: Spalten im Laufkalenderblatt). Auf allen Arbeitsblättern habe ich sicherheitshalber einen Blattschutz aktiviert, aber ohne Paßwort. Kann über Schutz-Blattschutzaufheben deaktiviert werden."]
[]
[null,"Zur Demo habe ich ein paar Trainingsdaten eingegeben, damit Ihr die Berechnungen und Grafiken sehen könnt. Macht eine Sicherheitskopie, bevor Ihr mit dem Button im Hauptmenü (oder auch zu Fuß, wenn Ihr dem Makro nicht trauen wollt) die Testdaten löscht und Euch selbst versucht."]
[]
[null,"Die Kennziffern für die Belastung kann man im Blatt Kriterien beliebig ändern (z.Z. HF-Bereiche). Nur muss man dann bei der Eingabe der Trainingsläufe, genau wie bei den Schuhmodellen, natürlich genau dasselbe Kürzel verwenden. Das ist durch die automatische dropdown-Liste und Gültigkeitsprüfung gewährleistet."]
[]
[null,"Die Bildschirm-Anzeige ist für 1280x1024 Pixel eingestellt. Das läßt sich am einfachsten durch Änderung des Zoom-Faktors anpassen (Zoom-Faktor ist nur nutzbar, wenn Cursor in der Tabelle steht, d.h. nicht die Graphik markiert ist). Genug der Gebrauchsanweisungen, so kompliziert ist's wirklich nicht. Ach so, vielleicht paßt meine Skala in der Grafik nicht zu Eurem Trainingsumfang. Zum ändern einfach auf eine Skalenzahl doppelklicken und dann im Register Skalierung das Maximum verändern."]
[]
[null,"Viel Spaß"]
[null,"Uli",null,"mailto:ulrich.sauer@gmx.de",null,null,"http://www.laufen-in-witten.de"]
[null,null,null,"http://www.uli-sauer.de",null,null,"http://www.london-marathon.de"]
[]
[null,"Bei weiteren Fragen beachtet bitte die FAQ:",null,null,null,"http://www.uli-sauer.de/laufen/training/faq_lauftagebuch.htm"]
[]
[null,"Aktualisierungen"]
[null,"05.11.20: Die Version 2021 ist jetzt eine xlsm-Datei und hat nur noch rd. 0,5 MB. Die Funktion für die automatische Grafikschau ist gelöscht, da kaum Bedarf."]
[]
[null,"15.11.19: Da dieser Laufkalender offenbar immer weiter lebt, ist die Gültigkeitsprüfung für die Eingabe des aktuellen Jahres jetzt auf max. 2030 gesetzt."]
[null,"12.06.18: Im Laufkalender kann man die Distanz jetzt aus einer Dropdown-Liste auswählen. Die Distanzen können individuell editiert werden im Blatt Strecken."]
[null,"01.01.18: Keine Änderungen gegenüber der Vorjahresversion."]
[null,"01.01.17: Keine Änderungen gegenüber der Vorjahresversion."]
[null,"08.12.15: Fehler behoben. Sonderabfragen im Blatt Kriterien für Rad-Zeiträume werden jetzt richtig berechnet."]
[null,"22.11.13: Hinweis  Die Download-Datei ist weiterhin eine xls-Datei, das heißt auf Basis Excel2003. Wer eine aktuelle Excel-Version hat, kann die Datei einfach als xlsm (Datei mit Makros) abspeichern und ohne Ein-\nschränkung nutzen. Vorteil ist auch, dass die Datei dann nur 0,5MB statt 1,5MB hat."]
[null,"07.01.10: (1) Im offiziellen Kalender erhält am Jahresanfang die erste Woche, die mindestens 4 Tage hat, die Nummer 1. Diese Feststellung der ersten Wochen-Nummer wird jetzt per Formel berücksichtigt, damit die Wochen-Nummer im Blatt Laufkal bzw. Radkal und in der Wochen-Grafik mit dem offiziellen Kalender übereinstimmt. Danke für den Hinweis an User Leif Koldkjær.\n(2) Bei der Eingabe des aktuellen Jahres im Blatt \"Daten\" gab es eine Gültigkeitsprüfung <=2010. Diese wurde auf 2020 erweitert. Ich hätte vor 10 Jahren nicht gedacht, dass mein Lauftagebuch ein Dauerbrenner wird..."]
[null,"01.01.09: Keine inhaltlichen Änderungen in Ausgabe 2009 gegenüber bisherigem Stand. Nur der Link zum Leistungsindex bei Greif.de musste aktualisiert werden. Außerdem sind die Grafiken für eine Bildschirm-Anzeige von 1280x1024 Pixel vergrößert worden."]
[null,"01.01.06: (1) Neue Grafik eingefügt mit Darstellung der Trainings-km der Vorjahre (Arbeitsblatt \"Jahre\")\n(2) Makro zum Daten-Löschen erweitert um die Schuh-Daten (Kaufdatum, Vorjahres-km, ausgemusterte)"]
[null,"01.01.05: (1) Im Laufkalender wird jetzt der %-Anteil des Durchschnittspulses vom Höchstpuls errechnet. Der persönliche maximale Puls muss dazu im Blatt Daten erfasst werden. \n(2) Der Vorschlag für die Belastungsstufen ist neu definiert, entsprechend den bei Laktattests üblichen Trainingshinweisen. Im Blatt Kriterien wird als Hilfestellung eine Tabelle mit Pulsbereichen errechnet.\n(3) Im Laufkalender kann man jetzt ein Kennzeichen setzen, wenn beide Einträge eines Tages zu einem Lauf zusammengefasst werden sollen.\n(4) Die in Vorjahren mit den Schuhen gelaufenen Kilometer werden jetzt im Blatt \"Kriterien\" eingetragen.\n"]
[null,"31.03.04: Im Laufkalender-Blatt die Gewichtseingabe und die Formel zur BMI-Ermittlung in getrennte Spalten gesetzt, weil dann das Löschen über Makro \"Alle Daten löschen\" schneller geht. Die Reihenfolge der Arbeitsblätter geändert und in Excel-XP farbig hinterlegt."]
[null,"03.01.04: Formelfehler bei der Berechnung der Greif-Punkte korrigiert. Ergebnis war immer zu hoch, weil beim"]
[null,"Formelteil \"maxHF/220\" Zähler und  Nenner verwechselt war. Danke an Harald Dünnfelder für den Hinweis."]
[null,"01.01.04: Das Kaufdatum der Schuhe wird jetzt im Blatt \"Kriterien\" eingegeben. Alle Felder, in denen Eingaben"]
[null,"durch den Anwender erwartet werden, sind in ",null,null,null,"dieser hässlichen Farbe",null,"hinterlegt. Im Laufkalender wird bei "]
[null,"Eingabe des Gewichts der Body Mass Index berechnet. Dazu muss im Blatt Daten die Körpergrösse eingegeben"]
[null,"werden."]
[null,"15.02.03: Ein bißchen gespielt: 2 zusätzliche Grafiken für Belastung und Schuhe eingebaut. Statusmeldung für die automatische Grafik-Schau. Schuh-Anzahl auf 10 begrenzt. Spalten und Zeilen auf den Blättern soweit ausgeblendet, dass man sich nur wie gewünscht bewegen kann. Schriftfarben-Makro im Laufkal so geändert, dass Cursor da bleibt, wo die Farbe geändert wird."]
[null,"01.12.02: Eine wichtige Neuerung, rechtzeitig zum Einstieg in das neue Jahr. In den Kalenderblättern gibt es jetzt für jeden Tag 2 Zeilen. Dieser Wunsch kam des öfteren von Benutzern, die 2 Einheiten am Tag absolvieren. Doch auch für alle anderen ist das von Nutzen. So kann man nun das Ein- und Auslaufen beim Wettkampf separat eingeben. Und es ist mehr Platz für die Kommentare. Um die Schriftfarbe ohne Aufhebung des Blattschutzes wechseln zu können, gibt es neue Buttons. Außerdem habe ich einige Zahlenformate im Kalender geändert (führende Nullen bei Minuten und Sekunden, Nullanzeige im Feld \"weicher Boden\"). Die Spalte für die \"historische\" Gesamtzahl für Besuch der Muckibude habe ich umfunktioniert zur Eingabe des Gewichts in kg."]
[null,"26.09.02: Wieder eine Idee von Hilbert (danke). Im Blatt \"Laufkal\" werden jetzt im Titel km-Summen für Jahr, aktuellen Monat und Vormonat angezeigt, so dass man das nicht erst im Blatt \"Laufen\" sieht. Das hat den kleinen Nachteil, dass man nicht mehr unbedenklich Spalten löschen kann, die man für überflüssig hält. Mit dem Löschen einer Spalte ginge natürlich auch der Inhalt der ersten Zeile verloren."]
[null,"01.09.02: In Laufkalender und Radkalender kann man jetzt aus Dropdown-Listen auswählen (Belastung, Schuh bzw. Rad, Kommentar). Im Kommentarfeld kann man die Werte aus der Liste auch ignorieren, in den anderen Feldern sind sie Zwang. Außerdem für andere Felder Gültigkeitsprüfungen eingebaut. Für die Dropdown-Liste im Kommentarfeld gibt es ein neues Tabellenblatt \"Strecken\". - Außerdem wird für die Sportwissenschaftler jetzt im Blatt \"Laufen\" auch das Tempo in m/sec berechnet."]
[null,"01.08.02: Im Laufkalender wird das Tempo jetzt zusätzlich zu min/km auch in km/Std angegeben."]
[null,"24.03.02: Ich hatte vergessen, dass man als Folge der neuen Grafik (siehe 03.03.02) jetzt separate Belastungsstufen fürs Radfahren braucht. Im Blatt \"Kriterien\" kann man diese jetzt getrennt eingeben."]
[null,"03.03.02: Neue Grafik eingebaut, die die Lauf-km je Monat mit Aufteilung nach Belastungsstufen zeigt"]
[null,"19.12.01: Den Laufkalender um 2 Spalten für durchschnittliche und maximale Herzfrequenz erweitert. Zusätzlich eine Spalte mit Berechnung von \"Greif-Punkten\" gemäß der Formel von Peter Greif (http://www.greif.de/formel.htm). Für diese Berechnung muss im Blatt Daten (Feld I15) die persönliche maximale Herzfrequenz eingegeben werden. Beim betreffenden Trainingslauf ist für die Greif-Punkte die Angabe der durchschnittlichen Herzfrequenz erforderlich. Die in diesem Lauf erreichte maximale HF ist für die Berechnung nicht relevant."]
[null,"27.10.01: Im Blatt Daten (Zellen D56:D108 sowie E56:E108) die Formeln zur Berechnung der Wochensummen geändert. Für die Summenermittlung wird jetzt die Spalte D in den Kalenderblättern herangezogen. Damit soll es möglich werden, in den Kalenderblättern Zeilen einzufügen (zur Eingabe mehrerer Einheiten am selben Tag). Bei Verdoppelung der Sonntagszeile wurde bisher die Wochensumme falsch berechnet. Bei Einfügen von Zeilen aber immer darauf achten, dass die Wochen-Nummer richtig berechnet wird."]
[null,"29.04.2001: Wer mit dem Kalender irgendwann mitten im Jahr beginnt, kann im Blatt Daten jetzt das Startdatum eingeben,  damit alle Durchschnittswerte richtig berechnet werden."]
[null,"Version 2001: Die Belastungsstufe 6 kann jetzt wie die ersten 5 beliebig benutzt werden  (bisher war sie für Ein-/Auslaufen reserviert und wurde bei den Statistiken der Stufe 5 zugerechnet.)"]

{"sheet":"Menue","index":1,"n_rows":19,"n_cols":2,"rows_kept":19,"cut":false,"hidden":false,"merged":[[2,1,2,8],[10,1,10,8],[18,1,18,8]]}
[" "]
[]
[null,"Zur Datenanzeige"]
[]
[]
[]
[]
[]
[]
[]
[null,"Zur regelmäßigen Dateneingabe im Kalender"]
[]
[]
[]
[]
[]
[]
[]
[null,"Zur Eingabe von Stammdaten und jährlichen Anpassungen"]

{"sheet":"Laufen","index":2,"n_rows":27,"n_cols":12,"rows_kept":27,"cut":false,"hidden":false,"merged":[[29,1,29,5]]}
[null,{"$f":"+\"Laufen \"&Daten!D3","v":"Laufen 2021"},"Stand",{"$f":"TODAY()","v":"2020-12-25"},"km","Anzahl","hh:mm:ss",null,"Muckibude"]
[null,"im Jahr insgesamt",null,null,{"$f":"DSUM(laufkalender,Laufkal!F5,Kriterien!$A$6:$B$7)","v":28.5},{"$f":"DCOUNT(laufkalender,Laufkal!F5,Kriterien!A6:B7)-L26","v":3},{"$f":"DSUM(laufkalender,Laufkal!L5,Kriterien!A6:B7)/24/60","v":0.10839120370370371},null,{"$f":"DCOUNT(laufkalender,Laufkal!AI5,Kriterien!$A$6:$B$7)","v":0}]
[]
[null,"Durchschnitt pro Monat",null,null,{"$f":"+E2/Daten!D11","v":{"$error":"#DIV/0!"}},{"$f":"+F2/Daten!D11","v":{"$error":"#DIV/0!"}},{"$f":"+G2/Daten!D11","v":{"$error":"#DIV/0!"}},null,{"$f":"+I2/Daten!D11","v":{"$error":"#DIV/0!"}}]
[null,"Durchschnitt pro Woche",null,null,{"$f":"(+E2+Daten!I8+Daten!I12)/Daten!D10","v":{"$error":"#DIV/0!"}},{"$f":"(+F2+Daten!I9+Daten!I13)/Daten!D10","v":{"$error":"#DIV/0!"}},{"$f":"+G2/Daten!D10","v":{"$error":"#DIV/0!"}},null,{"$f":"+I2/Daten!D10","v":{"$error":"#DIV/0!"}}]
[null,"Durchschnitt pro Tag",null,null,{"$f":"+E2/Daten!D9","v":{"$error":"#DIV/0!"}},{"$f":"+F2/Daten!D9","v":{"$error":"#DIV/0!"}},{"$f":"+G2/Daten!D9","v":{"$error":"#DIV/0!"}}]
[null,"Durchschnitt pro Lauf",null,null,{"$f":"+E2/F2","v":9.5},null,{"$f":"+G2/F2","v":"00:52:01.667"},null,"ges. seit 01/2001"]
[null,"Durchschnittstempo km/Std - m/sec - min/km",null,null,{"$f":"+E2/(G2*24)","v":10.955686065136144},{"$f":"+E2*1000/(G2*24*60*60)","v":3.0432461292044848},{"$f":"+G2/E2","v":"00:05:28.596"},null,{"$f":"+I2+Daten!E27","v":0}]
[null,"längster Lauf",null,null,{"$f":"DMAX(laufkalender,Laufkal!F5,Kriterien!A6:A7)","v":10},null,{"$f":"DMAX(laufkalender,Laufkal!L5,Kriterien!A6:B7)/24/60","v":3.9293981481481478E-2}]
[null,"kürzester Lauf",null,null,{"$f":"DMIN(laufkalender,Laufkal!F5,Kriterien!A6:A7)","v":2},null,{"$f":"DMIN(laufkalender,Laufkal!L5,Kriterien!A6:B7)/24/60","v":8.3333333333333332E-3},null,"gesamt-km"]
[null,"weicher Boden insgesamt",null,null,{"$f":"+Laufkal!AG739","v":5},{"$f":"+E11/E2","v":0.17543859649122806},null,null,"seit 11/85"]
[null,"harter Boden insgesamt",null,null,{"$f":"+Laufkal!AH739","v":23.5},{"$f":"+E12/E2","v":0.82456140350877194},null,null,{"$f":"+Daten!C27+Laufen!E2","v":28.5}]
[]
[null,"Schuhe","Kauf","Anzahl","km","% km","km ges.",null,"Belastung","Anzahl","km","% km"]
[null,{"$f":"+Kriterien!A12","v":"Schuh 1"},{"$f":"+Kriterien!C12","v":"00:00:00"},{"$f":"DCOUNT(laufkalender,Laufkal!F5,Kriterien!A75:A76)","v":3},{"$f":"DSUM(laufkalender,Laufkal!F5,Kriterien!A75:A76)","v":22},{"$f":"+E15/$E$26","v":0.77192982456140347},{"$f":"+E15+Kriterien!D12","v":22},null,{"$f":"+Kriterien!A26","v":"Wettkampf"},{"$f":"DCOUNT(laufkalender,Laufkal!F5,Kriterien!G57:G58)","v":1},{"$f":"DSUM(laufkalender,Laufkal!F5,Kriterien!G57:G58)","v":10},{"$f":"+K15/$K$21","v":0.35087719298245612}]
[null,{"$f":"+Kriterien!A13","v":"Schuh 2"},{"$f":"+Kriterien!C13","v":"00:00:00"},{"$f":"DCOUNT(laufkalender,Laufkal!F5,Kriterien!A77:A78)","v":1},{"$f":"DSUM(laufkalender,Laufkal!F5,Kriterien!A77:A78)","v":6.5},0.22807017543859648,{"$f":"+E16+Kriterien!D13","v":6.5},null,{"$f":"+Kriterien!A27","v":"Tempo (>90%)"},{"$f":"DCOUNT(laufkalender,Laufkal!F5,Kriterien!G59:G60)","v":0},{"$f":"DSUM(laufkalender,Laufkal!F5,Kriterien!G59:G60)","v":0},0]
[null,{"$f":"+Kriterien!A14","v":"Schuh 3"},{"$f":"+Kriterien!C14","v":"00:00:00"},{"$f":"DCOUNT(laufkalender,Laufkal!F5,Kriterien!A79:A80)","v":0},{"$f":"DSUM(laufkalender,Laufkal!F5,Kriterien!A79:A80)","v":0},0,{"$f":"+E17+Kriterien!D14","v":0},null,{"$f":"+Kriterien!A28","v":"GA2 (>80%)"},{"$f":"DCOUNT(laufkalender,Laufkal!F5,Kriterien!G61:G62)","v":0},{"$f":"DSUM(laufkalender,Laufkal!F5,Kriterien!G61:G62)","v":0},0]
[null,{"$f":"+Kriterien!A15","v":"Schuh 4"},{"$f":"+Kriterien!C15","v":"00:00:00"},{"$f":"DCOUNT(laufkalender,Laufkal!F5,Kriterien!A81:A82)","v":0},{"$f":"DSUM(laufkalender,Laufkal!F5,Kriterien!A81:A82)","v":0},0,{"$f":"+E18+Kriterien!D15","v":0},null,{"$f":"+Kriterien!A29","v":"GA1 (>70%)"},{"$f":"DCOUNT(laufkalender,Laufkal!F5,Kriterien!G63:G64)","v":0},{"$f":"DSUM(laufkalender,Laufkal!F5,Kriterien!G63:G64)","v":0},0]
[null,{"$f":"+Kriterien!A16","v":"Schuh 5"},{"$f":"+Kriterien!C16","v":"00:00:00"},{"$f":"DCOUNT(laufkalender,Laufkal!F5,Kriterien!A83:A84)","v":0},{"$f":"DSUM(laufkalender,Laufkal!F5,Kriterien!A83:A84)","v":0},0,{"$f":"+E19+Kriterien!D16","v":0},null,{"$f":"+Kriterien!A30","v":"LDL (>65%)"},{"$f":"DCOUNT(laufkalender,Laufkal!F5,Kriterien!G65:G66)","v":2},{"$f":"DSUM(laufkalender,Laufkal!F5,Kriterien!G65:G66)","v":12},0.42105263157894735]
[null,{"$f":"+Kriterien!A17","v":"Schuh 6"},{"$f":"+Kriterien!C17","v":"00:00:00"},{"$f":"DCOUNT(laufkalender,Laufkal!F5,Kriterien!A85:A86)","v":0},{"$f":"DSUM(laufkalender,Laufkal!F5,Kriterien!A85:A86)","v":0},0,{"$f":"+E20+Kriterien!D17","v":0},null,{"$f":"+Kriterien!A31","v":"Reg (bis 65%)"},{"$f":"DCOUNT(laufkalender,Laufkal!F5,Kriterien!G67:G68)","v":1},{"$f":"DSUM(laufkalender,Laufkal!F5,Kriterien!G67:G68)","v":6.5},0.22807017543859648]
[null,{"$f":"+Kriterien!A18","v":"Schuh 7"},{"$f":"+Kriterien!C18","v":"00:00:00"},{"$f":"DCOUNT(laufkalender,Laufkal!F5,Kriterien!A87:A88)","v":0},{"$f":"DSUM(laufkalender,Laufkal!F5,Kriterien!A87:A88)","v":0},0,{"$f":"+E21+Kriterien!D18","v":0},null,null,{"$f":"SUM(J15:J20)","v":4},{"$f":"SUM(K15:K20)","v":28.5},1]
[null,{"$f":"+Kriterien!A19","v":"Schuh 8"},{"$f":"+Kriterien!C19","v":"00:00:00"},{"$f":"DCOUNT(laufkalender,Laufkal!F5,Kriterien!A89:A90)","v":0},{"$f":"DSUM(laufkalender,Laufkal!F5,Kriterien!A89:A90)","v":0},0,{"$f":"+E22+Kriterien!D19","v":0}]
[null,{"$f":"+Kriterien!A20","v":"Schuh 9"},{"$f":"+Kriterien!C20","v":"00:00:00"},{"$f":"DCOUNT(laufkalender,Laufkal!F5,Kriterien!A91:A92)","v":0},{"$f":"DSUM(laufkalender,Laufkal!F5,Kriterien!A91:A92)","v":0},0,{"$f":"+E23+Kriterien!D20","v":0}]
[null,{"$f":"+Kriterien!A21","v":"Schuh 10"},{"$f":"+Kriterien!C21","v":"00:00:00"},{"$f":"DCOUNT(laufkalender,Laufkal!F5,Kriterien!A93:A94)","v":0},{"$f":"DSUM(laufkalender,Laufkal!F5,Kriterien!A93:A94)","v":0},0,{"$f":"+E24+Kriterien!D21","v":0}]
[null,{"$f":"+Kriterien!A22","v":"Schuh 11"},{"$f":"+Kriterien!C22","v":"00:00:00"},{"$f":"DCOUNT(laufkalender,Laufkal!F5,Kriterien!A95:A96)","v":0},{"$f":"DSUM(laufkalender,Laufkal!F5,Kriterien!A95:A96)","v":0},0,{"$f":"+E25+Kriterien!D22","v":0}]
[null,null,null,{"$f":"SUM(D15:D25)","v":4},{"$f":"SUM(E15:E25)","v":28.5},1,null,null,"Korr. Ein-/Auslaufen für Anzahl:",null,null,{"$f":"DSUM(laufkalender,Laufkal!AF5,Kriterien!$A$6:$B$7)","v":1}]
[null,"ausgemusterte Schuhe"]

{"sheet":"Laufkal","index":3,"n_rows":741,"n_cols":35,"rows_kept":741,"cut":false,"hidden":false,"merged":[[739,32,739,33],[0,0,0,2],[0,5,0,12],[739,28,739,29],[740,28,740,29],[0,22,0,23],[0,16,0,17],[1,6,1,10],[1,19,1,20],[1,22,1,23],[1,24,1,25]]}
[{"$f":"+Daten!D3","v":2021},null,null,null,null,{"$f":"+\"Jahr: \"&+ROUND(Laufen!E2,1)&\" km\"","v":"Jahr: 28,5 km"},null,null,null,null,null,null,null,"akt. Monat:",null,null,{"$f":"IF(+Daten!D3=YEAR(Daten!D8),VLOOKUP(aktuellermonat,Daten!C32:D43,2),\"---\")","v":"---"},null,"km","Vormonat:",null,null,{"$f":"IF(aktuellermonat=1,\"---\",VLOOKUP(aktuellermonat-1,Daten!C32:D43,2))","v":{"$error":"#N/A"}},null,"km"]
[null,"Mo",null,null,null,"km","Laufzeit",null,null,null,null,"min","Ø","Ø","Be-","HF","HF","Greif","Sch-","Anteil",null,"Rad","Muckibude",null,"Gewicht",null,null,"Zs","Tg","Wo","Wo","Zs","km","km","Wert"]
[null,"nat",null,null,null,null,null,null,null,null,null,null,"min/","km/","las-","Ø","%von","Pkte","uh","weich","hart","km","Ein","Anz.","in kg","BMI",null,"fsg","sum","sum","nr","fsg","weich","hart","Mu"]
["Datum",null,"Tag",null,null,null,"h",":","mm",":","ss",null,"km","Std","tung",null,"max",null,null,"1-10",null,null,"gabe","lfd.J.",null,null,"Kommentar",null,null,null,null,null,null,null,"bu"]
["datum","mo","tag","m","so","km","h",null,"mm",null,"ss","min","min/km","km/std","bel","dhf","%HF","gpkt","Schuh","weich","hart","rad",6,null,null,null,"kommentar","Zus",null,"wosum","wonr","Zusfsg","kmw","kmh","WeMu"]
[{"$f":"DATE(Daten!D3,1,1)","v":"2021-01-01"},{"$f":"MONTH(A6)","v":1},{"$f":"WEEKDAY(A6)","v":"1900-01-06"},1,{"$f":"IF(D6=2,IF(C6=1,1,2),0)","v":0},null,null,":",null,":",null,{"$f":"IF((+G6*60+I6+K6/60)>0,G6*60+I6+K6/60,\" \")","v":" "},{"$f":"IF(+F6>0,+L6/F6/24/60,\" \")","v":" "},{"$f":"IF(F6>0,+F6/(L6/60),\"\")","v":""},null,null,{"$f":"IF(maxhf<100,0,IF(ISBLANK(P6)=\"WAHR\",P6,P6/maxhf)*100)","v":0},{"$f":"IF(F6>0,IF(P6>0,+F6*(F6*1000/(G6*60+I6+K6/60))/(maxhf-P6)*(maxhf/220),\"\"),\"\")","v":""},null,null,{"$f":"IF(COUNTBLANK(T6)=1,\"\",IF(T6=\"10\",\"0\",10-T6))","v":""},{"$f":"IF(+Radelkal!F5>0,+Radelkal!F5,\"\")","v":""},null,{"$f":"IF(W6<>\"\",SUM($AI$6:AI6)/10,\"\")","v":""},null,{"$f":"IF(Y6>0,+Y6/Daten!$I$18^2,\"\")","v":""},null,null,null,{"$f":"IF(WEEKDAY(A6)=1,IF(E6=1,VLOOKUP(AE6,Daten!$C$49:$D$102,2),\" \"),\"\")","v":""},{"$f":"erstewochennr","v":0},{"$f":"IF(F6>0,IF(D6=2,IF((AB5+AB6)>0,1,0),0),0)","v":0},{"$f":"+T6/10*F6","v":0},{"$f":"IF(COUNTBLANK(T6)=1,0,+U6/10*F6)","v":0},{"$f":"IF(W6<>\"\",10,\"\")","v":""}]
[{"$f":"+A6","v":"2021-01-01"},{"$f":"MONTH(A7)","v":1},{"$f":"WEEKDAY(A7)","v":"1900-01-06"},2,{"$f":"IF(D7=2,IF(C7=1,1,2),0)","v":2},null,null,":",null,":",null,{"$f":"IF((+G7*60+I7+K7/60)>0,G7*60+I7+K7/60,\" \")","v":" "},{"$f":"IF(+F7>0,+L7/F7/24/60,\" \")","v":" "},{"$f":"IF(F7>0,+F7/(L7/60),\"\")","v":""},null,null,0,"",null,null,"",{"$f":"IF(+Radelkal!F6>0,+Radelkal!F6,\"\")","v":20},null,{"$f":"IF(W7<>\"\",SUM($AI$6:AI7)/10,\"\")","v":""},null,{"$f":"IF(Y7>0,+Y7/Daten!$I$18^2,\"\")","v":""},null,null,{"$f":"IF(D7=2,+F7+F6,0)","v":0},{"$f":"IF(WEEKDAY(A7)=1,IF(E7=1,VLOOKUP(AE7,Daten!$C$49:$D$102,2),\" \"),\"\")","v":""},{"$f":"erstewochennr","v":0},{"$f":"IF(F7>0,IF(D7=2,IF((AB6+AB7)>0,1,0),0),0)","v":0},{"$f":"+T7/10*F7","v":0},{"$f":"IF(COUNTBLANK(T7)=1,0,+U7/10*F7)","v":0},{"$f":"IF(W7<>\"\",10,\"\")","v":""}]
[{"$f":"+A6+1","v":"2021-01-02"},1,"1900-01-07",1,0,10,null,":",56,":",35,56.583333333333336,"00:05:39.500",10.603829160530191,"L>65%",115,73.248407643312092,30.028881280722224,"s1",5,5,{"$f":"IF(+Radelkal!F7>0,+Radelkal!F7,\"\")","v":""},null,{"$f":"IF(W8<>\"\",SUM($AI$6:AI8)/10,\"\")","v":""},67,{"$f":"IF(Y8>0,+Y8/Daten!$I$18^2,\"\")","v":21.629648760330578},"Texteingabe möglich oder Strecke aus Liste wählen",null,{"$f":"IF(D8=2,+F8+F7,0)","v":0},{"$f":"IF(WEEKDAY(A8)=1,IF(E8=1,VLOOKUP(AE8,Daten!$C$49:$D$102,2),\" \"),\"\")","v":""},{"$f":"IF(WEEKDAY(A8)=2,IF(D8=1,AE7+1,AE7),AE7)","v":0},0,5,5,""]
[{"$f":"+A8","v":"2021-01-02"},1,"1900-01-07",2,2,null,null,":",null,":",null," "," ","",null,null,0,"",null,null,"",{"$f":"IF(+Radelkal!F8>0,+Radelkal!F8,\"\")","v":""},null,{"$f":"IF(W9<>\"\",SUM($AI$6:AI9)/10,\"\")","v":""},null,{"$f":"IF(Y9>0,+Y9/Daten!$I$18^2,\"\")","v":""},null,null,10,{"$f":"IF(WEEKDAY(A9)=1,IF(E9=1,VLOOKUP(AE9,Daten!$C$49:$D$102,2),\" \"),\"\")","v":""},0,0,0,0,""]
[{"$f":"+A8+1","v":"2021-01-03"},1,"1900-01-01",1,0,6.5,null,":",45,":",0,45,"00:06:55.385",8.6666666666666661,"R<65%",100,63.694267515923563,11.754828991671095,"s2",0,10,{"$f":"IF(+Radelkal!F9>0,+Radelkal!F9,\"\")","v":""},null,{"$f":"IF(W10<>\"\",SUM($AI$6:AI10)/10,\"\")","v":""},null,{"$f":"IF(Y10>0,+Y10/Daten!$I$18^2,\"\")","v":""},null,null,0,{"$f":"IF(WEEKDAY(A10)=1,IF(E10=1,VLOOKUP(AE10,Daten!$C$49:$D$102,2),\" \"),\"\")","v":" "},0,0,0,6.5,""]
[{"$f":"+A10","v":"2021-01-03"},1,"1900-01-01",2,1,null,null,":",null,":",null," "," ","",null,null,0,"",null,null,"",{"$f":"IF(+Radelkal!F10>0,+Radelkal!F10,\"\")","v":""},null,{"$f":"IF(W11<>\"\",SUM($AI$6:AI11)/10,\"\")","v":""},null,{"$f":"IF(Y11>0,+Y11/Daten!$I$18^2,\"\")","v":""},null,null,6.5,{"$f":"IF(WEEKDAY(A11)=1,IF(E11=1,VLOOKUP(AE11,Daten!$C$49:$D$102,2),\" \"),\"\")","v":16.5},0,0,0,0,""]
[{"$f":"+A10+1","v":"2021-01-04"},1,"1900-01-02",1,0,2,null,":",12,":",0,12,"00:06:00",10,"L>65%",110,70.063694267515913,5.0612508059316568,"s1",0,10,{"$f":"IF(+Radelkal!F11>0,+Radelkal!F11,\"\")","v":""},null,{"$f":"IF(W12<>\"\",SUM($AI$6:AI12)/10,\"\")","v":""},null,{"$f":"IF(Y12>0,+Y12/Daten!$I$18^2,\"\")","v":""},"Warmlaufen",1,0,{"$f":"IF(WEEKDAY(A12)=1,IF(E12=1,VLOOKUP(AE12,Daten!$C$49:$D$102,2),\" \"),\"\")","v":""},1,0,0,2,""]
[{"$f":"+A12","v":"2021-01-04"},1,"1900-01-02",2,2,10,null,":",42,":",30,42.5,"00:04:15",14.117647058823529,"w",145,92.356687898089177,139.92869875222817,"s1",0,10,{"$f":"IF(+Radelkal!F12>0,+Radelkal!F12,\"\")","v":""},null,{"$f":"IF(W13<>\"\",SUM($AI$6:AI13)/10,\"\")","v":""},null,{"$f":"IF(Y13>0,+Y13/Daten!$I$18^2,\"\")","v":""},"Wettkampf",1,12,{"$f":"IF(WEEKDAY(A13)=1,IF(E13=1,VLOOKUP(AE13,Daten!$C$49:$D$102,2),\" \"),\"\")","v":""},1,1,0,10,""]
[{"$f":"+A12+1","v":"2021-01-05"},1,"1900-01-03",1,0,null,null,":",null,":",null," "," ","",null,null,0,"",null,null,"",{"$f":"IF(+Radelkal!F13>0,+Radelkal!F13,\"\")","v":""},null,{"$f":"IF(W14<>\"\",SUM($AI$6:AI14)/10,\"\")","v":""},null,{"$f":"IF(Y14>0,+Y14/Daten!$I$18^2,\"\")","v":""},null,null,0,{"$f":"IF(WEEKDAY(A14)=1,IF(E14=1,VLOOKUP(AE14,Daten!$C$49:$D$102,2),\" \"),\"\")","v":""},1,0,0,0,""]
[{"$f":"+A14","v":"2021-01-05"},1,"1900-01-03",2,2,null,null,":",null,":",null," "," ","",null,null,0,"",null,null,"",{"$f":"IF(+Radelkal!F14>0,+Radelkal!F14,\"\")","v":""},null,{"$f":"IF(W15<>\"\",SUM($AI$6:AI15)/10,\"\")","v":""},null,{"$f":"IF(Y15>0,+Y15/Daten!$I$18^2,\"\")","v":""},null,null,0,{"$f":"IF(WEEKDAY(A15)=1,IF(E15=1,VLOOKUP(AE15,Daten!$C$49:$D$102,2),\" \"),\"\")","v":""},1,0,0,0,""]
[{"$f":"+A14+1","v":"2021-01-06"},1,"1900-01-04",1,0,null,null,":",null,":",null," "," ","",null,null,0,"",null,null,"",{"$f":"IF(+Radelkal!F15>0,+Radelkal!F15,\"\")","v":""},null,{"$f":"IF(W16<>\"\",SUM($AI$6:AI16)/10,\"\")","v":""},null,{"$f":"IF(Y16>0,+Y16/Daten!$I$18^2,\"\")","v":""},null,null,0,{"$f":"IF(WEEKDAY(A16)=1,IF(E16=1,VLOOKUP(AE16,Daten!$C$49:$D$102,2),\" \"),\"\")","v":""},1,0,0,0,""]
[{"$f":"+A16","v":"2021-01-06"},1,"1900-01-04",2,2,null,null,":",null,":",null," "," ","",null,null,0,"",null,null,"",{"$f":"IF(+Radelkal!F16>0,+Radelkal!F16,\"\")","v":""},null,{"$f":"IF(W17<>\"\",SUM($AI$6:AI17)/10,\"\")","v":""},null,{"$f":"IF(Y17>0,+Y17/Daten!$I$18^2,\"\")","v":""},null,null,0,{"$f":"IF(WEEKDAY(A17)=1,IF(E17=1,VLOOKUP(AE17,Daten!$C$49:$D$102,2),\" \"),\"\")","v":""},1,0,0,0,""]
[{"$f":"+A16+1","v":"2021-01-07"},1,"1900-01-05",1,0,null,null,":",null,":",null," "," ","",null,null,0,"",null,null,"",{"$f":"IF(+Radelkal!F17>0,+Radelkal!F17,\"\")","v":""},null,{"$f":"IF(W18<>\"\",SUM($AI$6:AI18)/10,\"\")","v":""},null,{"$f":"IF(Y18>0,+Y18/Daten!$I$18^2,\"\")","v":""},null,null,0,{"$f":"IF(WEEKDAY(A18)=1,IF(E18=1,VLOOKUP(AE18,Daten!$C$49:$D$102,2),\" \"),\"\")","v":""},1,0,0,0,""]
[{"$f":"+A18","v":"2021-01-07"},1,"1900-01-05",2,2,null,null,":",null,":",null," "," ","",null,null,0,"",null,null,"",{"$f":"IF(+Radelkal!F18>0,+Radelkal!F18,\"\")","v":""},null,{"$f":"IF(W19<>\"\",SUM($AI$6:AI19)/10,\"\")","v":""},null,{"$f":"IF(Y19>0,+Y19/Daten!$I$18^2,\"\")","v":""},null,null,0,{"$f":"IF(WEEKDAY(A19)=1,IF(E19=1,VLOOKUP(AE19,Daten!$C$49:$D$102,2),\" \"),\"\")","v":""},1,0,0,0,""]
[{"$f":"+A18+1","v":"2021-01-08"},1,"1900-01-06",1,0,null,null,":",null,":",null," "," ","",null,null,0,"",null,null,"",{"$f":"IF(+Radelkal!F19>0,+Radelkal!F19,\"\")","v":""},null,{"$f":"IF(W20<>\"\",SUM($AI$6:AI20)/10,\"\")","v":""},null,{"$f":"IF(Y20>0,+Y20/Daten!$I$18^2,\"\")","v":""},null,null,0,{"$f":"IF(WEEKDAY(A20)=1,IF(E20=1,VLOOKUP(AE20,Daten!$C$49:$D$102,2),\" \"),\"\")","v":""},1,0,0,0,""]
[{"$f":"+A20","v":"2021-01-08"},1,"1900-01-06",2,2,null,null,":",null,":",null," "," ","",null,null,0,"",null,null,"",{"$f":"IF(+Radelkal!F20>0,+Radelkal!F20,\"\")","v":""},null,{"$f":"IF(W21<>\"\",SUM($AI$6:AI21)/10,\"\")","v":""},null,{"$f":"IF(Y21>0,+Y21/Daten!$I$18^2,\"\")","v":""},null,null,0,{"$f":"IF(WEEKDAY(A21)=1,IF(E21=1,VLOOKUP(AE21,Daten!$C$49:$D$102,2),\" \"),\"\")","v":""},1,0,0,0,""]
[{"$f":"+A20+1","v":"2021-01-09"},1,"1900-01-07",1,0,null,null,":",null,":",null," "," ","",null,null,0,"",null,null,"",{"$f":"IF(+Radelkal!F21>0,+Radelkal!F21,\"\")","v":""},null,{"$f":"IF(W22<>\"\",SUM($AI$6:AI22)/10,\"\")","v":""},null,{"$f":"IF(Y22>0,+Y22/Daten!$I$18^2,\"\")","v":""},null,null,0,{"$f":"IF(WEEKDAY(A22)=1,IF(E22=1,VLOOKUP(AE22,Daten!$C$49:$D$102,2),\" \"),\"\")","v":""},1,0,0,0,""]
[{"$f":"+A22","v":"2021-01-09"},1,"1900-01-07",2,2,null,null,":",null,":",null," "," ","",null,null,0,"",null,null,"",{"$f":"IF(+Radelkal!F22>0,+Radelkal!F22,\"\")","v":""},null,{"$f":"IF(W23<>\"\",SUM($AI$6:AI23)/10,\"\")","v":""},null,{"$f":"IF(Y23>0,+Y23/Daten!$I$18^2,\"\")","v":""},null,null,0,{"$f":"IF(WEEKDAY(A23)=1,IF(E23=1,VLOOKUP(AE23,Daten!$C$49:$D$102,2),\" \"),\"\")","v":""},1,0,0,0,""]
[{"$f":"+A22+1","v":"2021-01-10"},1,"1900-01-01",1,0,null,null,":",null,":",null," "," ","",null,null,0,"",null,null,"",{"$f":"IF(+Radelkal!F23>0,+Radelkal!F23,\"\")","v":""},null,{"$f":"IF(W24<>\"\",SUM($AI$6:AI24)/10,\"\")","v":""},null,{"$f":"IF(Y24>0,+Y24/Daten!$I$18^2,\"\")","v":""},null,null,0,{"$f":"IF(WEEKDAY(A24)=1,IF(E24=1,VLOOKUP(AE24,Daten!$C$49:$D$102,2),\" \"),\"\")","v":" "},1,0,0,0,""]
[{"$f":"+A24","v":"2021-01-10"},1,"1900-01-01",2,1,null,null,":",null,":",null," "," ","",null,null,0,"",null,null,"",{"$f":"IF(+Radelkal!F24>0,+Radelkal!F24,\"\")","v":""},null,{"$f":"IF(W25<>\"\",SUM($AI$6:AI25)/10,\"\")","v":""},null,{"$f":"IF(Y25>0,+Y25/Daten!$I$18^2,\"\")","v":""},null,null,0,{"$f":"IF(WEEKDAY(A25)=1,IF(E25=1,VLOOKUP(AE25,Daten!$C$49:$D$102,2),\" \"),\"\")","v":12},1,0,0,0,""]
[{"$f":"+A24+1","v":"2021-01-11"},1,"1900-01-02",1,0,null,null,":",null,":",null," "," ","",null,null,0,"",null,null,"",{"$f":"IF(+Radelkal!F25>0,+Radelkal!F25,\"\")","v":""},null,{"$f":"IF(W26<>\"\",SUM($AI$6:AI26)/10,\"\")","v":""},null,{"$f":"IF(Y26>0,+Y26/Daten!$I$18^2,\"\")","v":""},null,null,0,{"$f":"IF(WEEKDAY(A26)=1,IF(E26=1,VLOOKUP(AE26,Daten!$C$49:$D$102,2),\" \"),\"\")","v":""},2,0,0,0,""]
[{"$f":"+A26","v":"2021-01-11"},1,"1900-01-02",2,2,null,null,":",null,":",null," "," ","",null,null,0,"",null,null,"",{"$f":"IF(+Radelkal!F26>0,+Radelkal!F26,\"\")","v":""},null,{"$f":"IF(W27<>\"\",SUM($AI$6:AI27)/10,\"\")","v":""},null,{"$f":"IF(Y27>0,+Y27/Daten!$I$18^2,\"\")","v":""},null,null,0,{"$f":"IF(WEEKDAY(A27)=1,IF(E27=1,VLOOKUP(AE27,Daten!$C$49:$D$102,2),\" \"),\"\")","v":""},2,0,0,0,""]
[{"$f":"+A26+1","v":"2021-01-12"},1,"1900-01-03",1,0,null,null,":",null,":",null," "," ","",null,null,0,"",null,null,"",{"$f":"IF(+Radelkal!F27>0,+Radelkal!F27,\"\")","v":""},null,{"$f":"IF(W28<>\"\",SUM($AI$6:AI28)/10,\"\")","v":""},null,{"$f":"IF(Y28>0,+Y28/Daten!$I$18^2,\"\")","v":""},null,null,0,{"$f":"IF(WEEKDAY(A28)=1,IF(E28=1,VLOOKUP(AE28,Daten!$C$49:$D$102,2),\" \"),\"\")","v":""},2,0,0,0,""]
[{"$f":"+A28","v":"2021-01-12"},1,"1900-01-03",2,2,null,null,":",null,":",null," "," ","",null,null,0,"",null,null,"",{"$f":"IF(+Radelkal!F28>0,+Radelkal!F28,\"\")","v":""},null,{"$f":"IF(W29<>\"\",SUM($AI$6:AI29)/10,\"\")","v":""},null,{"$f":"IF(Y29>0,+Y29/Daten!$I$18^2,\"\")","v":""},null,null,0,{"$f":"IF(WEEKDAY(A29)=1,IF(E29=1,VLOOKUP(AE29,Daten!$C$49:$D$102,2),\" \"),\"\")","v":""},2,0,0,0,""]
[{"$f":"+A28+1","v":"2021-01-13"},1,"1900-01-04",1,0,null,null,":",null,":",null," "," ","",null,null,0,"",null,null,"",{"$f":"IF(+Radelkal!F29>0,+Radelkal!F29,\"\")","v":""},null,{"$f":"IF(W30<>\"\",SUM($AI$6:AI30)/10,\"\")","v":""},null,{"$f":"IF(Y30>0,+Y30/Daten!$I$18^2,\"\")","v":""},null,null,0,{"$f":"IF(WEEKDAY(A30)=1,IF(E30=1,VLOOKUP(AE30,Daten!$C$49:$D$102,2),\" \"),\"\")","v":""},2,0,0,0,""]
[{"$f":"+A30","v":"2021-01-13"},1,"1900-01-04",2,2,null,null,":",null,":",null," "," ","",null,null,0,"",null,null,"",{"$f":"IF(+Radelkal!F30>0,+Radelkal!F30,\"\")","v":""},null,{"$f":"IF(W31<>\"\",SUM($AI$6:AI31)/10,\"\")","v":""},null,{"$f":"IF(Y31>0,+Y31/Daten!$I$18^2,\"\")","v":""},null,null,0,{"$f":"IF(WEEKDAY(A31)=1,IF(E31=1,VLOOKUP(AE31,Daten!$C$49:$D$102,2),\" \"),\"\")","v":""},2,0,0,0,""]
[{"$f":"+A30+1","v":"2021-01-14"},1,"1900-01-05",1,0,null,null,":",null,":",null," "," ","",null,null,0,"",null,null,"",{"$f":"IF(+Radelkal!F31>0,+Radelkal!F31,\"\")","v":""},null,{"$f":"IF(W32<>\"\",SUM($AI$6:AI32)/10,\"\")","v":""},null,{"$f":"IF(Y32>0,+Y32/Daten!$I$18^2,\"\")","v":""},null,null,0,{"$f":"IF(WEEKDAY(A32)=1,IF(E32=1,VLOOKUP(AE32,Daten!$C$49:$D$102,2),\" \"),\"\")","v":""},2,0,0,0,""]
[{"$f":"+A32","v":"2021-01-14"},1,"1900-01-05",2,2,null,null,":",null,":",null," "," ","",null,null,0,"",null,null,"",{"$f":"IF(+Radelkal!F32>0,+Radelkal!F32,\"\")","v":""},null,{"$f":"IF(W33<>\"\",SUM($AI$6:AI33)/10,\"\")","v":""},null,{"$f":"IF(Y33>0,+Y33/Daten!$I$18^2,\"\")","v":""},null,null,0,{"$f":"IF(WEEKDAY(A33)=1,IF(E33=1,VLOOKUP(AE33,Daten!$C$49:$D$102,2),\" \"),\"\")","v":""},2,0,0,0,""]
[{"$f":"+A32+1","v":"2021-01-15"},1,"1900-01-06",1,0,null,null,":",null,":",null," "," ","",null,null,0,"",null,null,"",{"$f":"IF(+Radelkal!F33>0,+Radelkal!F33,\"\")","v":""},null,{"$f":"IF(W34<>\"\",SUM($AI$6:AI34)/10,\"\")","v":""},null,{"$f":"IF(Y34>0,+Y34/Daten!$I$18^2,\"\")","v":""},null,null,0,{"$f":"IF(WEEKDAY(A34)=1,IF(E34=1,VLOOKUP(AE34,Daten!$C$49:$D$102,2),\" \"),\"\")","v":""},2,0,0,0,""]
[{"$f":"+A34","v":"2021-01-15"},1,"1900-01-06",2,2,null,null,":",null,":",null," "," ","",null,null,0,"",null,null,"",{"$f":"IF(+Radelkal!F34>0,+Radelkal!F34,\"\")","v":""},null,{"$f":"IF(W35<>\"\",SUM($AI$6:AI35)/10,\"\")","v":""},null,{"$f":"IF(Y35>0,+Y35/Daten!$I$18^2,\"\")","v":""},null,null,0,{"$f":"IF(WEEKDAY(A35)=1,IF(E35=1,VLOOKUP(AE35,Daten!$C$49:$D$102,2),\" \"),\"\")","v":""},2,0,0,0,""]
[{"$f":"+A34+1","v":"2021-01-16"},1,"1900-01-07",1,0,null,null,":",null,":",null," "," ","",null,null,0,"",null,null,"",{"$f":"IF(+Radelkal!F35>0,+Radelkal!F35,\"\")","v":""},null,{"$f":"IF(W36<>\"\",SUM($AI$6:AI36)/10,\"\")","v":""},null,{"$f":"IF(Y36>0,+Y36/Daten!$I$18^2,\"\")","v":""},null,null,0,{"$f":"IF(WEEKDAY(A36)=1,IF(E36=1,VLOOKUP(AE36,Daten!$C$49:$D$102,2),\" \"),\"\")","v":""},2,0,0,0,""]
[{"$f":"+A36","v":"2021-01-16"},1,"1900-01-07",2,2,null,null,":",null,":",null," "," ","",null,null,0,"",null,null,"",{"$f":"IF(+Radelkal!F36>0,+Radelkal!F36,\"\")","v":""},null,{"$f":"IF(W37<>\"\",SUM($AI$6:AI37)/10,\"\")","v":""},null,{"$f":"IF(Y37>0,+Y37/Daten!$I$18^2,\"\")","v":""},null,null,0,{"$f":"IF(WEEKDAY(A37)=1,IF(E37=1,VLOOKUP(AE37,Daten!$C$49:$D$102,2),\" \"),\"\")","v":""},2,0,0,0,""]
[{"$f":"+A36+1","v":"2021-01-17"},1,"1900-01-01",1,0,null,null,":",null,":",null," "," ","",null,null,0,"",null,null,"",{"$f":"IF(+Radelkal!F37>0,+Radelkal!F37,\"\")","v":""},null,{"$f":"IF(W38<>\"\",SUM($AI$6:AI38)/10,\"\")","v":""},null,{"$f":"IF(Y38>0,+Y38/Daten!$I$18^2,\"\")","v":""},null,null,0,{"$f":"IF(WEEKDAY(A38)=1,IF(E38=1,VLOOKUP(AE38,Daten!$C$49:$D$102,2),\" \"),\"\")","v":" "},2,0,0,0,""]
[{"$f":"+A38","v":"2021-01-17"},1,"1900-01-01",2,1,null,null,":",null,":",null," "," ","",null,null,0,"",null,null,"",{"$f":"IF(+Radelkal!F38>0,+Radelkal!F38,\"\")","v":""},null,{"$f":"IF(W39<>\"\",SUM($AI$6:AI39)/10,\"\")","v":""},null,{"$f":"IF(Y39>0,+Y39/Daten!$I$18^2,\"\")","v":""},null,null,0,{"$f":"IF(WEEKDAY(A39)=1,IF(E39=1,VLOOKUP(AE39,Daten!$C$49:$D$102,2),\" \"),\"\")","v":0},2,0,0,0,""]
[{"$f":"+A38+1","v":"2021-01-18"},1,"1900-01-02",1,0,null,null,":",null,":",null," "," ","",null,null,0,"",null,null,"",{"$f":"IF(+Radelkal!F39>0,+Radelkal!F39,\"\")","v":""},null,{"$f":"IF(W40<>\"\",SUM($AI$6:AI40)/10,\"\")","v":""},null,{"$f":"IF(Y40>0,+Y40/Daten!$I$18^2,\"\")","v":""},null,null,0,{"$f":"IF(WEEKDAY(A40)=1,IF(E40=1,VLOOKUP(AE40,Daten!$C$49:$D$102,2),\" \"),\"\")","v":""},3,0,0,0,""]
[{"$f":"+A40","v":"2021-01-18"},1,"1900-01-02",2,2,null,null,":",null,":",null," "," ","",null,null,0,"",null,null,"",{"$f":"IF(+Radelkal!F40>0,+Radelkal!F40,\"\")","v":""},null,{"$f":"IF(W41<>\"\",SUM($AI$6:AI41)/10,\"\")","v":""},null,{"$f":"IF(Y41>0,+Y41/Daten!$I$18^2,\"\")","v":""},null,null,0,{"$f":"IF(WEEKDAY(A41)=1,IF(E41=1,VLOOKUP(AE41,Daten!$C$49:$D$102,2),\" \"),\"\")","v":""},3,0,0,0,""]
[{"$f":"+A40+1","v":"2021-01-19"},1,"1900-01-03",1,0,null,null,":",null,":",null," "," ","",null,null,0,"",null,null,"",{"$f":"IF(+Radelkal!F41>0,+Radelkal!F41,\"\")","v":""},null,{"$f":"IF(W42<>\"\",SUM($AI$6:AI42)/10,\"\")","v":""},null,{"$f":"IF(Y42>0,+Y42/Daten!$I$18^2,\"\")","v":""},null,null,0,{"$f":"IF(WEEKDAY(A42)=1,IF(E42=1,VLOOKUP(AE42,Daten!$C$49:$D$102,2),\" \"),\"\")","v":""},3,0,0,0,""]
[{"$f":"+A42","v":"2021-01-19"},1,"1900-01-03",2,2,null,null,":",null,":",null," "," ","",null,null,0,"",null,null,"",{"$f":"IF(+Radelkal!F42>0,+Radelkal!F42,\"\")","v":""},null,{"$f":"IF(W43<>\"\",SUM($AI$6:AI43)/10,\"\")","v":""},null,{"$f":"IF(Y43>0,+Y43/Daten!$I$18^2,\"\")","v":""},null,null,0,{"$f":"IF(WEEKDAY(A43)=1,IF(E43=1,VLOOKUP(AE43,Daten!$C$49:$D$102,2),\" \"),\"\")","v":""},3,0,0,0,""]
[{"$f":"+A42+1","v":"2021-01-20"},1,"1900-01-04",1,0,null,null,":",null,":",null," "," ","",null,null,0,"",null,null,"",{"$f":"IF(+Radelkal!F43>0,+Radelkal!F43,\"\")","v":""},null,{"$f":"IF(W44<>\"\",SUM($AI$6:AI44)/10,\"\")","v":""},null,{"$f":"IF(Y44>0,+Y44/Daten!$I$18^2,\"\")","v":""},null,null,0,{"$f":"IF(WEEKDAY(A44)=1,IF(E44=1,VLOOKUP(AE44,Daten!$C$49:$D$102,2),\" \"),\"\")","v":""},3,0,0,0,""]
[{"$f":"+A44","v":"2021-01-20"},1,"1900-01-04",2,2,null,null,":",null,":",null," "," ","",null,null,0,"",null,null,"",{"$f":"IF(+Radelkal!F44>0,+Radelkal!F44,\"\")","v":""},null,{"$f":"IF(W45<>\"\",SUM($AI$6:AI45)/10,\"\")","v":""},null,{"$f":"IF(Y45>0,+Y45/Daten!$I$18^2,\"\")","v":""},null,null,0,{"$f":"IF(WEEKDAY(A45)=1,IF(E45=1,VLOOKUP(AE45,Daten!$C$49:$D$102,2),\" \"),\"\")","v":""},3,0,0,0,""]
[{"$f":"+A44+1","v":"2021-01-21"},1,"1900-01-05",1,0,null,null,":",null,":",null," "," ","",null,null,0,"",null,null,"",{"$f":"IF(+Radelkal!F45>0,+Radelkal!F45,\"\")","v":""},null,{"$f":"IF(W46<>\"\",SUM($AI$6:AI46)/10,\"\")","v":""},null,{"$f":"IF(Y46>0,+Y46/Daten!$I$18^2,\"\")","v":""},null,null,0,{"$f":"IF(WEEKDAY(A46)=1,IF(E46=1,VLOOKUP(AE46,Daten!$C$49:$D$102,2),\" \"),\"\")","v":""},3,0,0,0,""]
[{"$f":"+A46","v":"2021-01-21"},1,"1900-01-05",2,2,null,null,":",null,":",null," "," ","",null,null,0,"",null,null,"",{"$f":"IF(+Radelkal!F46>0,+Radelkal!F46,\"\")","v":""},null,{"$f":"IF(W47<>\"\",SUM($AI$6:AI47)/10,\"\")","v":""},null,{"$f":"IF(Y47>0,+Y47/Daten!$I$18^2,\"\")","v":""},null,null,0,{"$f":"IF(WEEKDAY(A47)=1,IF(E47=1,VLOOKUP(AE47,Daten!$C$49:$D$102,2),\" \"),\"\")","v":""},3,0,0,0,""]
[{"$f":"+A46+1","v":"2021-01-22"},1,"1900-01-06",1,0,null,null,":",null,":",null," "," ","",null,null,0,"",null,null,"",{"$f":"IF(+Radelkal!F47>0,+Radelkal!F47,\"\")","v":""},null,{"$f":"IF(W48<>\"\",SUM($AI$6:AI48)/10,\"\")","v":""},null,{"$f":"IF(Y48>0,+Y48/Daten!$I$18^2,\"\")","v":""},null,null,0,{"$f":"IF(WEEKDAY(A48)=1,IF(E48=1,VLOOKUP(AE48,Daten!$C$49:$D$102,2),\" \"),\"\")","v":""},3,0,0,0,""]
[{"$f":"+A48","v":"2021-01-22"},1,"1900-01-06",2,2,null,null,":",null,":",null," "," ","",null,null,0,"",null,null,"",{"$f":"IF(+Radelkal!F48>0,+Radelkal!F48,\"\")","v":""},null,{"$f":"IF(W49<>\"\",SUM($AI$6:AI49)/10,\"\")","v":""},null,{"$f":"IF(Y49>0,+Y49/Daten!$I$18^2,\"\")","v":""},null,null,0,{"$f":"IF(WEEKDAY(A49)=1,IF(E49=1,VLOOKUP(AE49,Daten!$C$49:$D$102,2),\" \"),\"\")","v":""},3,0,0,0,""]
[{"$f":"+A48+1","v":"2021-01-23"},1,"1900-01-07",1,0,null,null,":",null,":",null," "," ","",null,null,0,"",null,null,"",{"$f":"IF(+Radelkal!F49>0,+Radelkal!F49,\"\")","v":""},null,{"$f":"IF(W50<>\"\",SUM($AI$6:AI50)/10,\"\")","v":""},null,{"$f":"IF(Y50>0,+Y50/Daten!$I$18^2,\"\")","v":""},null,null,0,{"$f":"IF(WEEKDAY(A50)=1,IF(E50=1,VLOOKUP(AE50,Daten!$C$49:$D$102,2),\" \"),\"\")","v":""},3,0,0,0,""]
[{"$f":"+A50","v":"2021-01-23"},1,"1900-01-07",2,2,null,null,":",null,":",null," "," ","",null,null,0,"",null,null,"",{"$f":"IF(+Radelkal!F50>0,+Radelkal!F50,\"\")","v":""},null,{"$f":"IF(W51<>\"\",SUM($AI$6:AI51)/10,\"\")","v":""},null,{"$f":"IF(Y51>0,+Y51/Daten!$I$18^2,\"\")","v":""},null,null,0,{"$f":"IF(WEEKDAY(A51)=1,IF(E51=1,VLOOKUP(AE51,Daten!$C$49:$D$102,2),\" \"),\"\")","v":""},3,0,0,0,""]
[{"$f":"+A50+1","v":"2021-01-24"},1,"1900-01-01",1,0,null,null,":",null,":",null," "," ","",null,null,0,"",null,null,"",{"$f":"IF(+Radelkal!F51>0,+Radelkal!F51,\"\")","v":""},null,{"$f":"IF(W52<>\"\",SUM($AI$6:AI52)/10,\"\")","v":""},null,{"$f":"IF(Y52>0,+Y52/Daten!$I$18^2,\"\")","v":""},null,null,0,{"$f":"IF(WEEKDAY(A52)=1,IF(E52=1,VLOOKUP(AE52,Daten!$C$49:$D$102,2),\" \"),\"\")","v":" "},3,0,0,0,""]
[{"$f":"+A52","v":"2021-01-24"},1,"1900-01-01",2,1,null,null,":",null,":",null," "," ","",null,null,0,"",null,null,"",{"$f":"IF(+Radelkal!F52>0,+Radelkal!F52,\"\")","v":""},null,{"$f":"IF(W53<>\"\",SUM($AI$6:AI53)/10,\"\")","v":""},null,{"$f":"IF(Y53>0,+Y53/Daten!$I$18^2,\"\")","v":""},null,null,0,{"$f":"IF(WEEKDAY(A53)=1,IF(E53=1,VLOOKUP(AE53,Daten!$C$49:$D$102,2),\" \"),\"\")","v":0},3,0,0,0,""]
[{"$f":"+A52+1","v":"2021-01-25"},1,"1900-01-02",1,0,null,null,":",null,":",null," "," ","",null,null,0,"",null,null,"",{"$f":"IF(+Radelkal!F53>0,+Radelkal!F53,\"\")","v":""},null,{"$f":"IF(W54<>\"\",SUM($AI$6:AI54)/10,\"\")","v":""},null,{"$f":"IF(Y54>0,+Y54/Daten!$I$18^2,\"\")","v":""},null,null,0,{"$f":"IF(WEEKDAY(A54)=1,IF(E54=1,VLOOKUP(AE54,Daten!$C$49:$D$102,2),\" \"),\"\")","v":""},4,0,0,0,""]
[{"$f":"+A54","v":"2021-01-25"},1,"1900-01-02",2,2,null,null,":",null,":",null," "," ","",null,null,0,"",null,null,"",{"$f":"IF(+Radelkal!F54>0,+Radelkal!F54,\"\")","v":""},null,{"$f":"IF(W55<>\"\",SUM($AI$6:AI55)/10,\"\")","v":""},null,{"$f":"IF(Y55>0,+Y55/Daten!$I$18^2,\"\")","v":""},null,null,0,{"$f":"IF(WEEKDAY(A55)=1,IF(E55=1,VLOOKUP(AE55,Daten!$C$49:$D$102,2),\" \"),\"\")","v":""},4,0,0,0,""]
[{"$f":"+A54+1","v":"2021-01-26"},1,"1900-01-03",1,0,null,null,":",null,":",null," "," ","",null,null,0,"",null,null,"",{"$f":"IF(+Radelkal!F55>0,+Radelkal!F55,\"\")","v":""},null,{"$f":"IF(W56<>\"\",SUM($AI$6:AI56)/10,\"\")","v":""},null,{"$f":"IF(Y56>0,+Y56/Daten!$I$18^2,\"\")","v":""},null,null,0,{"$f":"IF(WEEKDAY(A56)=1,IF(E56=1,VLOOKUP(AE56,Daten!$C$49:$D$102,2),\" \"),\"\")","v":""},4,0,0,0,""]
[{"$f":"+A56","v":"2021-01-26"},1,"1900-01-03",2,2,null,null,":",null,":",null," "," ","",null,null,0,"",null,null,"",{"$f":"IF(+Radelkal!F56>0,+Radelkal!F56,\"\")","v":""},null,{"$f":"IF(W57<>\"\",SUM($AI$6:AI57)/10,\"\")","v":""},null,{"$f":"IF(Y57>0,+Y57/Daten!$I$18^2,\"\")","v":""},null,null,0,{"$f":"IF(WEEKDAY(A57)=1,IF(E57=1,VLOOKUP(AE57,Daten!$C$49:$D$102,2),\" \"),\"\")","v":""},4,0,0,0,""]
[{"$f":"+A56+1","v":"2021-01-27"},1,"1900-01-04",1,0,null,null,":",null,":",null," "," ","",null,null,0,"",null,null,"",{"$f":"IF(+Radelkal!F57>0,+Radelkal!F57,\"\")","v":""},null,{"$f":"IF(W58<>\"\",SUM($AI$6:AI58)/10,\"\")","v":""},null,{"$f":"IF(Y58>0,+Y58/Daten!$I$18^2,\"\")","v":""},null,null,0,{"$f":"IF(WEEKDAY(A58)=1,IF(E58=1,VLOOKUP(AE58,Daten!$C$49:$D$102,2),\" \"),\"\")","v":""},4,0,0,0,""]
[{"$f":"+A58","v":"2021-01-27"},1,"1900-01-04",2,2,null,null,":",null,":",null," "," ","",null,null,0,"",null,null,"",{"$f":"IF(+Radelkal!F58>0,+Radelkal!F58,\"\")","v":""},null,{"$f":"IF(W59<>\"\",SUM($AI$6:AI59)/10,\"\")","v":""},null,{"$f":"IF(Y59>0,+Y59/Daten!$I$18^2,\"\")","v":""},null,null,0,{"$f":"IF(WEEKDAY(A59)=1,IF(E59=1,VLOOKUP(AE59,Daten!$C$49:$D$102,2),\" \"),\"\")","v":""},4,0,0,0,""]
[{"$f":"+A58+1","v":"2021-01-28"},1,"1900-01-05",1,0,null,null,":",null,":",null," "," ","",null,null,0,"",null,null,"",{"$f":"IF(+Radelkal!F59>0,+Radelkal!F59,\"\")","v":""},null,{"$f":"IF(W60<>\"\",SUM($AI$6:AI60)/10,\"\")","v":""},null,{"$f":"IF(Y60>0,+Y60/Daten!$I$18^2,\"\")","v":""},null,null,0,{"$f":"IF(WEEKDAY(A60)=1,IF(E60=1,VLOOKUP(AE60,Daten!$C$49:$D$102,2),\" \"),\"\")","v":""},4,0,0,0,""]
[{"$f":"+A60","v":"2021-01-28"},1,"1900-01-05",2,2,null,null,":",null,":",null," "," ","",null,null,0,"",null,null,"",{"$f":"IF(+Radelkal!F60>0,+Radelkal!F60,\"\")","v":""},null,{"$f":"IF(W61<>\"\",SUM($AI$6:AI61)/10,\"\")","v":""},null,{"$f":"IF(Y61>0,+Y61/Daten!$I$18^2,\"\")","v":""},null,null,0,{"$f":"IF(WEEKDAY(A61)=1,IF(E61=1,VLOOKUP(AE61,Daten!$C$49:$D$102,2),\" \"),\"\")","v":""},4,0,0,0,""]
[{"$f":"+A60+1","v":"2021-01-29"},1,"1900-01-06",1,0,null,null,":",null,":",null," "," ","",null,null,0,"",null,null,"",{"$f":"IF(+Radelkal!F61>0,+Radelkal!F61,\"\")","v":""},null,{"$f":"IF(W62<>\"\",SUM($AI$6:AI62)/10,\"\")","v":""},null,{"$f":"IF(Y62>0,+Y62/Daten!$I$18^2,\"\")","v":""},null,null,0,{"$f":"IF(WEEKDAY(A62)=1,IF(E62=1,VLOOKUP(AE62,Daten!$C$49:$D$102,2),\" \"),\"\")","v":""},4,0,0,0,""]
[{"$f":"+A62","v":"2021-01-29"},1,"1900-01-06",2,2,null,null,":",null,":",null," "," ","",null,null,0,"",null,null,"",{"$f":"IF(+Radelkal!F62>0,+Radelkal!F62,\"\")","v":""},null,{"$f":"IF(W63<>\"\",SUM($AI$6:AI63)/10,\"\")","v":""},null,{"$f":"IF(Y63>0,+Y63/Daten!$I$18^2,\"\")","v":""},null,null,0,{"$f":"IF(WEEKDAY(A63)=1,IF(E63=1,VLOOKUP(AE63,Daten!$C$49:$D$102,2),\" \"),\"\")","v":""},4,0,0,0,""]
[{"$f":"+A62+1","v":"2021-01-30"},1,"1900-01-07",1,0,null,null,":",null,":",null," "," ","",null,null,0,"",null,null,"",{"$f":"IF(+Radelkal!F63>0,+Radelkal!F63,\"\")","v":""},null,{"$f":"IF(W64<>\"\",SUM($AI$6:AI64)/10,\"\")","v":""},null,{"$f":"IF(Y64>0,+Y64/Daten!$I$18^2,\"\")","v":""},null,null,0,{"$f":"IF(WEEKDAY(A64)=1,IF(E64=1,VLOOKUP(AE64,Daten!$C$49:$D$102,2),\" \"),\"\")","v":""},4,0,0,0,""]
[{"$f":"+A64","v":"2021-01-30"},1,"1900-01-07",2,2,null,null,":",null,":",null," "," ","",null,null,0,"",null,null,"",{"$f":"IF(+Radelkal!F64>0,+Radelkal!F64,\"\")","v":""},null,{"$f":"IF(W65<>\"\",SUM($AI$6:AI65)/10,\"\")","v":""},null,{"$f":"IF(Y65>0,+Y65/Daten!$I$18^2,\"\")","v":""},null,null,0,{"$f":"IF(WEEKDAY(A65)=1,IF(E65=1,VLOOKUP(AE65,Daten!$C$49:$D$102,2),\" \"),\"\")","v":""},4,0,0,0,""]
[{"$f":"+A64+1","v":"2021-01-31"},1,"1900-01-01",1,0,null,null,":",null,":",null," "," ","",null,null,0,"",null,null,"",{"$f":"IF(+Radelkal!F65>0,+Radelkal!F65,\"\")","v":""},null,{"$f":"IF(W66<>\"\",SUM($AI$6:AI66)/10,\"\")","v":""},null,{"$f":"IF(Y66>0,+Y66/Daten!$I$18^2,\"\")","v":""},null,null,0,{"$f":"IF(WEEKDAY(A66)=1,IF(E66=1,VLOOKUP(AE66,Daten!$C$49:$D$102,2),\" \"),\"\")","v":" "},4,0,0,0,""]
[{"$f":"+A66","v":"2021-01-31"},1,"1900-01-01",2,1,null,null,":",null,":",null," "," ","",null,null,0,"",null,null,"",{"$f":"IF(+Radelkal!F66>0,+Radelkal!F66,\"\")","v":""},null,{"$f":"IF(W67<>\"\",SUM($AI$6:AI67)/10,\"\")","v":""},null,{"$f":"IF(Y67>0,+Y67/Daten!$I$18^2,\"\")","v":""},null,null,0,{"$f":"IF(WEEKDAY(A67)=1,IF(E67=1,VLOOKUP(AE67,Daten!$C$49:$D$102,2),\" \"),\"\")","v":0},4,0,0,0,""]
[{"$f":"+A66+1","v":"2021-02-01"},2,"1900-01-02",1,0,null,null,":",null,":",null," "," ","",null,null,0,"",null,null,"",{"$f":"IF(+Radelkal!F67>0,+Radelkal!F67,\"\")","v":""},null,{"$f":"IF(W68<>\"\",SUM($AI$6:AI68)/10,\"\")","v":""},null,{"$f":"IF(Y68>0,+Y68/Daten!$I$18^2,\"\")","v":""},null,null,0,{"$f":"IF(WEEKDAY(A68)=1,IF(E68=1,VLOOKUP(AE68,Daten!$C$49:$D$102,2),\" \"),\"\")","v":""},5,0,0,0,""]
[{"$f":"+A68","v":"2021-02-01"},2,"1900-01-02",2,2,null,null,":",null,":",null," "," ","",null,null,0,"",null,null,"",{"$f":"IF(+Radelkal!F68>0,+Radelkal!F68,\"\")","v":""},null,{"$f":"IF(W69<>\"\",SUM($AI$6:AI69)/10,\"\")","v":""},null,{"$f":"IF(Y69>0,+Y69/Daten!$I$18^2,\"\")","v":""},null,null,0,{"$f":"IF(WEEKDAY(A69)=1,IF(E69=1,VLOOKUP(AE69,Daten!$C$49:$D$102,2),\" \"),\"\")","v":""},5,0,0,0,""]
[{"$f":"+A68+1","v":"2021-02-02"},2,"1900-01-03",1,0,null,null,":",null,":",null," "," ","",null,null,{"$f":"IF(maxhf<100,0,IF(ISBLANK(P70)=\"WAHR\",P70,P70/maxhf)*100)","v":0},{"$f":"IF(F70>0,IF(P70>0,+F70*(F70*1000/(G70*60+I70+K70/60))/(maxhf-P70)*(maxhf/220),\"\"),\"\")","v":""},null,null,"",{"$f":"IF(+Radelkal!F69>0,+Radelkal!F69,\"\")","v":""},null,{"$f":"IF(W70<>\"\",SUM($AI$6:AI70)/10,\"\")","v":""},null,{"$f":"IF(Y70>0,+Y70/Daten!$I$18^2,\"\")","v":""},null,null,0,{"$f":"IF(WEEKDAY(A70)=1,IF(E70=1,VLOOKUP(AE70,Daten!$C$49:$D$102,2),\" \"),\"\")","v":""},5,0,0,0,""]
[{"$f":"+A70","v":"2021-02-02"},{"$f":"MONTH(A71)","v":2},{"$f":"WEEKDAY(A71)","v":"1900-01-03"},2,{"$f":"IF(D71=2,IF(C71=1,1,2),0)","v":2},null,null,":",null,":",null,{"$f":"IF((+G71*60+I71+K71/60)>0,G71*60+I71+K71/60,\" \")","v":" "},{"$f":"IF(+F71>0,+L71/F71/24/60,\" \")","v":" "},{"$f":"IF(F71>0,+F71/(L71/60),\"\")","v":""},null,null,0,"",null,null,"",{"$f":"IF(+Radelkal!F70>0,+Radelkal!F70,\"\")","v":""},null,{"$f":"IF(W71<>\"\",SUM($AI$6:AI71)/10,\"\")","v":""},null,{"$f":"IF(Y71>0,+Y71/Daten!$I$18^2,\"\")","v":""},null,null,0,{"$f":"IF(WEEKDAY(A71)=1,IF(E71=1,VLOOKUP(AE71,Daten!$C$49:$D$102,2),\" \"),\"\")","v":""},5,{"$f":"IF(F71>0,IF(D71=2,IF((AB70+AB71)>0,1,0),0),0)","v":0},{"$f":"+T71/10*F71","v":0},{"$f":"IF(COUNTBLANK(T71)=1,0,+U71/10*F71)","v":0},{"$f":"IF(W71<>\"\",10,\"\")","v":""}]
[{"$f":"+A70+1","v":"2021-02-03"},2,"1900-01-04",1,0,null,null,":",null,":",null," "," ","",null,null,0,"",null,null,"",{"$f":"IF(+Radelkal!F71>0,+Radelkal!F71,\"\")","v":""},null,{"$f":"IF(W72<>\"\",SUM($AI$6:AI72)/10,\"\")","v":""},null,{"$f":"IF(Y72>0,+Y72/Daten!$I$18^2,\"\")","v":""},null,null,{"$f":"IF(D72=2,+F72+F71,0)","v":0},{"$f":"IF(WEEKDAY(A72)=1,IF(E72=1,VLOOKUP(AE72,Daten!$C$49:$D$102,2),\" \"),\"\")","v":""},{"$f":"IF(WEEKDAY(A72)=2,IF(D72=1,AE71+1,AE71),AE71)","v":5},0,0,0,""]
[{"$f":"+A72","v":"2021-02-03"},2,"1900-01-04",2,2,null,null,":",null,":",null," "," ","",null,null,0,"",null,null,"",{"$f":"IF(+Radelkal!F72>0,+Radelkal!F72,\"\")","v":""},null,{"$f":"IF(W73<>\"\",SUM($AI$6:AI73)/10,\"\")","v":""},null,{"$f":"IF(Y73>0,+Y73/Daten!$I$18^2,\"\")","v":""},null,null,0,{"$f":"IF(WEEKDAY(A73)=1,IF(E73=1,VLOOKUP(AE73,Daten!$C$49:$D$102,2),\" \"),\"\")","v":""},5,0,0,0,""]
[{"$f":"+A72+1","v":"2021-02-04"},2,"1900-01-05",1,0,null,null,":",null,":",null," "," ","",null,null,0,"",null,null,"",{"$f":"IF(+Radelkal!F73>0,+Radelkal!F73,\"\")","v":""},null,{"$f":"IF(W74<>\"\",SUM($AI$6:AI74)/10,\"\")","v":""},null,{"$f":"IF(Y74>0,+Y74/Daten!$I$18^2,\"\")","v":""},null,null,0,{"$f":"IF(WEEKDAY(A74)=1,IF(E74=1,VLOOKUP(AE74,Daten!$C$49:$D$102,2),\" \"),\"\")","v":""},5,0,0,0,""]
[{"$f":"+A74","v":"2021-02-04"},2,"1900-01-05",2,2,null,null,":",null,":",null," "," ","",null,null,0,"",null,null,"",{"$f":"IF(+Radelkal!F74>0,+Radelkal!F74,\"\")","v":""},null,{"$f":"IF(W75<>\"\",SUM($AI$6:AI75)/10,\"\")","v":""},null,{"$f":"IF(Y75>0,+Y75/Daten!$I$18^2,\"\")","v":""},null,null,0,{"$f":"IF(WEEKDAY(A75)=1,IF(E75=1,VLOOKUP(AE75,Daten!$C$49:$D$102,2),\" \"),\"\")","v":""},5,0,0,0,""]
[{"$f":"+A74+1","v":"2021-02-05"},2,"1900-01-06",1,0,null,null,":",null,":",null," "," ","",null,null,0,"",null,null,"",{"$f":"IF(+Radelkal!F75>0,+Radelkal!F75,\"\")","v":""},null,{"$f":"IF(W76<>\"\",SUM($AI$6:AI76)/10,\"\")","v":""},null,{"$f":"IF(Y76>0,+Y76/Daten!$I$18^2,\"\")","v":""},null,null,0,{"$f":"IF(WEEKDAY(A76)=1,IF(E76=1,VLOOKUP(AE76,Daten!$C$49:$D$102,2),\" \"),\"\")","v":""},5,0,0,0,""]
[{"$f":"+A76","v":"2021-02-05"},2,"1900-01-06",2,2,null,null,":",null,":",null," "," ","",null,null,0,"",null,null,"",{"$f":"IF(+Radelkal!F76>0,+Radelkal!F76,\"\")","v":""},null,{"$f":"IF(W77<>\"\",SUM($AI$6:AI77)/10,\"\")","v":""},null,{"$f":"IF(Y77>0,+Y77/Daten!$I$18^2,\"\")","v":""},null,null,0,{"$f":"IF(WEEKDAY(A77)=1,IF(E77=1,VLOOKUP(AE77,Daten!$C$49:$D$102,2),\" \"),\"\")","v":""},5,0,0,0,""]
[{"$f":"+A76+1","v":"2021-02-06"},2,"1900-01-07",1,0,null,null,":",null,":",null," "," ","",null,null,0,"",null,null,"",{"$f":"IF(+Radelkal!F77>0,+Radelkal!F77,\"\")","v":""},null,{"$f":"IF(W78<>\"\",SUM($AI$6:AI78)/10,\"\")","v":""},null,{"$f":"IF(Y78>0,+Y78/Daten!$I$18^2,\"\")","v":""},null,null,0,{"$f":"IF(WEEKDAY(A78)=1,IF(E78=1,VLOOKUP(AE78,Daten!$C$49:$D$102,2),\" \"),\"\")","v":""},5,0,0,0,""]
[{"$f":"+A78","v":"2021-02-06"},2,"1900-01-07",2,2,null,null,":",null,":",null," "," ","",null,null,0,"",null,null,"",{"$f":"IF(+Radelkal!F78>0,+Radelkal!F78,\"\")","v":""},null,{"$f":"IF(W79<>\"\",SUM($AI$6:AI79)/10,\"\")","v":""},null,{"$f":"IF(Y79>0,+Y79/Daten!$I$18^2,\"\")","v":""},null,null,0,{"$f":"IF(WEEKDAY(A79)=1,IF(E79=1,VLOOKUP(AE79,Daten!$C$49:$D$102,2),\" \"),\"\")","v":""},5,0,0,0,""]
[{"$f":"+A78+1","v":"2021-02-07"},2,"1900-01-01",1,0,null,null,":",null,":",null," "," ","",null,null,0,"",null,null,"",{"$f":"IF(+Radelkal!F79>0,+Radelkal!F79,\"\")","v":""},null,{"$f":"IF(W80<>\"\",SUM($AI$6:AI80)/10,\"\")","v":""},null,{"$f":"IF(Y80>0,+Y80/Daten!$I$18^2,\"\")","v":""},null,null,0,{"$f":"IF(WEEKDAY(A80)=1,IF(E80=1,VLOOKUP(AE80,Daten!$C$49:$D$102,2),\" \"),\"\")","v":" "},5,0,0,0,""]
[{"$f":"+A80","v":"2021-02-07"},2,"1900-01-01",2,1,null,null,":",null,":",null," "," ","",null,null,0,"",null,null,"",{"$f":"IF(+Radelkal!F80>0,+Radelkal!F80,\"\")","v":""},null,{"$f":"IF(W81<>\"\",SUM($AI$6:AI81)/10,\"\")","v":""},null,{"$f":"IF(Y81>0,+Y81/Daten!$I$18^2,\"\")","v":""},null,null,0,{"$f":"IF(WEEKDAY(A81)=1,IF(E81=1,VLOOKUP(AE81,Daten!$C$49:$D$102,2),\" \"),\"\")","v":0},5,0,0,0,""]
[{"$f":"+A80+1","v":"2021-02-08"},2,"1900-01-02",1,0,null,null,":",null,":",null," "," ","",null,null,0,"",null,null,"",{"$f":"IF(+Radelkal!F81>0,+Radelkal!F81,\"\")","v":""},null,{"$f":"IF(W82<>\"\",SUM($AI$6:AI82)/10,\"\")","v":""},null,{"$f":"IF(Y82>0,+Y82/Daten!$I$18^2,\"\")","v":""},null,null,0,{"$f":"IF(WEEKDAY(A82)=1,IF(E82=1,VLOOKUP(AE82,Daten!$C$49:$D$102,2),\" \"),\"\")","v":""},6,0,0,0,""]
[{"$f":"+A82","v":"2021-02-08"},2,"1900-01-02",2,2,null,null,":",null,":",null," "," ","",null,null,0,"",null,null,"",{"$f":"IF(+Radelkal!F82>0,+Radelkal!F82,\"\")","v":""},null,{"$f":"IF(W83<>\"\",SUM($AI$6:AI83)/10,\"\")","v":""},null,{"$f":"IF(Y83>0,+Y83/Daten!$I$18^2,\"\")","v":""},null,null,0,{"$f":"IF(WEEKDAY(A83)=1,IF(E83=1,VLOOKUP(AE83,Daten!$C$49:$D$102,2),\" \"),\"\")","v":""},6,0,0,0,""]
[{"$f":"+A82+1","v":"2021-02-09"},2,"1900-01-03",1,0,null,null,":",null,":",null," "," ","",null,null,0,"",null,null,"",{"$f":"IF(+Radelkal!F83>0,+Radelkal!F83,\"\")","v":""},null,{"$f":"IF(W84<>\"\",SUM($AI$6:AI84)/10,\"\")","v":""},null,{"$f":"IF(Y84>0,+Y84/Daten!$I$18^2,\"\")","v":""},null,null,0,{"$f":"IF(WEEKDAY(A84)=1,IF(E84=1,VLOOKUP(AE84,Daten!$C$49:$D$102,2),\" \"),\"\")","v":""},6,0,0,0,""]
[{"$f":"+A84","v":"2021-02-09"},2,"1900-01-03",2,2,null,null,":",null,":",null," "," ","",null,null,0,"",null,null,"",{"$f":"IF(+Radelkal!F84>0,+Radelkal!F84,\"\")","v":""},null,{"$f":"IF(W85<>\"\",SUM($AI$6:AI85)/10,\"\")","v":""},null,{"$f":"IF(Y85>0,+Y85/Daten!$I$18^2,\"\")","v":""},null,null,0,{"$f":"IF(WEEKDAY(A85)=1,IF(E85=1,VLOOKUP(AE85,Daten!$C$49:$D$102,2),\" \"),\"\")","v":""},6,0,0,0,""]
[{"$f":"+A84+1","v":"2021-02-10"},2,"1900-01-04",1,0,null,null,":",null,":",null," "," ","",null,null,0,"",null,null,"",{"$f":"IF(+Radelkal!F85>0,+Radelkal!F85,\"\")","v":""},null,{"$f":"IF(W86<>\"\",SUM($AI$6:AI86)/10,\"\")","v":""},null,{"$f":"IF(Y86>0,+Y86/Daten!$I$18^2,\"\")","v":""},null,null,0,{"$f":"IF(WEEKDAY(A86)=1,IF(E86=1,VLOOKUP(AE86,Daten!$C$49:$D$102,2),\" \"),\"\")","v":""},6,0,0,0,""]
[{"$f":"+A86","v":"2021-02-10"},2,"1900-01-04",2,2,null,null,":",null,":",null," "," ","",null,null,0,"",null,null,"",{"$f":"IF(+Radelkal!F86>0,+Radelkal!F86,\"\")","v":""},null,{"$f":"IF(W87<>\"\",SUM($AI$6:AI87)/10,\"\")","v":""},null,{"$f":"IF(Y87>0,+Y87/Daten!$I$18^2,\"\")","v":""},null,null,0,{"$f":"IF(WEEKDAY(A87)=1,IF(E87=1,VLOOKUP(AE87,Daten!$C$49:$D$102,2),\" \"),\"\")","v":""},6,0,0,0,""]
[{"$f":"+A86+1","v":"2021-02-11"},2,"1900-01-05",1,0,null,null,":",null,":",null," "," ","",null,null,0,"",null,null,"",{"$f":"IF(+Radelkal!F87>0,+Radelkal!F87,\"\")","v":""},null,{"$f":"IF(W88<>\"\",SUM($AI$6:AI88)/10,\"\")","v":""},null,{"$f":"IF(Y88>0,+Y88/Daten!$I$18^2,\"\")","v":""},null,null,0,{"$f":"IF(WEEKDAY(A88)=1,IF(E88=1,VLOOKUP(AE88,Daten!$C$49:$D$102,2),\" \"),\"\")","v":""},6,0,0,0,""]
[{"$f":"+A88","v":"2021-02-11"},2,"1900-01-05",2,2,null,null,":",null,":",null," "," ","",null,null,0,"",null,null,"",{"$f":"IF(+Radelkal!F88>0,+Radelkal!F88,\"\")","v":""},null,{"$f":"IF(W89<>\"\",SUM($AI$6:AI89)/10,\"\")","v":""},null,{"$f":"IF(Y89>0,+Y89/Daten!$I$18^2,\"\")","v":""},null,null,0,{"$f":"IF(WEEKDAY(A89)=1,IF(E89=1,VLOOKUP(AE89,Daten!$C$49:$D$102,2),\" \"),\"\")","v":""},6,0,0,0,""]
[{"$f":"+A88+1","v":"2021-02-12"},2,"1900-01-06",1,0,null,null,":",null,":",null," "," ","",null,null,0,"",null,null,"",{"$f":"IF(+Radelkal!F89>0,+Radelkal!F89,\"\")","v":""},null,{"$f":"IF(W90<>\"\",SUM($AI$6:AI90)/10,\"\")","v":""},null,{"$f":"IF(Y90>0,+Y90/Daten!$I$18^2,\"\")","v":""},null,null,0,{"$f":"IF(WEEKDAY(A90)=1,IF(E90=1,VLOOKUP(AE90,Daten!$C$49:$D$102,2),\" \"),\"\")","v":""},6,0,0,0,""]
[{"$f":"+A90","v":"2021-02-12"},2,"1900-01-06",2,2,null,null,":",null,":",null," "," ","",null,null,0,"",null,null,"",{"$f":"IF(+Radelkal!F90>0,+Radelkal!F90,\"\")","v":""},null,{"$f":"IF(W91<>\"\",SUM($AI$6:AI91)/10,\"\")","v":""},null,{"$f":"IF(Y91>0,+Y91/Daten!$I$18^2,\"\")","v":""},null,null,0,{"$f":"IF(WEEKDAY(A91)=1,IF(E91=1,VLOOKUP(AE91,Daten!$C$49:$D$102,2),\" \"),\"\")","v":""},6,0,0,0,""]
[{"$f":"+A90+1","v":"2021-02-13"},2,"1900-01-07",1,0,null,null,":",null,":",null," "," ","",null,null,0,"",null,null,"",{"$f":"IF(+Radelkal!F91>0,+Radelkal!F91,\"\")","v":""},null,{"$f":"IF(W92<>\"\",SUM($AI$6:AI92)/10,\"\")","v":""},null,{"$f":"IF(Y92>0,+Y92/Daten!$I$18^2,\"\")","v":""},null,null,0,{"$f":"IF(WEEKDAY(A92)=1,IF(E92=1,VLOOKUP(AE92,Daten!$C$49:$D$102,2),\" \"),\"\")","v":""},6,0,0,0,""]
[{"$f":"+A92","v":"2021-02-13"},2,"1900-01-07",2,2,null,null,":",null,":",null," "," ","",null,null,0,"",null,null,"",{"$f":"IF(+Radelkal!F92>0,+Radelkal!F92,\"\")","v":""},null,{"$f":"IF(W93<>\"\",SUM($AI$6:AI93)/10,\"\")","v":""},null,{"$f":"IF(Y93>0,+Y93/Daten!$I$18^2,\"\")","v":""},null,null,0,{"$f":"IF(WEEKDAY(A93)=1,IF(E93=1,VLOOKUP(AE93,Daten!$C$49:$D$102,2),\" \"),\"\")","v":""},6,0,0,0,""]
[{"$f":"+A92+1","v":"2021-02-14"},2,"1900-01-01",1,0,null,null,":",null,":",null," "," ","",null,null,0,"",null,null,"",{"$f":"IF(+Radelkal!F93>0,+Radelkal!F93,\"\")","v":""},null,{"$f":"IF(W94<>\"\",SUM($AI$6:AI94)/10,\"\")","v":""},null,{"$f":"IF(Y94>0,+Y94/Daten!$I$18^2,\"\")","v":""},null,null,0,{"$f":"IF(WEEKDAY(A94)=1,IF(E94=1,VLOOKUP(AE94,Daten!$C$49:$D$102,2),\" \"),\"\")","v":" "},6,0,0,0,""]
[{"$f":"+A94","v":"2021-02-14"},2,"1900-01-01",2,1,null,null,":",null,":",null," "," ","",null,null,0,"",null,null,"",{"$f":"IF(+Radelkal!F94>0,+Radelkal!F94,\"\")","v":""},null,{"$f":"IF(W95<>\"\",SUM($AI$6:AI95)/10,\"\")","v":""},null,{"$f":"IF(Y95>0,+Y95/Daten!$I$18^2,\"\")","v":""},null,null,0,{"$f":"IF(WEEKDAY(A95)=1,IF(E95=1,VLOOKUP(AE95,Daten!$C$49:$D$102,2),\" \"),\"\")","v":0},6,0,0,0,""]
[{"$f":"+A94+1","v":"2021-02-15"},2,"1900-01-02",1,0,null,null,":",null,":",null," "," ","",null,null,0,"",null,null,"",{"$f":"IF(+Radelkal!F95>0,+Radelkal!F95,\"\")","v":""},null,{"$f":"IF(W96<>\"\",SUM($AI$6:AI96)/10,\"\")","v":""},null,{"$f":"IF(Y96>0,+Y96/Daten!$I$18^2,\"\")","v":""},null,null,0,{"$f":"IF(WEEKDAY(A96)=1,IF(E96=1,VLOOKUP(AE96,Daten!$C$49:$D$102,2),\" \"),\"\")","v":""},7,0,0,0,""]
[{"$f":"+A96","v":"2021-02-15"},2,"1900-01-02",2,2,null,null,":",null,":",null," "," ","",null,null,0,"",null,null,"",{"$f":"IF(+Radelkal!F96>0,+Radelkal!F96,\"\")","v":""},null,{"$f":"IF(W97<>\"\",SUM($AI$6:AI97)/10,\"\")","v":""},null,{"$f":"IF(Y97>0,+Y97/Daten!$I$18^2,\"\")","v":""},null,null,0,{"$f":"IF(WEEKDAY(A97)=1,IF(E97=1,VLOOKUP(AE97,Daten!$C$49:$D$102,2),\" \"),\"\")","v":""},7,0,0,0,""]
[{"$f":"+A96+1","v":"2021-02-16"},2,"1900-01-03",1,0,null,null,":",null,":",null," "," ","",null,null,0,"",null,null,"",{"$f":"IF(+Radelkal!F97>0,+Radelkal!F97,\"\")","v":""},null,{"$f":"IF(W98<>\"\",SUM($AI$6:AI98)/10,\"\")","v":""},null,{"$f":"IF(Y98>0,+Y98/Daten!$I$18^2,\"\")","v":""},null,null,0,{"$f":"IF(WEEKDAY(A98)=1,IF(E98=1,VLOOKUP(AE98,Daten!$C$49:$D$102,2),\" \"),\"\")","v":""},7,0,0,0,""]
[{"$f":"+A98","v":"2021-02-16"},2,"1900-01-03",2,2,null,null,":",null,":",null," "," ","",null,null,0,"",null,null,"",{"$f":"IF(+Radelkal!F98>0,+Radelkal!F98,\"\")","v":""},null,{"$f":"IF(W99<>\"\",SUM($AI$6:AI99)/10,\"\")","v":""},null,{"$f":"IF(Y99>0,+Y99/Daten!$I$18^2,\"\")","v":""},null,null,0,{"$f":"IF(WEEKDAY(A99)=1,IF(E99=1,VLOOKUP(AE99,Daten!$C$49:$D$102,2),\" \"),\"\")","v":""},7,0,0,0,""]
[{"$f":"+A98+1","v":"2021-02-17"},2,"1900-01-04",1,0,null,null,":",null,":",null," "," ","",null,null,0,"",null,null,"",{"$f":"IF(+Radelkal!F99>0,+Radelkal!F99,\"\")","v":""},null,{"$f":"IF(W100<>\"\",SUM($AI$6:AI100)/10,\"\")","v":""},null,{"$f":"IF(Y100>0,+Y100/Daten!$I$18^2,\"\")","v":""},null,null,0,{"$f":"IF(WEEKDAY(A100)=1,IF(E100=1,VLOOKUP(AE100,Daten!$C$49:$D$102,2),\" \"),\"\")","v":""},7,0,0,0,""]
[{"$f":"+A100","v":"2021-02-17"},2,"1900-01-04",2,2,null,null,":",null,":",null," "," ","",null,null,0,"",null,null,"",{"$f":"IF(+Radelkal!F100>0,+Radelkal!F100,\"\")","v":""},null,{"$f":"IF(W101<>\"\",SUM($AI$6:AI101)/10,\"\")","v":""},null,{"$f":"IF(Y101>0,+Y101/Daten!$I$18^2,\"\")","v":""},null,null,0,{"$f":"IF(WEEKDAY(A101)=1,IF(E101=1,VLOOKUP(AE101,Daten!$C$49:$D$102,2),\" \"),\"\")","v":""},7,0,0,0,""]
[{"$f":"+A100+1","v":"2021-02-18"},2,"1900-01-05",1,0,null,null,":",null,":",null," "," ","",null,null,0,"",null,null,"",{"$f":"IF(+Radelkal!F101>0,+Radelkal!F101,\"\")","v":""},null,{"$f":"IF(W102<>\"\",SUM($AI$6:AI102)/10,\"\")","v":""},null,{"$f":"IF(Y102>0,+Y102/Daten!$I$18^2,\"\")","v":""},null,null,0,{"$f":"IF(WEEKDAY(A102)=1,IF(E102=1,VLOOKUP(AE102,Daten!$C$49:$D$102,2),\" \"),\"\")","v":""},7,0,0,0,""]
[{"$f":"+A102","v":"2021-02-18"},2,"1900-01-05",2,2,null,null,":",null,":",null," "," ","",null,null,0,"",null,null,"",{"$f":"IF(+Radelkal!F102>0,+Radelkal!F102,\"\")","v":""},null,{"$f":"IF(W103<>\"\",SUM($AI$6:AI103)/10,\"\")","v":""},null,{"$f":"IF(Y103>0,+Y103/Daten!$I$18^2,\"\")","v":""},null,null,0,{"$f":"IF(WEEKDAY(A103)=1,IF(E103=1,VLOOKUP(AE103,Daten!$C$49:$D$102,2),\" \"),\"\")","v":""},7,0,0,0,""]
[{"$f":"+A102+1","v":"2021-02-19"},2,"1900-01-06",1,0,null,null,":",null,":",null," "," ","",null,null,0,"",null,null,"",{"$f":"IF(+Radelkal!F103>0,+Radelkal!F103,\"\")","v":""},null,{"$f":"IF(W104<>\"\",SUM($AI$6:AI104)/10,\"\")","v":""},null,{"$f":"IF(Y104>0,+Y104/Daten!$I$18^2,\"\")","v":""},null,null,0,{"$f":"IF(WEEKDAY(A104)=1,IF(E104=1,VLOOKUP(AE104,Daten!$C$49:$D$102,2),\" \"),\"\")","v":""},7,0,0,0,""]
[{"$f":"+A104","v":"2021-02-19"},2,"1900-01-06",2,2,null,null,":",null,":",null," "," ","",null,null,0,"",null,null,"",{"$f":"IF(+Radelkal!F104>0,+Radelkal!F104,\"\")","v":""},null,{"$f":"IF(W105<>\"\",SUM($AI$6:AI105)/10,\"\")","v":""},null,{"$f":"IF(Y105>0,+Y105/Daten!$I$18^2,\"\")","v":""},null,null,0,{"$f":"IF(WEEKDAY(A105)=1,IF(E105=1,VLOOKUP(AE105,Daten!$C$49:$D$102,2),\" \"),\"\")","v":""},7,0,0,0,""]
[{"$f":"+A104+1","v":"2021-02-20"},2,"1900-01-07",1,0,null,null,":",null,":",null," "," ","",null,null,0,"",null,null,"",{"$f":"IF(+Radelkal!F105>0,+Radelkal!F105,\"\")","v":""},null,{"$f":"IF(W106<>\"\",SUM($AI$6:AI106)/10,\"\")","v":""},null,{"$f":"IF(Y106>0,+Y106/Daten!$I$18^2,\"\")","v":""},null,null,0,{"$f":"IF(WEEKDAY(A106)=1,IF(E106=1,VLOOKUP(AE106,Daten!$C$49:$D$102,2),\" \"),\"\")","v":""},7,0,0,0,""]
[{"$f":"+A106","v":"2021-02-20"},2,"1900-01-07",2,2,null,null,":",null,":",null," "," ","",null,null,0,"",null,null,"",{"$f":"IF(+Radelkal!F106>0,+Radelkal!F106,\"\")","v":""},null,{"$f":"IF(W107<>\"\",SUM($AI$6:AI107)/10,\"\")","v":""},null,{"$f":"IF(Y107>0,+Y107/Daten!$I$18^2,\"\")","v":""},null,null,0,{"$f":"IF(WEEKDAY(A107)=1,IF(E107=1,VLOOKUP(AE107,Daten!$C$49:$D$102,2),\" \"),\"\")","v":""},7,0,0,0,""]
[{"$f":"+A106+1","v":"2021-02-21"},2,"1900-01-01",1,0,null,null,":",null,":",null," "," ","",null,null,0,"",null,null,"",{"$f":"IF(+Radelkal!F107>0,+Radelkal!F107,\"\")","v":""},null,{"$f":"IF(W108<>\"\",SUM($AI$6:AI108)/10,\"\")","v":""},null,{"$f":"IF(Y108>0,+Y108/Daten!$I$18^2,\"\")","v":""},null,null,0,{"$f":"IF(WEEKDAY(A108)=1,IF(E108=1,VLOOKUP(AE108,Daten!$C$49:$D$102,2),\" \"),\"\")","v":" "},7,0,0,0,""]
[{"$f":"+A108","v":"2021-02-21"},2,"1900-01-01",2,1,null,null,":",null,":",null," "," ","",null,null,0,"",null,null,"",{"$f":"IF(+Radelkal!F108>0,+Radelkal!F108,\"\")","v":""},null,{"$f":"IF(W109<>\"\",SUM($AI$6:AI109)/10,\"\")","v":""},null,{"$f":"IF(Y109>0,+Y109/Daten!$I$18^2,\"\")","v":""},null,null,0,{"$f":"IF(WEEKDAY(A109)=1,IF(E109=1,VLOOKUP(AE109,Daten!$C$49:$D$102,2),\" \"),\"\")","v":0},7,0,0,0,""]
[{"$f":"+A108+1","v":"2021-02-22"},2,"1900-01-02",1,0,null,null,":",null,":",null," "," ","",null,null,0,"",null,null,"",{"$f":"IF(+Radelkal!F109>0,+Radelkal!F109,\"\")","v":""},null,{"$f":"IF(W110<>\"\",SUM($AI$6:AI110)/10,\"\")","v":""},null,{"$f":"IF(Y110>0,+Y110/Daten!$I$18^2,\"\")","v":""},null,null,0,{"$f":"IF(WEEKDAY(A110)=1,IF(E110=1,VLOOKUP(AE110,Daten!$C$49:$D$102,2),\" \"),\"\")","v":""},8,0,0,0,""]
[{"$f":"+A110","v":"2021-02-22"},2,"1900-01-02",2,2,null,null,":",null,":",null," "," ","",null,null,0,"",null,null,"",{"$f":"IF(+Radelkal!F110>0,+Radelkal!F110,\"\")","v":""},null,{"$f":"IF(W111<>\"\",SUM($AI$6:AI111)/10,\"\")","v":""},null,{"$f":"IF(Y111>0,+Y111/Daten!$I$18^2,\"\")","v":""},null,null,0,{"$f":"IF(WEEKDAY(A111)=1,IF(E111=1,VLOOKUP(AE111,Daten!$C$49:$D$102,2),\" \"),\"\")","v":""},8,0,0,0,""]
[{"$f":"+A110+1","v":"2021-02-23"},2,"1900-01-03",1,0,null,null,":",null,":",null," "," ","",null,null,0,"",null,null,"",{"$f":"IF(+Radelkal!F111>0,+Radelkal!F111,\"\")","v":""},null,{"$f":"IF(W112<>\"\",SUM($AI$6:AI112)/10,\"\")","v":""},null,{"$f":"IF(Y112>0,+Y112/Daten!$I$18^2,\"\")","v":""},null,null,0,{"$f":"IF(WEEKDAY(A112)=1,IF(E112=1,VLOOKUP(AE112,Daten!$C$49:$D$102,2),\" \"),\"\")","v":""},8,0,0,0,""]
[{"$f":"+A112","v":"2021-02-23"},2,"1900-01-03",2,2,null,null,":",null,":",null," "," ","",null,null,0,"",null,null,"",{"$f":"IF(+Radelkal!F112>0,+Radelkal!F112,\"\")","v":""},null,{"$f":"IF(W113<>\"\",SUM($AI$6:AI113)/10,\"\")","v":""},null,{"$f":"IF(Y113>0,+Y113/Daten!$I$18^2,\"\")","v":""},null,null,0,{"$f":"IF(WEEKDAY(A113)=1,IF(E113=1,VLOOKUP(AE113,Daten!$C$49:$D$102,2),\" \"),\"\")","v":""},8,0,0,0,""]
[{"$f":"+A112+1","v":"2021-02-24"},2,"1900-01-04",1,0,null,null,":",null,":",null," "," ","",null,null,0,"",null,null,"",{"$f":"IF(+Radelkal!F113>0,+Radelkal!F113,\"\")","v":""},null,{"$f":"IF(W114<>\"\",SUM($AI$6:AI114)/10,\"\")","v":""},null,{"$f":"IF(Y114>0,+Y114/Daten!$I$18^2,\"\")","v":""},null,null,0,{"$f":"IF(WEEKDAY(A114)=1,IF(E114=1,VLOOKUP(AE114,Daten!$C$49:$D$102,2),\" \"),\"\")","v":""},8,0,0,0,""]
[{"$f":"+A114","v":"2021-02-24"},2,"1900-01-04",2,2,null,null,":",null,":",null," "," ","",null,null,0,"",null,null,"",{"$f":"IF(+Radelkal!F114>0,+Radelkal!F114,\"\")","v":""},null,{"$f":"IF(W115<>\"\",SUM($AI$6:AI115)/10,\"\")","v":""},null,{"$f":"IF(Y115>0,+Y115/Daten!$I$18^2,\"\")","v":""},null,null,0,{"$f":"IF(WEEKDAY(A115)=1,IF(E115=1,VLOOKUP(AE115,Daten!$C$49:$D$102,2),\" \"),\"\")","v":""},8,0,0,0,""]
[{"$f":"+A114+1","v":"2021-02-25"},2,"1900-01-05",1,0,null,null,":",null,":",null," "," ","",null,null,0,"",null,null,"",{"$f":"IF(+Radelkal!F115>0,+Radelkal!F115,\"\")","v":""},null,{"$f":"IF(W116<>\"\",SUM($AI$6:AI116)/10,\"\")","v":""},null,{"$f":"IF(Y116>0,+Y116/Daten!$I$18^2,\"\")","v":""},null,null,0,{"$f":"IF(WEEKDAY(A116)=1,IF(E116=1,VLOOKUP(AE116,Daten!$C$49:$D$102,2),\" \"),\"\")","v":""},8,0,0,0,""]
[{"$f":"+A116","v":"2021-02-25"},2,"1900-01-05",2,2,null,null,":",null,":",null," "," ","",null,null,0,"",null,null,"",{"$f":"IF(+Radelkal!F116>0,+Radelkal!F116,\"\")","v":""},null,{"$f":"IF(W117<>\"\",SUM($AI$6:AI117)/10,\"\")","v":""},null,{"$f":"IF(Y117>0,+Y117/Daten!$I$18^2,\"\")","v":""},null,null,0,{"$f":"IF(WEEKDAY(A117)=1,IF(E117=1,VLOOKUP(AE117,Daten!$C$49:$D$102,2),\" \"),\"\")","v":""},8,0,0,0,""]
[{"$f":"+A116+1","v":"2021-02-26"},2,"1900-01-06",1,0,null,null,":",null,":",null," "," ","",null,null,0,"",null,null,"",{"$f":"IF(+Radelkal!F117>0,+Radelkal!F117,\"\")","v":""},null,{"$f":"IF(W118<>\"\",SUM($AI$6:AI118)/10,\"\")","v":""},null,{"$f":"IF(Y118>0,+Y118/Daten!$I$18^2,\"\")","v":""},null,null,0,{"$f":"IF(WEEKDAY(A118)=1,IF(E118=1,VLOOKUP(AE118,Daten!$C$49:$D$102,2),\" \"),\"\")","v":""},8,0,0,0,""]
[{"$f":"+A118","v":"2021-02-26"},2,"1900-01-06",2,2,null,null,":",null,":",null," "," ","",null,null,0,"",null,null,"",{"$f":"IF(+Radelkal!F118>0,+Radelkal!F118,\"\")","v":""},null,{"$f":"IF(W119<>\"\",SUM($AI$6:AI119)/10,\"\")","v":""},null,{"$f":"IF(Y119>0,+Y119/Daten!$I$18^2,\"\")","v":""},null,null,0,{"$f":"IF(WEEKDAY(A119)=1,IF(E119=1,VLOOKUP(AE119,Daten!$C$49:$D$102,2),\" \"),\"\")","v":""},8,0,0,0,""]
[{"$f":"+A118+1","v":"2021-02-27"},2,"1900-01-07",1,0,null,null,":",null,":",null," "," ","",null,null,0,"",null,null,"",{"$f":"IF(+Radelkal!F119>0,+Radelkal!F119,\"\")","v":""},null,{"$f":"IF(W120<>\"\",SUM($AI$6:AI120)/10,\"\")","v":""},null,{"$f":"IF(Y120>0,+Y120/Daten!$I$18^2,\"\")","v":""},null,null,0,{"$f":"IF(WEEKDAY(A120)=1,IF(E120=1,VLOOKUP(AE120,Daten!$C$49:$D$102,2),\" \"),\"\")","v":""},8,0,0,0,""]
[{"$f":"+A120","v":"2021-02-27"},2,"1900-01-07",2,2,null,null,":",null,":",null," "," ","",null,null,0,"",null,null,"",{"$f":"IF(+Radelkal!F120>0,+Radelkal!F120,\"\")","v":""},null,{"$f":"IF(W121<>\"\",SUM($AI$6:AI121)/10,\"\")","v":""},null,{"$f":"IF(Y121>0,+Y121/Daten!$I$18^2,\"\")","v":""},null,null,0,{"$f":"IF(WEEKDAY(A121)=1,IF(E121=1,VLOOKUP(AE121,Daten!$C$49:$D$102,2),\" \"),\"\")","v":""},8,0,0,0,""]
[{"$f":"+A120+1","v":"2021-02-28"},2,"1900-01-01",1,0,null,null,":",null,":",null," "," ","",null,null,0,"",null,null,"",{"$f":"IF(+Radelkal!F121>0,+Radelkal!F121,\"\")","v":""},null,{"$f":"IF(W122<>\"\",SUM($AI$6:AI122)/10,\"\")","v":""},null,{"$f":"IF(Y122>0,+Y122/Daten!$I$18^2,\"\")","v":""},null,null,0,{"$f":"IF(WEEKDAY(A122)=1,IF(E122=1,VLOOKUP(AE122,Daten!$C$49:$D$102,2),\" \"),\"\")","v":" "},8,0,0,0,""]
[{"$f":"+A122","v":"2021-02-28"},2,"1900-01-01",2,1,null,null,":",null,":",null," "," ","",null,null,0,"",null,null,"",{"$f":"IF(+Radelkal!F122>0,+Radelkal!F122,\"\")","v":""},null,{"$f":"IF(W123<>\"\",SUM($AI$6:AI123)/10,\"\")","v":""},null,{"$f":"IF(Y123>0,+Y123/Daten!$I$18^2,\"\")","v":""},null,null,0,{"$f":"IF(WEEKDAY(A123)=1,IF(E123=1,VLOOKUP(AE123,Daten!$C$49:$D$102,2),\" \"),\"\")","v":0},8,0,0,0,""]
[{"$f":"+A122+1","v":"2021-03-01"},3,"1900-01-02",1,0,null,null,":",null,":",null," "," ","",null,null,0,"",null,null,"",{"$f":"IF(+Radelkal!F123>0,+Radelkal!F123,\"\")","v":""},null,{"$f":"IF(W124<>\"\",SUM($AI$6:AI124)/10,\"\")","v":""},null,{"$f":"IF(Y124>0,+Y124/Daten!$I$18^2,\"\")","v":""},null,null,0,{"$f":"IF(WEEKDAY(A124)=1,IF(E124=1,VLOOKUP(AE124,Daten!$C$49:$D$102,2),\" \"),\"\")","v":""},9,0,0,0,""]
[{"$f":"+A124","v":"2021-03-01"},3,"1900-01-02",2,2,null,null,":",null,":",null," "," ","",null,null,0,"",null,null,"",{"$f":"IF(+Radelkal!F124>0,+Radelkal!F124,\"\")","v":""},null,{"$f":"IF(W125<>\"\",SUM($AI$6:AI125)/10,\"\")","v":""},null,{"$f":"IF(Y125>0,+Y125/Daten!$I$18^2,\"\")","v":""},null,null,0,{"$f":"IF(WEEKDAY(A125)=1,IF(E125=1,VLOOKUP(AE125,Daten!$C$49:$D$102,2),\" \"),\"\")","v":""},9,0,0,0,""]
[{"$f":"+A124+1","v":"2021-03-02"},3,"1900-01-03",1,0,null,null,":",null,":",null," "," ","",null,null,0,"",null,null,"",{"$f":"IF(+Radelkal!F125>0,+Radelkal!F125,\"\")","v":""},null,{"$f":"IF(W126<>\"\",SUM($AI$6:AI126)/10,\"\")","v":""},null,{"$f":"IF(Y126>0,+Y126/Daten!$I$18^2,\"\")","v":""},null,null,0,{"$f":"IF(WEEKDAY(A126)=1,IF(E126=1,VLOOKUP(AE126,Daten!$C$49:$D$102,2),\" \"),\"\")","v":""},9,0,0,0,""]
[{"$f":"+A126","v":"2021-03-02"},3,"1900-01-03",2,2,null,null,":",null,":",null," "," ","",null,null,0,"",null,null,"",{"$f":"IF(+Radelkal!F126>0,+Radelkal!F126,\"\")","v":""},null,{"$f":"IF(W127<>\"\",SUM($AI$6:AI127)/10,\"\")","v":""},null,{"$f":"IF(Y127>0,+Y127/Daten!$I$18^2,\"\")","v":""},null,null,0,{"$f":"IF(WEEKDAY(A127)=1,IF(E127=1,VLOOKUP(AE127,Daten!$C$49:$D$102,2),\" \"),\"\")","v":""},9,0,0,0,""]
[{"$f":"+A126+1","v":"2021-03-03"},3,"1900-01-04",1,0,null,null,":",null,":",null," "," ","",null,null,0,"",null,null,"",{"$f":"IF(+Radelkal!F127>0,+Radelkal!F127,\"\")","v":""},null,{"$f":"IF(W128<>\"\",SUM($AI$6:AI128)/10,\"\")","v":""},null,{"$f":"IF(Y128>0,+Y128/Daten!$I$18^2,\"\")","v":""},null,null,0,{"$f":"IF(WEEKDAY(A128)=1,IF(E128=1,VLOOKUP(AE128,Daten!$C$49:$D$102,2),\" \"),\"\")","v":""},9,0,0,0,""]
[{"$f":"+A128","v":"2021-03-03"},3,"1900-01-04",2,2,null,null,":",null,":",null," "," ","",null,null,0,"",null,null,"",{"$f":"IF(+Radelkal!F128>0,+Radelkal!F128,\"\")","v":""},null,{"$f":"IF(W129<>\"\",SUM($AI$6:AI129)/10,\"\")","v":""},null,{"$f":"IF(Y129>0,+Y129/Daten!$I$18^2,\"\")","v":""},null,null,0,{"$f":"IF(WEEKDAY(A129)=1,IF(E129=1,VLOOKUP(AE129,Daten!$C$49:$D$102,2),\" \"),\"\")","v":""},9,0,0,0,""]
[{"$f":"+A128+1","v":"2021-03-04"},3,"1900-01-05",1,0,null,null,":",null,":",null," "," ","",null,null,0,"",null,null,"",{"$f":"IF(+Radelkal!F129>0,+Radelkal!F129,\"\")","v":""},null,{"$f":"IF(W130<>\"\",SUM($AI$6:AI130)/10,\"\")","v":""},null,{"$f":"IF(Y130>0,+Y130/Daten!$I$18^2,\"\")","v":""},null,null,0,{"$f":"IF(WEEKDAY(A130)=1,IF(E130=1,VLOOKUP(AE130,Daten!$C$49:$D$102,2),\" \"),\"\")","v":""},9,0,0,0,""]
[{"$f":"+A130","v":"2021-03-04"},3,"1900-01-05",2,2,null,null,":",null,":",null," "," ","",null,null,0,"",null,null,"",{"$f":"IF(+Radelkal!F130>0,+Radelkal!F130,\"\")","v":""},null,{"$f":"IF(W131<>\"\",SUM($AI$6:AI131)/10,\"\")","v":""},null,{"$f":"IF(Y131>0,+Y131/Daten!$I$18^2,\"\")","v":""},null,null,0,{"$f":"IF(WEEKDAY(A131)=1,IF(E131=1,VLOOKUP(AE131,Daten!$C$49:$D$102,2),\" \"),\"\")","v":""},9,0,0,0,""]
[{"$f":"+A130+1","v":"2021-03-05"},3,"1900-01-06",1,0,null,null,":",null,":",null," "," ","",null,null,0,"",null,null,"",{"$f":"IF(+Radelkal!F131>0,+Radelkal!F131,\"\")","v":""},null,{"$f":"IF(W132<>\"\",SUM($AI$6:AI132)/10,\"\")","v":""},null,{"$f":"IF(Y132>0,+Y132/Daten!$I$18^2,\"\")","v":""},null,null,0,{"$f":"IF(WEEKDAY(A132)=1,IF(E132=1,VLOOKUP(AE132,Daten!$C$49:$D$102,2),\" \"),\"\")","v":""},9,0,0,0,""]
[{"$f":"+A132","v":"2021-03-05"},3,"1900-01-06",2,2,null,null,":",null,":",null," "," ","",null,null,0,"",null,null,{"$f":"IF(COUNTBLANK(T133)=1,\"\",IF(T133=\"10\",\"0\",10-T133))","v":""},{"$f":"IF(+Radelkal!F132>0,+Radelkal!F132,\"\")","v":""},null,{"$f":"IF(W133<>\"\",SUM($AI$6:AI133)/10,\"\")","v":""},null,{"$f":"IF(Y133>0,+Y133/Daten!$I$18^2,\"\")","v":""},null,null,0,{"$f":"IF(WEEKDAY(A133)=1,IF(E133=1,VLOOKUP(AE133,Daten!$C$49:$D$102,2),\" \"),\"\")","v":""},9,0,0,0,""]
[{"$f":"+A132+1","v":"2021-03-06"},3,"1900-01-07",1,0,null,null,":",null,":",null," "," ","",null,null,{"$f":"IF(maxhf<100,0,IF(ISBLANK(P134)=\"WAHR\",P134,P134/maxhf)*100)","v":0},{"$f":"IF(F134>0,IF(P134>0,+F134*(F134*1000/(G134*60+I134+K134/60))/(maxhf-P134)*(maxhf/220),\"\"),\"\")","v":""},null,null,"",{"$f":"IF(+Radelkal!F133>0,+Radelkal!F133,\"\")","v":""},null,{"$f":"IF(W134<>\"\",SUM($AI$6:AI134)/10,\"\")","v":""},null,{"$f":"IF(Y134>0,+Y134/Daten!$I$18^2,\"\")","v":""},null,null,0,{"$f":"IF(WEEKDAY(A134)=1,IF(E134=1,VLOOKUP(AE134,Daten!$C$49:$D$102,2),\" \"),\"\")","v":""},9,0,0,0,""]
[{"$f":"+A134","v":"2021-03-06"},{"$f":"MONTH(A135)","v":3},{"$f":"WEEKDAY(A135)","v":"1900-01-07"},2,{"$f":"IF(D135=2,IF(C135=1,1,2),0)","v":2},null,null,":",null,":",null,{"$f":"IF((+G135*60+I135+K135/60)>0,G135*60+I135+K135/60,\" \")","v":" "},{"$f":"IF(+F135>0,+L135/F135/24/60,\" \")","v":" "},{"$f":"IF(F135>0,+F135/(L135/60),\"\")","v":""},null,null,0,"",null,null,"",{"$f":"IF(+Radelkal!F134>0,+Radelkal!F134,\"\")","v":""},null,{"$f":"IF(W135<>\"\",SUM($AI$6:AI135)/10,\"\")","v":""},null,{"$f":"IF(Y135>0,+Y135/Daten!$I$18^2,\"\")","v":""},null,null,0,{"$f":"IF(WEEKDAY(A135)=1,IF(E135=1,VLOOKUP(AE135,Daten!$C$49:$D$102,2),\" \"),\"\")","v":""},9,{"$f":"IF(F135>0,IF(D135=2,IF((AB134+AB135)>0,1,0),0),0)","v":0},{"$f":"+T135/10*F135","v":0},{"$f":"IF(COUNTBLANK(T135)=1,0,+U135/10*F135)","v":0},{"$f":"IF(W135<>\"\",10,\"\")","v":""}]
[{"$f":"+A134+1","v":"2021-03-07"},3,"1900-01-01",1,0,null,null,":",null,":",null," "," ","",null,null,0,"",null,null,"",{"$f":"IF(+Radelkal!F135>0,+Radelkal!F135,\"\")","v":""},null,{"$f":"IF(W136<>\"\",SUM($AI$6:AI136)/10,\"\")","v":""},null,{"$f":"IF(Y136>0,+Y136/Daten!$I$18^2,\"\")","v":""},null,null,{"$f":"IF(D136=2,+F136+F135,0)","v":0},{"$f":"IF(WEEKDAY(A136)=1,IF(E136=1,VLOOKUP(AE136,Daten!$C$49:$D$102,2),\" \"),\"\")","v":" "},{"$f":"IF(WEEKDAY(A136)=2,IF(D136=1,AE135+1,AE135),AE135)","v":9},0,0,0,""]
[{"$f":"+A136","v":"2021-03-07"},3,"1900-01-01",2,1,null,null,":",null,":",null," "," ","",null,null,0,"",null,null,"",{"$f":"IF(+Radelkal!F136>0,+Radelkal!F136,\"\")","v":""},null,{"$f":"IF(W137<>\"\",SUM($AI$6:AI137)/10,\"\")","v":""},null,{"$f":"IF(Y137>0,+Y137/Daten!$I$18^2,\"\")","v":""},null,null,0,{"$f":"IF(WEEKDAY(A137)=1,IF(E137=1,VLOOKUP(AE137,Daten!$C$49:$D$102,2),\" \"),\"\")","v":0},9,0,0,0,""]
[{"$f":"+A136+1","v":"2021-03-08"},3,"1900-01-02",1,0,null,null,":",null,":",null," "," ","",null,null,0,"",null,null,"",{"$f":"IF(+Radelkal!F137>0,+Radelkal!F137,\"\")","v":""},null,{"$f":"IF(W138<>\"\",SUM($AI$6:AI138)/10,\"\")","v":""},null,{"$f":"IF(Y138>0,+Y138/Daten!$I$18^2,\"\")","v":""},null,null,0,{"$f":"IF(WEEKDAY(A138)=1,IF(E138=1,VLOOKUP(AE138,Daten!$C$49:$D$102,2),\" \"),\"\")","v":""},10,0,0,0,""]
[{"$f":"+A138","v":"2021-03-08"},3,"1900-01-02",2,2,null,null,":",null,":",null," "," ","",null,null,0,"",null,null,"",{"$f":"IF(+Radelkal!F138>0,+Radelkal!F138,\"\")","v":""},null,{"$f":"IF(W139<>\"\",SUM($AI$6:AI139)/10,\"\")","v":""},null,{"$f":"IF(Y139>0,+Y139/Daten!$I$18^2,\"\")","v":""},null,null,0,{"$f":"IF(WEEKDAY(A139)=1,IF(E139=1,VLOOKUP(AE139,Daten!$C$49:$D$102,2),\" \"),\"\")","v":""},10,0,0,0,""]
[{"$f":"+A138+1","v":"2021-03-09"},3,"1900-01-03",1,0,null,null,":",null,":",null," "," ","",null,null,0,"",null,null,"",{"$f":"IF(+Radelkal!F139>0,+Radelkal!F139,\"\")","v":""},null,{"$f":"IF(W140<>\"\",SUM($AI$6:AI140)/10,\"\")","v":""},null,{"$f":"IF(Y140>0,+Y140/Daten!$I$18^2,\"\")","v":""},null,null,0,{"$f":"IF(WEEKDAY(A140)=1,IF(E140=1,VLOOKUP(AE140,Daten!$C$49:$D$102,2),\" \"),\"\")","v":""},10,0,0,0,""]
[{"$f":"+A140","v":"2021-03-09"},3,"1900-01-03",2,2,null,null,":",null,":",null," "," ","",null,null,0,"",null,null,"",{"$f":"IF(+Radelkal!F140>0,+Radelkal!F140,\"\")","v":""},null,{"$f":"IF(W141<>\"\",SUM($AI$6:AI141)/10,\"\")","v":""},null,{"$f":"IF(Y141>0,+Y141/Daten!$I$18^2,\"\")","v":""},null,null,0,{"$f":"IF(WEEKDAY(A141)=1,IF(E141=1,VLOOKUP(AE141,Daten!$C$49:$D$102,2),\" \"),\"\")","v":""},10,0,0,0,""]
[{"$f":"+A140+1","v":"2021-03-10"},3,"1900-01-04",1,0,null,null,":",null,":",null," "," ","",null,null,0,"",null,null,"",{"$f":"IF(+Radelkal!F141>0,+Radelkal!F141,\"\")","v":""},null,{"$f":"IF(W142<>\"\",SUM($AI$6:AI142)/10,\"\")","v":""},null,{"$f":"IF(Y142>0,+Y142/Daten!$I$18^2,\"\")","v":""},null,null,0,{"$f":"IF(WEEKDAY(A142)=1,IF(E142=1,VLOOKUP(AE142,Daten!$C$49:$D$102,2),\" \"),\"\")","v":""},10,0,0,0,""]
[{"$f":"+A142","v":"2021-03-10"},3,"1900-01-04",2,2,null,null,":",null,":",null," "," ","",null,null,0,"",null,null,"",{"$f":"IF(+Radelkal!F142>0,+Radelkal!F142,\"\")","v":""},null,{"$f":"IF(W143<>\"\",SUM($AI$6:AI143)/10,\"\")","v":""},null,{"$f":"IF(Y143>0,+Y143/Daten!$I$18^2,\"\")","v":""},null,null,0,{"$f":"IF(WEEKDAY(A143)=1,IF(E143=1,VLOOKUP(AE143,Daten!$C$49:$D$102,2),\" \"),\"\")","v":""},10,0,0,0,""]
[{"$f":"+A142+1","v":"2021-03-11"},3,"1900-01-05",1,0,null,null,":",null,":",null," "," ","",null,null,0,"",null,null,"",{"$f":"IF(+Radelkal!F143>0,+Radelkal!F143,\"\")","v":""},null,{"$f":"IF(W144<>\"\",SUM($AI$6:AI144)/10,\"\")","v":""},null,{"$f":"IF(Y144>0,+Y144/Daten!$I$18^2,\"\")","v":""},null,null,0,{"$f":"IF(WEEKDAY(A144)=1,IF(E144=1,VLOOKUP(AE144,Daten!$C$49:$D$102,2),\" \"),\"\")","v":""},10,0,0,0,""]
[{"$f":"+A144","v":"2021-03-11"},3,"1900-01-05",2,2,null,null,":",null,":",null," "," ","",null,null,0,"",null,null,"",{"$f":"IF(+Radelkal!F144>0,+Radelkal!F144,\"\")","v":""},null,{"$f":"IF(W145<>\"\",SUM($AI$6:AI145)/10,\"\")","v":""},null,{"$f":"IF(Y145>0,+Y145/Daten!$I$18^2,\"\")","v":""},null,null,0,{"$f":"IF(WEEKDAY(A145)=1,IF(E145=1,VLOOKUP(AE145,Daten!$C$49:$D$102,2),\" \"),\"\")","v":""},10,0,0,0,""]
[{"$f":"+A144+1","v":"2021-03-12"},3,"1900-01-06",1,0,null,null,":",null,":",null," "," ","",null,null,0,"",null,null,"",{"$f":"IF(+Radelkal!F145>0,+Radelkal!F145,\"\")","v":""},null,{"$f":"IF(W146<>\"\",SUM($AI$6:AI146)/10,\"\")","v":""},null,{"$f":"IF(Y146>0,+Y146/Daten!$I$18^2,\"\")","v":""},null,null,0,{"$f":"IF(WEEKDAY(A146)=1,IF(E146=1,VLOOKUP(AE146,Daten!$C$49:$D$102,2),\" \"),\"\")","v":""},10,0,0,0,""]
[{"$f":"+A146","v":"2021-03-12"},3,"1900-01-06",2,2,null,null,":",null,":",null," "," ","",null,null,0,"",null,null,"",{"$f":"IF(+Radelkal!F146>0,+Radelkal!F146,\"\")","v":""},null,{"$f":"IF(W147<>\"\",SUM($AI$6:AI147)/10,\"\")","v":""},null,{"$f":"IF(Y147>0,+Y147/Daten!$I$18^2,\"\")","v":""},null,null,0,{"$f":"IF(WEEKDAY(A147)=1,IF(E147=1,VLOOKUP(AE147,Daten!$C$49:$D$102,2),\" \"),\"\")","v":""},10,0,0,0,""]
[{"$f":"+A146+1","v":"2021-03-13"},3,"1900-01-07",1,0,null,null,":",null,":",null," "," ","",null,null,0,"",null,null,"",{"$f":"IF(+Radelkal!F147>0,+Radelkal!F147,\"\")","v":""},null,{"$f":"IF(W148<>\"\",SUM($AI$6:AI148)/10,\"\")","v":""},null,{"$f":"IF(Y148>0,+Y148/Daten!$I$18^2,\"\")","v":""},null,null,0,{"$f":"IF(WEEKDAY(A148)=1,IF(E148=1,VLOOKUP(AE148,Daten!$C$49:$D$102,2),\" \"),\"\")","v":""},10,0,0,0,""]
[{"$f":"+A148","v":"2021-03-13"},3,"1900-01-07",2,2,null,null,":",null,":",null," "," ","",null,null,0,"",null,null,"",{"$f":"IF(+Radelkal!F148>0,+Radelkal!F148,\"\")","v":""},null,{"$f":"IF(W149<>\"\",SUM($AI$6:AI149)/10,\"\")","v":""},null,{"$f":"IF(Y149>0,+Y149/Daten!$I$18^2,\"\")","v":""},null,null,0,{"$f":"IF(WEEKDAY(A149)=1,IF(E149=1,VLOOKUP(AE149,Daten!$C$49:$D$102,2),\" \"),\"\")","v":""},10,0,0,0,""]
[{"$f":"+A148+1","v":"2021-03-14"},3,"1900-01-01",1,0,null,null,":",null,":",null," "," ","",null,null,0,"",null,null,"",{"$f":"IF(+Radelkal!F149>0,+Radelkal!F149,\"\")","v":""},null,{"$f":"IF(W150<>\"\",SUM($AI$6:AI150)/10,\"\")","v":""},null,{"$f":"IF(Y150>0,+Y150/Daten!$I$18^2,\"\")","v":""},null,null,0,{"$f":"IF(WEEKDAY(A150)=1,IF(E150=1,VLOOKUP(AE150,Daten!$C$49:$D$102,2),\" \"),\"\")","v":" "},10,0,0,0,""]
[{"$f":"+A150","v":"2021-03-14"},3,"1900-01-01",2,1,null,null,":",null,":",null," "," ","",null,null,0,"",null,null,"",{"$f":"IF(+Radelkal!F150>0,+Radelkal!F150,\"\")","v":""},null,{"$f":"IF(W151<>\"\",SUM($AI$6:AI151)/10,\"\")","v":""},null,{"$f":"IF(Y151>0,+Y151/Daten!$I$18^2,\"\")","v":""},null,null,0,{"$f":"IF(WEEKDAY(A151)=1,IF(E151=1,VLOOKUP(AE151,Daten!$C$49:$D$102,2),\" \"),\"\")","v":0},10,0,0,0,""]
[{"$f":"+A150+1","v":"2021-03-15"},3,"1900-01-02",1,0,null,null,":",null,":",null," "," ","",null,null,0,"",null,null,"",{"$f":"IF(+Radelkal!F151>0,+Radelkal!F151,\"\")","v":""},null,{"$f":"IF(W152<>\"\",SUM($AI$6:AI152)/10,\"\")","v":""},null,{"$f":"IF(Y152>0,+Y152/Daten!$I$18^2,\"\")","v":""},null,null,0,{"$f":"IF(WEEKDAY(A152)=1,IF(E152=1,VLOOKUP(AE152,Daten!$C$49:$D$102,2),\" \"),\"\")","v":""},11,0,0,0,""]
[{"$f":"+A152","v":"2021-03-15"},3,"1900-01-02",2,2,null,null,":",null,":",null," "," ","",null,null,0,"",null,null,"",{"$f":"IF(+Radelkal!F152>0,+Radelkal!F152,\"\")","v":""},null,{"$f":"IF(W153<>\"\",SUM($AI$6:AI153)/10,\"\")","v":""},null,{"$f":"IF(Y153>0,+Y153/Daten!$I$18^2,\"\")","v":""},null,null,0,{"$f":"IF(WEEKDAY(A153)=1,IF(E153=1,VLOOKUP(AE153,Daten!$C$49:$D$102,2),\" \"),\"\")","v":""},11,0,0,0,""]
[{"$f":"+A152+1","v":"2021-03-16"},3,"1900-01-03",1,0,null,null,":",null,":",null," "," ","",null,null,0,"",null,null,"",{"$f":"IF(+Radelkal!F153>0,+Radelkal!F153,\"\")","v":""},null,{"$f":"IF(W154<>\"\",SUM($AI$6:AI154)/10,\"\")","v":""},null,{"$f":"IF(Y154>0,+Y154/Daten!$I$18^2,\"\")","v":""},null,null,0,{"$f":"IF(WEEKDAY(A154)=1,IF(E154=1,VLOOKUP(AE154,Daten!$C$49:$D$102,2),\" \"),\"\")","v":""},11,0,0,0,""]
[{"$f":"+A154","v":"2021-03-16"},3,"1900-01-03",2,2,null,null,":",null,":",null," "," ","",null,null,0,"",null,null,"",{"$f":"IF(+Radelkal!F154>0,+Radelkal!F154,\"\")","v":""},null,{"$f":"IF(W155<>\"\",SUM($AI$6:AI155)/10,\"\")","v":""},null,{"$f":"IF(Y155>0,+Y155/Daten!$I$18^2,\"\")","v":""},null,null,0,{"$f":"IF(WEEKDAY(A155)=1,IF(E155=1,VLOOKUP(AE155,Daten!$C$49:$D$102,2),\" \"),\"\")","v":""},11,0,0,0,""]
[{"$f":"+A154+1","v":"2021-03-17"},3,"1900-01-04",1,0,null,null,":",null,":",null," "," ","",null,null,0,"",null,null,"",{"$f":"IF(+Radelkal!F155>0,+Radelkal!F155,\"\")","v":""},null,{"$f":"IF(W156<>\"\",SUM($AI$6:AI156)/10,\"\")","v":""},null,{"$f":"IF(Y156>0,+Y156/Daten!$I$18^2,\"\")","v":""},null,null,0,{"$f":"IF(WEEKDAY(A156)=1,IF(E156=1,VLOOKUP(AE156,Daten!$C$49:$D$102,2),\" \"),\"\")","v":""},11,0,0,0,""]
[{"$f":"+A156","v":"2021-03-17"},3,"1900-01-04",2,2,null,null,":",null,":",null," "," ","",null,null,0,"",null,null,"",{"$f":"IF(+Radelkal!F156>0,+Radelkal!F156,\"\")","v":""},null,{"$f":"IF(W157<>\"\",SUM($AI$6:AI157)/10,\"\")","v":""},null,{"$f":"IF(Y157>0,+Y157/Daten!$I$18^2,\"\")","v":""},null,null,0,{"$f":"IF(WEEKDAY(A157)=1,IF(E157=1,VLOOKUP(AE157,Daten!$C$49:$D$102,2),\" \"),\"\")","v":""},11,0,0,0,""]
[{"$f":"+A156+1","v":"2021-03-18"},3,"1900-01-05",1,0,null,null,":",null,":",null," "," ","",null,null,0,"",null,null,"",{"$f":"IF(+Radelkal!F157>0,+Radelkal!F157,\"\")","v":""},null,{"$f":"IF(W158<>\"\",SUM($AI$6:AI158)/10,\"\")","v":""},null,{"$f":"IF(Y158>0,+Y158/Daten!$I$18^2,\"\")","v":""},null,null,0,{"$f":"IF(WEEKDAY(A158)=1,IF(E158=1,VLOOKUP(AE158,Daten!$C$49:$D$102,2),\" \"),\"\")","v":""},11,0,0,0,""]
[{"$f":"+A158","v":"2021-03-18"},3,"1900-01-05",2,2,null,null,":",null,":",null," "," ","",null,null,0,"",null,null,"",{"$f":"IF(+Radelkal!F158>0,+Radelkal!F158,\"\")","v":""},null,{"$f":"IF(W159<>\"\",SUM($AI$6:AI159)/10,\"\")","v":""},null,{"$f":"IF(Y159>0,+Y159/Daten!$I$18^2,\"\")","v":""},null,null,0,{"$f":"IF(WEEKDAY(A159)=1,IF(E159=1,VLOOKUP(AE159,Daten!$C$49:$D$102,2),\" \"),\"\")","v":""},11,0,0,0,""]
[{"$f":"+A158+1","v":"2021-03-19"},3,"1900-01-06",1,0,null,null,":",null,":",null," "," ","",null,null,0,"",null,null,"",{"$f":"IF(+Radelkal!F159>0,+Radelkal!F159,\"\")","v":""},null,{"$f":"IF(W160<>\"\",SUM($AI$6:AI160)/10,\"\")","v":""},null,{"$f":"IF(Y160>0,+Y160/Daten!$I$18^2,\"\")","v":""},null,null,0,{"$f":"IF(WEEKDAY(A160)=1,IF(E160=1,VLOOKUP(AE160,Daten!$C$49:$D$102,2),\" \"),\"\")","v":""},11,0,0,0,""]
[{"$f":"+A160","v":"2021-03-19"},3,"1900-01-06",2,2,null,null,":",null,":",null," "," ","",null,null,0,"",null,null,"",{"$f":"IF(+Radelkal!F160>0,+Radelkal!F160,\"\")","v":""},null,{"$f":"IF(W161<>\"\",SUM($AI$6:AI161)/10,\"\")","v":""},null,{"$f":"IF(Y161>0,+Y161/Daten!$I$18^2,\"\")","v":""},null,null,0,{"$f":"IF(WEEKDAY(A161)=1,IF(E161=1,VLOOKUP(AE161,Daten!$C$49:$D$102,2),\" \"),\"\")","v":""},11,0,0,0,""]
[{"$f":"+A160+1","v":"2021-03-20"},3,"1900-01-07",1,0,null,null,":",null,":",null," "," ","",null,null,0,"",null,null,"",{"$f":"IF(+Radelkal!F161>0,+Radelkal!F161,\"\")","v":""},null,{"$f":"IF(W162<>\"\",SUM($AI$6:AI162)/10,\"\")","v":""},null,{"$f":"IF(Y162>0,+Y162/Daten!$I$18^2,\"\")","v":""},null,null,0,{"$f":"IF(WEEKDAY(A162)=1,IF(E162=1,VLOOKUP(AE162,Daten!$C$49:$D$102,2),\" \"),\"\")","v":""},11,0,0,0,""]
[{"$f":"+A162","v":"2021-03-20"},3,"1900-01-07",2,2,null,null,":",null,":",null," "," ","",null,null,0,"",null,null,"",{"$f":"IF(+Radelkal!F162>0,+Radelkal!F162,\"\")","v":""},null,{"$f":"IF(W163<>\"\",SUM($AI$6:AI163)/10,\"\")","v":""},null,{"$f":"IF(Y163>0,+Y163/Daten!$I$18^2,\"\")","v":""},null,null,0,{"$f":"IF(WEEKDAY(A163)=1,IF(E163=1,VLOOKUP(AE163,Daten!$C$49:$D$102,2),\" \"),\"\")","v":""},11,0,0,0,""]
[{"$f":"+A162+1","v":"2021-03-21"},3,"1900-01-01",1,0,null,null,":",null,":",null," "," ","",null,null,0,"",null,null,"",{"$f":"IF(+Radelkal!F163>0,+Radelkal!F163,\"\")","v":""},null,{"$f":"IF(W164<>\"\",SUM($AI$6:AI164)/10,\"\")","v":""},null,{"$f":"IF(Y164>0,+Y164/Daten!$I$18^2,\"\")","v":""},null,null,0,{"$f":"IF(WEEKDAY(A164)=1,IF(E164=1,VLOOKUP(AE164,Daten!$C$49:$D$102,2),\" \"),\"\")","v":" "},11,0,0,0,""]
[{"$f":"+A164","v":"2021-03-21"},3,"1900-01-01",2,1,null,null,":",null,":",null," "," ","",null,null,0,"",null,null,"",{"$f":"IF(+Radelkal!F164>0,+Radelkal!F164,\"\")","v":""},null,{"$f":"IF(W165<>\"\",SUM($AI$6:AI165)/10,\"\")","v":""},null,{"$f":"IF(Y165>0,+Y165/Daten!$I$18^2,\"\")","v":""},null,null,0,{"$f":"IF(WEEKDAY(A165)=1,IF(E165=1,VLOOKUP(AE165,Daten!$C$49:$D$102,2),\" \"),\"\")","v":0},11,0,0,0,""]
[{"$f":"+A164+1","v":"2021-03-22"},3,"1900-01-02",1,0,null,null,":",null,":",null," "," ","",null,null,0,"",null,null,"",{"$f":"IF(+Radelkal!F165>0,+Radelkal!F165,\"\")","v":""},null,{"$f":"IF(W166<>\"\",SUM($AI$6:AI166)/10,\"\")","v":""},null,{"$f":"IF(Y166>0,+Y166/Daten!$I$18^2,\"\")","v":""},null,null,0,{"$f":"IF(WEEKDAY(A166)=1,IF(E166=1,VLOOKUP(AE166,Daten!$C$49:$D$102,2),\" \"),\"\")","v":""},12,0,0,0,""]
[{"$f":"+A166","v":"2021-03-22"},3,"1900-01-02",2,2,null,null,":",null,":",null," "," ","",null,null,0,"",null,null,"",{"$f":"IF(+Radelkal!F166>0,+Radelkal!F166,\"\")","v":""},null,{"$f":"IF(W167<>\"\",SUM($AI$6:AI167)/10,\"\")","v":""},null,{"$f":"IF(Y167>0,+Y167/Daten!$I$18^2,\"\")","v":""},null,null,0,{"$f":"IF(WEEKDAY(A167)=1,IF(E167=1,VLOOKUP(AE167,Daten!$C$49:$D$102,2),\" \"),\"\")","v":""},12,0,0,0,""]
[{"$f":"+A166+1","v":"2021-03-23"},3,"1900-01-03",1,0,null,null,":",null,":",null," "," ","",null,null,0,"",null,null,"",{"$f":"IF(+Radelkal!F167>0,+Radelkal!F167,\"\")","v":""},null,{"$f":"IF(W168<>\"\",SUM($AI$6:AI168)/10,\"\")","v":""},null,{"$f":"IF(Y168>0,+Y168/Daten!$I$18^2,\"\")","v":""},null,null,0,{"$f":"IF(WEEKDAY(A168)=1,IF(E168=1,VLOOKUP(AE168,Daten!$C$49:$D$102,2),\" \"),\"\")","v":""},12,0,0,0,""]
[{"$f":"+A168","v":"2021-03-23"},3,"1900-01-03",2,2,null,null,":",null,":",null," "," ","",null,null,0,"",null,null,"",{"$f":"IF(+Radelkal!F168>0,+Radelkal!F168,\"\")","v":""},null,{"$f":"IF(W169<>\"\",SUM($AI$6:AI169)/10,\"\")","v":""},null,{"$f":"IF(Y169>0,+Y169/Daten!$I$18^2,\"\")","v":""},null,null,0,{"$f":"IF(WEEKDAY(A169)=1,IF(E169=1,VLOOKUP(AE169,Daten!$C$49:$D$102,2),\" \"),\"\")","v":""},12,0,0,0,""]
[{"$f":"+A168+1","v":"2021-03-24"},3,"1900-01-04",1,0,null,null,":",null,":",null," "," ","",null,null,0,"",null,null,"",{"$f":"IF(+Radelkal!F169>0,+Radelkal!F169,\"\")","v":""},null,{"$f":"IF(W170<>\"\",SUM($AI$6:AI170)/10,\"\")","v":""},null,{"$f":"IF(Y170>0,+Y170/Daten!$I$18^2,\"\")","v":""},null,null,0,{"$f":"IF(WEEKDAY(A170)=1,IF(E170=1,VLOOKUP(AE170,Daten!$C$49:$D$102,2),\" \"),\"\")","v":""},12,0,0,0,""]
[{"$f":"+A170","v":"2021-03-24"},3,"1900-01-04",2,2,null,null,":",null,":",null," "," ","",null,null,0,"",null,null,"",{"$f":"IF(+Radelkal!F170>0,+Radelkal!F170,\"\")","v":""},null,{"$f":"IF(W171<>\"\",SUM($AI$6:AI171)/10,\"\")","v":""},null,{"$f":"IF(Y171>0,+Y171/Daten!$I$18^2,\"\")","v":""},null,null,0,{"$f":"IF(WEEKDAY(A171)=1,IF(E171=1,VLOOKUP(AE171,Daten!$C$49:$D$102,2),\" \"),\"\")","v":""},12,0,0,0,""]
[{"$f":"+A170+1","v":"2021-03-25"},3,"1900-01-05",1,0,null,null,":",null,":",null," "," ","",null,null,0,"",null,null,"",{"$f":"IF(+Radelkal!F171>0,+Radelkal!F171,\"\")","v":""},null,{"$f":"IF(W172<>\"\",SUM($AI$6:AI172)/10,\"\")","v":""},null,{"$f":"IF(Y172>0,+Y172/Daten!$I$18^2,\"\")","v":""},null,null,0,{"$f":"IF(WEEKDAY(A172)=1,IF(E172=1,VLOOKUP(AE172,Daten!$C$49:$D$102,2),\" \"),\"\")","v":""},12,0,0,0,""]
[{"$f":"+A172","v":"2021-03-25"},3,"1900-01-05",2,2,null,null,":",null,":",null," "," ","",null,null,0,"",null,null,"",{"$f":"IF(+Radelkal!F172>0,+Radelkal!F172,\"\")","v":""},null,{"$f":"IF(W173<>\"\",SUM($AI$6:AI173)/10,\"\")","v":""},null,{"$f":"IF(Y173>0,+Y173/Daten!$I$18^2,\"\")","v":""},null,null,0,{"$f":"IF(WEEKDAY(A173)=1,IF(E173=1,VLOOKUP(AE173,Daten!$C$49:$D$102,2),\" \"),\"\")","v":""},12,0,0,0,""]
[{"$f":"+A172+1","v":"2021-03-26"},3,"1900-01-06",1,0,null,null,":",null,":",null," "," ","",null,null,0,"",null,null,"",{"$f":"IF(+Radelkal!F173>0,+Radelkal!F173,\"\")","v":""},null,{"$f":"IF(W174<>\"\",SUM($AI$6:AI174)/10,\"\")","v":""},null,{"$f":"IF(Y174>0,+Y174/Daten!$I$18^2,\"\")","v":""},null,null,0,{"$f":"IF(WEEKDAY(A174)=1,IF(E174=1,VLOOKUP(AE174,Daten!$C$49:$D$102,2),\" \"),\"\")","v":""},12,0,0,0,""]
[{"$f":"+A174","v":"2021-03-26"},3,"1900-01-06",2,2,null,null,":",null,":",null," "," ","",null,null,0,"",null,null,"",{"$f":"IF(+Radelkal!F174>0,+Radelkal!F174,\"\")","v":""},null,{"$f":"IF(W175<>\"\",SUM($AI$6:AI175)/10,\"\")","v":""},null,{"$f":"IF(Y175>0,+Y175/Daten!$I$18^2,\"\")","v":""},null,null,0,{"$f":"IF(WEEKDAY(A175)=1,IF(E175=1,VLOOKUP(AE175,Daten!$C$49:$D$102,2),\" \"),\"\")","v":""},12,0,0,0,""]
[{"$f":"+A174+1","v":"2021-03-27"},3,"1900-01-07",1,0,null,null,":",null,":",null," "," ","",null,null,0,"",null,null,"",{"$f":"IF(+Radelkal!F175>0,+Radelkal!F175,\"\")","v":""},null,{"$f":"IF(W176<>\"\",SUM($AI$6:AI176)/10,\"\")","v":""},null,{"$f":"IF(Y176>0,+Y176/Daten!$I$18^2,\"\")","v":""},null,null,0,{"$f":"IF(WEEKDAY(A176)=1,IF(E176=1,VLOOKUP(AE176,Daten!$C$49:$D$102,2),\" \"),\"\")","v":""},12,0,0,0,""]
[{"$f":"+A176","v":"2021-03-27"},3,"1900-01-07",2,2,null,null,":",null,":",null," "," ","",null,null,0,"",null,null,"",{"$f":"IF(+Radelkal!F176>0,+Radelkal!F176,\"\")","v":""},null,{"$f":"IF(W177<>\"\",SUM($AI$6:AI177)/10,\"\")","v":""},null,{"$f":"IF(Y177>0,+Y177/Daten!$I$18^2,\"\")","v":""},null,null,0,{"$f":"IF(WEEKDAY(A177)=1,IF(E177=1,VLOOKUP(AE177,Daten!$C$49:$D$102,2),\" \"),\"\")","v":""},12,0,0,0,""]
[{"$f":"+A176+1","v":"2021-03-28"},3,"1900-01-01",1,0,null,null,":",null,":",null," "," ","",null,null,0,"",null,null,"",{"$f":"IF(+Radelkal!F177>0,+Radelkal!F177,\"\")","v":""},null,{"$f":"IF(W178<>\"\",SUM($AI$6:AI178)/10,\"\")","v":""},null,{"$f":"IF(Y178>0,+Y178/Daten!$I$18^2,\"\")","v":""},null,null,0,{"$f":"IF(WEEKDAY(A178)=1,IF(E178=1,VLOOKUP(AE178,Daten!$C$49:$D$102,2),\" \"),\"\")","v":" "},12,0,0,0,""]
[{"$f":"+A178","v":"2021-03-28"},3,"1900-01-01",2,1,null,null,":",null,":",null," "," ","",null,null,0,"",null,null,"",{"$f":"IF(+Radelkal!F178>0,+Radelkal!F178,\"\")","v":""},null,{"$f":"IF(W179<>\"\",SUM($AI$6:AI179)/10,\"\")","v":""},null,{"$f":"IF(Y179>0,+Y179/Daten!$I$18^2,\"\")","v":""},null,null,0,{"$f":"IF(WEEKDAY(A179)=1,IF(E179=1,VLOOKUP(AE179,Daten!$C$49:$D$102,2),\" \"),\"\")","v":0},12,0,0,0,""]
[{"$f":"+A178+1","v":"2021-03-29"},3,"1900-01-02",1,0,null,null,":",null,":",null," "," ","",null,null,0,"",null,null,"",{"$f":"IF(+Radelkal!F179>0,+Radelkal!F179,\"\")","v":""},null,{"$f":"IF(W180<>\"\",SUM($AI$6:AI180)/10,\"\")","v":""},null,{"$f":"IF(Y180>0,+Y180/Daten!$I$18^2,\"\")","v":""},null,null,0,{"$f":"IF(WEEKDAY(A180)=1,IF(E180=1,VLOOKUP(AE180,Daten!$C$49:$D$102,2),\" \"),\"\")","v":""},13,0,0,0,""]
[{"$f":"+A180","v":"2021-03-29"},3,"1900-01-02",2,2,null,null,":",null,":",null," "," ","",null,null,0,"",null,null,"",{"$f":"IF(+Radelkal!F180>0,+Radelkal!F180,\"\")","v":""},null,{"$f":"IF(W181<>\"\",SUM($AI$6:AI181)/10,\"\")","v":""},null,{"$f":"IF(Y181>0,+Y181/Daten!$I$18^2,\"\")","v":""},null,null,0,{"$f":"IF(WEEKDAY(A181)=1,IF(E181=1,VLOOKUP(AE181,Daten!$C$49:$D$102,2),\" \"),\"\")","v":""},13,0,0,0,""]
[{"$f":"+A180+1","v":"2021-03-30"},3,"1900-01-03",1,0,null,null,":",null,":",null," "," ","",null,null,0,"",null,null,"",{"$f":"IF(+Radelkal!F181>0,+Radelkal!F181,\"\")","v":""},null,{"$f":"IF(W182<>\"\",SUM($AI$6:AI182)/10,\"\")","v":""},null,{"$f":"IF(Y182>0,+Y182/Daten!$I$18^2,\"\")","v":""},null,null,0,{"$f":"IF(WEEKDAY(A182)=1,IF(E182=1,VLOOKUP(AE182,Daten!$C$49:$D$102,2),\" \"),\"\")","v":""},13,0,0,0,""]
[{"$f":"+A182","v":"2021-03-30"},3,"1900-01-03",2,2,null,null,":",null,":",null," "," ","",null,null,0,"",null,null,"",{"$f":"IF(+Radelkal!F182>0,+Radelkal!F182,\"\")","v":""},null,{"$f":"IF(W183<>\"\",SUM($AI$6:AI183)/10,\"\")","v":""},null,{"$f":"IF(Y183>0,+Y183/Daten!$I$18^2,\"\")","v":""},null,null,0,{"$f":"IF(WEEKDAY(A183)=1,IF(E183=1,VLOOKUP(AE183,Daten!$C$49:$D$102,2),\" \"),\"\")","v":""},13,0,0,0,""]
[{"$f":"+A182+1","v":"2021-03-31"},3,"1900-01-04",1,0,null,null,":",null,":",null," "," ","",null,null,0,"",null,null,"",{"$f":"IF(+Radelkal!F183>0,+Radelkal!F183,\"\")","v":""},null,{"$f":"IF(W184<>\"\",SUM($AI$6:AI184)/10,\"\")","v":""},null,{"$f":"IF(Y184>0,+Y184/Daten!$I$18^2,\"\")","v":""},null,null,0,{"$f":"IF(WEEKDAY(A184)=1,IF(E184=1,VLOOKUP(AE184,Daten!$C$49:$D$102,2),\" \"),\"\")","v":""},13,0,0,0,""]
[{"$f":"+A184","v":"2021-03-31"},3,"1900-01-04",2,2,null,null,":",null,":",null," "," ","",null,null,0,"",null,null,"",{"$f":"IF(+Radelkal!F184>0,+Radelkal!F184,\"\")","v":""},null,{"$f":"IF(W185<>\"\",SUM($AI$6:AI185)/10,\"\")","v":""},null,{"$f":"IF(Y185>0,+Y185/Daten!$I$18^2,\"\")","v":""},null,null,0,{"$f":"IF(WEEKDAY(A185)=1,IF(E185=1,VLOOKUP(AE185,Daten!$C$49:$D$102,2),\" \"),\"\")","v":""},13,0,0,0,""]
[{"$f":"+A184+1","v":"2021-04-01"},4,"1900-01-05",1,0,null,null,":",null,":",null," "," ","",null,null,0,"",null,null,"",{"$f":"IF(+Radelkal!F185>0,+Radelkal!F185,\"\")","v":""},null,{"$f":"IF(W186<>\"\",SUM($AI$6:AI186)/10,\"\")","v":""},null,{"$f":"IF(Y186>0,+Y186/Daten!$I$18^2,\"\")","v":""},null,null,0,{"$f":"IF(WEEKDAY(A186)=1,IF(E186=1,VLOOKUP(AE186,Daten!$C$49:$D$102,2),\" \"),\"\")","v":""},13,0,0,0,""]
[{"$f":"+A186","v":"2021-04-01"},4,"1900-01-05",2,2,null,null,":",null,":",null," "," ","",null,null,0,"",null,null,"",{"$f":"IF(+Radelkal!F186>0,+Radelkal!F186,\"\")","v":""},null,{"$f":"IF(W187<>\"\",SUM($AI$6:AI187)/10,\"\")","v":""},null,{"$f":"IF(Y187>0,+Y187/Daten!$I$18^2,\"\")","v":""},null,null,0,{"$f":"IF(WEEKDAY(A187)=1,IF(E187=1,VLOOKUP(AE187,Daten!$C$49:$D$102,2),\" \"),\"\")","v":""},13,0,0,0,""]
[{"$f":"+A186+1","v":"2021-04-02"},4,"1900-01-06",1,0,null,null,":",null,":",null," "," ","",null,null,0,"",null,null,"",{"$f":"IF(+Radelkal!F187>0,+Radelkal!F187,\"\")","v":""},null,{"$f":"IF(W188<>\"\",SUM($AI$6:AI188)/10,\"\")","v":""},null,{"$f":"IF(Y188>0,+Y188/Daten!$I$18^2,\"\")","v":""},null,null,0,{"$f":"IF(WEEKDAY(A188)=1,IF(E188=1,VLOOKUP(AE188,Daten!$C$49:$D$102,2),\" \"),\"\")","v":""},13,0,0,0,""]
[{"$f":"+A188","v":"2021-04-02"},4,"1900-01-06",2,2,null,null,":",null,":",null," "," ","",null,null,0,"",null,null,"",{"$f":"IF(+Radelkal!F188>0,+Radelkal!F188,\"\")","v":""},null,{"$f":"IF(W189<>\"\",SUM($AI$6:AI189)/10,\"\")","v":""},null,{"$f":"IF(Y189>0,+Y189/Daten!$I$18^2,\"\")","v":""},null,null,0,{"$f":"IF(WEEKDAY(A189)=1,IF(E189=1,VLOOKUP(AE189,Daten!$C$49:$D$102,2),\" \"),\"\")","v":""},13,0,0,0,""]
[{"$f":"+A188+1","v":"2021-04-03"},4,"1900-01-07",1,0,null,null,":",null,":",null," "," ","",null,null,0,"",null,null,"",{"$f":"IF(+Radelkal!F189>0,+Radelkal!F189,\"\")","v":""},null,{"$f":"IF(W190<>\"\",SUM($AI$6:AI190)/10,\"\")","v":""},null,{"$f":"IF(Y190>0,+Y190/Daten!$I$18^2,\"\")","v":""},null,null,0,{"$f":"IF(WEEKDAY(A190)=1,IF(E190=1,VLOOKUP(AE190,Daten!$C$49:$D$102,2),\" \"),\"\")","v":""},13,0,0,0,""]
[{"$f":"+A190","v":"2021-04-03"},4,"1900-01-07",2,2,null,null,":",null,":",null," "," ","",null,null,0,"",null,null,"",{"$f":"IF(+Radelkal!F190>0,+Radelkal!F190,\"\")","v":""},null,{"$f":"IF(W191<>\"\",SUM($AI$6:AI191)/10,\"\")","v":""},null,{"$f":"IF(Y191>0,+Y191/Daten!$I$18^2,\"\")","v":""},null,null,0,{"$f":"IF(WEEKDAY(A191)=1,IF(E191=1,VLOOKUP(AE191,Daten!$C$49:$D$102,2),\" \"),\"\")","v":""},13,0,0,0,""]
[{"$f":"+A190+1","v":"2021-04-04"},4,"1900-01-01",1,0,null,null,":",null,":",null," "," ","",null,null,0,"",null,null,"",{"$f":"IF(+Radelkal!F191>0,+Radelkal!F191,\"\")","v":""},null,{"$f":"IF(W192<>\"\",SUM($AI$6:AI192)/10,\"\")","v":""},null,{"$f":"IF(Y192>0,+Y192/Daten!$I$18^2,\"\")","v":""},null,null,0,{"$f":"IF(WEEKDAY(A192)=1,IF(E192=1,VLOOKUP(AE192,Daten!$C$49:$D$102,2),\" \"),\"\")","v":" "},13,0,0,0,""]
[{"$f":"+A192","v":"2021-04-04"},4,"1900-01-01",2,1,null,null,":",null,":",null," "," ","",null,null,0,"",null,null,"",{"$f":"IF(+Radelkal!F192>0,+Radelkal!F192,\"\")","v":""},null,{"$f":"IF(W193<>\"\",SUM($AI$6:AI193)/10,\"\")","v":""},null,{"$f":"IF(Y193>0,+Y193/Daten!$I$18^2,\"\")","v":""},null,null,0,{"$f":"IF(WEEKDAY(A193)=1,IF(E193=1,VLOOKUP(AE193,Daten!$C$49:$D$102,2),\" \"),\"\")","v":0},13,0,0,0,""]
[{"$f":"+A192+1","v":"2021-04-05"},4,"1900-01-02",1,0,null,null,":",null,":",null," "," ","",null,null,0,"",null,null,"",{"$f":"IF(+Radelkal!F193>0,+Radelkal!F193,\"\")","v":""},null,{"$f":"IF(W194<>\"\",SUM($AI$6:AI194)/10,\"\")","v":""},null,{"$f":"IF(Y194>0,+Y194/Daten!$I$18^2,\"\")","v":""},null,null,0,{"$f":"IF(WEEKDAY(A194)=1,IF(E194=1,VLOOKUP(AE194,Daten!$C$49:$D$102,2),\" \"),\"\")","v":""},14,0,0,0,""]
[{"$f":"+A194","v":"2021-04-05"},4,"1900-01-02",2,2,null,null,":",null,":",null," "," ","",null,null,0,"",null,null,"",{"$f":"IF(+Radelkal!F194>0,+Radelkal!F194,\"\")","v":""},null,{"$f":"IF(W195<>\"\",SUM($AI$6:AI195)/10,\"\")","v":""},null,{"$f":"IF(Y195>0,+Y195/Daten!$I$18^2,\"\")","v":""},null,null,0,{"$f":"IF(WEEKDAY(A195)=1,IF(E195=1,VLOOKUP(AE195,Daten!$C$49:$D$102,2),\" \"),\"\")","v":""},14,0,0,0,""]
[{"$f":"+A194+1","v":"2021-04-06"},4,"1900-01-03",1,0,null,null,":",null,":",null," "," ","",null,null,0,"",null,null,"",{"$f":"IF(+Radelkal!F195>0,+Radelkal!F195,\"\")","v":""},null,{"$f":"IF(W196<>\"\",SUM($AI$6:AI196)/10,\"\")","v":""},null,{"$f":"IF(Y196>0,+Y196/Daten!$I$18^2,\"\")","v":""},null,null,0,{"$f":"IF(WEEKDAY(A196)=1,IF(E196=1,VLOOKUP(AE196,Daten!$C$49:$D$102,2),\" \"),\"\")","v":""},14,0,0,0,""]
[{"$f":"+A196","v":"2021-04-06"},4,"1900-01-03",2,2,null,null,":",null,":",null," "," ","",null,null,0,"",null,null,{"$f":"IF(COUNTBLANK(T197)=1,\"\",IF(T197=\"10\",\"0\",10-T197))","v":""},{"$f":"IF(+Radelkal!F196>0,+Radelkal!F196,\"\")","v":""},null,{"$f":"IF(W197<>\"\",SUM($AI$6:AI197)/10,\"\")","v":""},null,{"$f":"IF(Y197>0,+Y197/Daten!$I$18^2,\"\")","v":""},null,null,0,{"$f":"IF(WEEKDAY(A197)=1,IF(E197=1,VLOOKUP(AE197,Daten!$C$49:$D$102,2),\" \"),\"\")","v":""},14,0,0,0,""]
[{"$f":"+A196+1","v":"2021-04-07"},4,"1900-01-04",1,0,null,null,":",null,":",null," "," ","",null,null,{"$f":"IF(maxhf<100,0,IF(ISBLANK(P198)=\"WAHR\",P198,P198/maxhf)*100)","v":0},{"$f":"IF(F198>0,IF(P198>0,+F198*(F198*1000/(G198*60+I198+K198/60))/(maxhf-P198)*(maxhf/220),\"\"),\"\")","v":""},null,null,"",{"$f":"IF(+Radelkal!F197>0,+Radelkal!F197,\"\")","v":""},null,{"$f":"IF(W198<>\"\",SUM($AI$6:AI198)/10,\"\")","v":""},null,{"$f":"IF(Y198>0,+Y198/Daten!$I$18^2,\"\")","v":""},null,null,0,{"$f":"IF(WEEKDAY(A198)=1,IF(E198=1,VLOOKUP(AE198,Daten!$C$49:$D$102,2),\" \"),\"\")","v":""},14,0,0,0,""]
[{"$f":"+A198","v":"2021-04-07"},{"$f":"MONTH(A199)","v":4},{"$f":"WEEKDAY(A199)","v":"1900-01-04"},2,{"$f":"IF(D199=2,IF(C199=1,1,2),0)","v":2},null,null,":",null,":",null,{"$f":"IF((+G199*60+I199+K199/60)>0,G199*60+I199+K199/60,\" \")","v":" "},{"$f":"IF(+F199>0,+L199/F199/24/60,\" \")","v":" "},{"$f":"IF(F199>0,+F199/(L199/60),\"\")","v":""},null,null,0,"",null,null,"",{"$f":"IF(+Radelkal!F198>0,+Radelkal!F198,\"\")","v":""},null,{"$f":"IF(W199<>\"\",SUM($AI$6:AI199)/10,\"\")","v":""},null,{"$f":"IF(Y199>0,+Y199/Daten!$I$18^2,\"\")","v":""},null,null,0,{"$f":"IF(WEEKDAY(A199)=1,IF(E199=1,VLOOKUP(AE199,Daten!$C$49:$D$102,2),\" \"),\"\")","v":""},14,{"$f":"IF(F199>0,IF(D199=2,IF((AB198+AB199)>0,1,0),0),0)","v":0},{"$f":"+T199/10*F199","v":0},{"$f":"IF(COUNTBLANK(T199)=1,0,+U199/10*F199)","v":0},{"$f":"IF(W199<>\"\",10,\"\")","v":""}]
[{"$f":"+A198+1","v":"2021-04-08"},4,"1900-01-05",1,0,null,null,":",null,":",null," "," ","",null,null,0,"",null,null,"",{"$f":"IF(+Radelkal!F199>0,+Radelkal!F199,\"\")","v":""},null,{"$f":"IF(W200<>\"\",SUM($AI$6:AI200)/10,\"\")","v":""},null,{"$f":"IF(Y200>0,+Y200/Daten!$I$18^2,\"\")","v":""},null,null,{"$f":"IF(D200=2,+F200+F199,0)","v":0},{"$f":"IF(WEEKDAY(A200)=1,IF(E200=1,VLOOKUP(AE200,Daten!$C$49:$D$102,2),\" \"),\"\")","v":""},{"$f":"IF(WEEKDAY(A200)=2,IF(D200=1,AE199+1,AE199),AE199)","v":14},0,0,0,""]
[{"$f":"+A200","v":"2021-04-08"},4,"1900-01-05",2,2,null,null,":",null,":",null," "," ","",null,null,0,"",null,null,"",{"$f":"IF(+Radelkal!F200>0,+Radelkal!F200,\"\")","v":""},null,{"$f":"IF(W201<>\"\",SUM($AI$6:AI201)/10,\"\")","v":""},null,{"$f":"IF(Y201>0,+Y201/Daten!$I$18^2,\"\")","v":""},null,null,0,{"$f":"IF(WEEKDAY(A201)=1,IF(E201=1,VLOOKUP(AE201,Daten!$C$49:$D$102,2),\" \"),\"\")","v":""},14,0,0,0,""]
[{"$f":"+A200+1","v":"2021-04-09"},4,"1900-01-06",1,0,null,null,":",null,":",null," "," ","",null,null,0,"",null,null,"",{"$f":"IF(+Radelkal!F201>0,+Radelkal!F201,\"\")","v":""},null,{"$f":"IF(W202<>\"\",SUM($AI$6:AI202)/10,\"\")","v":""},null,{"$f":"IF(Y202>0,+Y202/Daten!$I$18^2,\"\")","v":""},null,null,0,{"$f":"IF(WEEKDAY(A202)=1,IF(E202=1,VLOOKUP(AE202,Daten!$C$49:$D$102,2),\" \"),\"\")","v":""},14,0,0,0,""]
[{"$f":"+A202","v":"2021-04-09"},4,"1900-01-06",2,2,null,null,":",null,":",null," "," ","",null,null,0,"",null,null,"",{"$f":"IF(+Radelkal!F202>0,+Radelkal!F202,\"\")","v":""},null,{"$f":"IF(W203<>\"\",SUM($AI$6:AI203)/10,\"\")","v":""},null,{"$f":"IF(Y203>0,+Y203/Daten!$I$18^2,\"\")","v":""},null,null,0,{"$f":"IF(WEEKDAY(A203)=1,IF(E203=1,VLOOKUP(AE203,Daten!$C$49:$D$102,2),\" \"),\"\")","v":""},14,0,0,0,""]
[{"$f":"+A202+1","v":"2021-04-10"},4,"1900-01-07",1,0,null,null,":",null,":",null," "," ","",null,null,0,"",null,null,"",{"$f":"IF(+Radelkal!F203>0,+Radelkal!F203,\"\")","v":""},null,{"$f":"IF(W204<>\"\",SUM($AI$6:AI204)/10,\"\")","v":""},null,{"$f":"IF(Y204>0,+Y204/Daten!$I$18^2,\"\")","v":""},null,null,0,{"$f":"IF(WEEKDAY(A204)=1,IF(E204=1,VLOOKUP(AE204,Daten!$C$49:$D$102,2),\" \"),\"\")","v":""},14,0,0,0,""]
[{"$f":"+A204","v":"2021-04-10"},4,"1900-01-07",2,2,null,null,":",null,":",null," "," ","",null,null,0,"",null,null,"",{"$f":"IF(+Radelkal!F204>0,+Radelkal!F204,\"\")","v":""},null,{"$f":"IF(W205<>\"\",SUM($AI$6:AI205)/10,\"\")","v":""},null,{"$f":"IF(Y205>0,+Y205/Daten!$I$18^2,\"\")","v":""},null,null,0,{"$f":"IF(WEEKDAY(A205)=1,IF(E205=1,VLOOKUP(AE205,Daten!$C$49:$D$102,2),\" \"),\"\")","v":""},14,0,0,0,""]
[{"$f":"+A204+1","v":"2021-04-11"},4,"1900-01-01",1,0,null,null,":",null,":",null," "," ","",null,null,0,"",null,null,"",{"$f":"IF(+Radelkal!F205>0,+Radelkal!F205,\"\")","v":""},null,{"$f":"IF(W206<>\"\",SUM($AI$6:AI206)/10,\"\")","v":""},null,{"$f":"IF(Y206>0,+Y206/Daten!$I$18^2,\"\")","v":""},null,null,0,{"$f":"IF(WEEKDAY(A206)=1,IF(E206=1,VLOOKUP(AE206,Daten!$C$49:$D$102,2),\" \"),\"\")","v":" "},14,0,0,0,""]
[{"$f":"+A206","v":"2021-04-11"},4,"1900-01-01",2,1,null,null,":",null,":",null," "," ","",null,null,0,"",null,null,"",{"$f":"IF(+Radelkal!F206>0,+Radelkal!F206,\"\")","v":""},null,{"$f":"IF(W207<>\"\",SUM($AI$6:AI207)/10,\"\")","v":""},null,{"$f":"IF(Y207>0,+Y207/Daten!$I$18^2,\"\")","v":""},null,null,0,{"$f":"IF(WEEKDAY(A207)=1,IF(E207=1,VLOOKUP(AE207,Daten!$C$49:$D$102,2),\" \"),\"\")","v":0},14,0,0,0,""]
[{"$f":"+A206+1","v":"2021-04-12"},4,"1900-01-02",1,0,null,null,":",null,":",null," "," ","",null,null,0,"",null,null,"",{"$f":"IF(+Radelkal!F207>0,+Radelkal!F207,\"\")","v":""},null,{"$f":"IF(W208<>\"\",SUM($AI$6:AI208)/10,\"\")","v":""},null,{"$f":"IF(Y208>0,+Y208/Daten!$I$18^2,\"\")","v":""},null,null,0,{"$f":"IF(WEEKDAY(A208)=1,IF(E208=1,VLOOKUP(AE208,Daten!$C$49:$D$102,2),\" \"),\"\")","v":""},15,0,0,0,""]
[{"$f":"+A208","v":"2021-04-12"},4,"1900-01-02",2,2,null,null,":",null,":",null," "," ","",null,null,0,"",null,null,"",{"$f":"IF(+Radelkal!F208>0,+Radelkal!F208,\"\")","v":""},null,{"$f":"IF(W209<>\"\",SUM($AI$6:AI209)/10,\"\")","v":""},null,{"$f":"IF(Y209>0,+Y209/Daten!$I$18^2,\"\")","v":""},null,null,0,{"$f":"IF(WEEKDAY(A209)=1,IF(E209=1,VLOOKUP(AE209,Daten!$C$49:$D$102,2),\" \"),\"\")","v":""},15,0,0,0,""]
[{"$f":"+A208+1","v":"2021-04-13"},4,"1900-01-03",1,0,null,null,":",null,":",null," "," ","",null,null,0,"",null,null,"",{"$f":"IF(+Radelkal!F209>0,+Radelkal!F209,\"\")","v":""},null,{"$f":"IF(W210<>\"\",SUM($AI$6:AI210)/10,\"\")","v":""},null,{"$f":"IF(Y210>0,+Y210/Daten!$I$18^2,\"\")","v":""},null,null,0,{"$f":"IF(WEEKDAY(A210)=1,IF(E210=1,VLOOKUP(AE210,Daten!$C$49:$D$102,2),\" \"),\"\")","v":""},15,0,0,0,""]
[{"$f":"+A210","v":"2021-04-13"},4,"1900-01-03",2,2,null,null,":",null,":",null," "," ","",null,null,0,"",null,null,"",{"$f":"IF(+Radelkal!F210>0,+Radelkal!F210,\"\")","v":""},null,{"$f":"IF(W211<>\"\",SUM($AI$6:AI211)/10,\"\")","v":""},null,{"$f":"IF(Y211>0,+Y211/Daten!$I$18^2,\"\")","v":""},null,null,0,{"$f":"IF(WEEKDAY(A211)=1,IF(E211=1,VLOOKUP(AE211,Daten!$C$49:$D$102,2),\" \"),\"\")","v":""},15,0,0,0,""]
[{"$f":"+A210+1","v":"2021-04-14"},4,"1900-01-04",1,0,null,null,":",null,":",null," "," ","",null,null,0,"",null,null,"",{"$f":"IF(+Radelkal!F211>0,+Radelkal!F211,\"\")","v":""},null,{"$f":"IF(W212<>\"\",SUM($AI$6:AI212)/10,\"\")","v":""},null,{"$f":"IF(Y212>0,+Y212/Daten!$I$18^2,\"\")","v":""},null,null,0,{"$f":"IF(WEEKDAY(A212)=1,IF(E212=1,VLOOKUP(AE212,Daten!$C$49:$D$102,2),\" \"),\"\")","v":""},15,0,0,0,""]
[{"$f":"+A212","v":"2021-04-14"},4,"1900-01-04",2,2,null,null,":",null,":",null," "," ","",null,null,0,"",null,null,"",{"$f":"IF(+Radelkal!F212>0,+Radelkal!F212,\"\")","v":""},null,{"$f":"IF(W213<>\"\",SUM($AI$6:AI213)/10,\"\")","v":""},null,{"$f":"IF(Y213>0,+Y213/Daten!$I$18^2,\"\")","v":""},null,null,0,{"$f":"IF(WEEKDAY(A213)=1,IF(E213=1,VLOOKUP(AE213,Daten!$C$49:$D$102,2),\" \"),\"\")","v":""},15,0,0,0,""]
[{"$f":"+A212+1","v":"2021-04-15"},4,"1900-01-05",1,0,null,null,":",null,":",null," "," ","",null,null,0,"",null,null,"",{"$f":"IF(+Radelkal!F213>0,+Radelkal!F213,\"\")","v":""},null,{"$f":"IF(W214<>\"\",SUM($AI$6:AI214)/10,\"\")","v":""},null,{"$f":"IF(Y214>0,+Y214/Daten!$I$18^2,\"\")","v":""},null,null,0,{"$f":"IF(WEEKDAY(A214)=1,IF(E214=1,VLOOKUP(AE214,Daten!$C$49:$D$102,2),\" \"),\"\")","v":""},15,0,0,0,""]
[{"$f":"+A214","v":"2021-04-15"},4,"1900-01-05",2,2,null,null,":",null,":",null," "," ","",null,null,0,"",null,null,"",{"$f":"IF(+Radelkal!F214>0,+Radelkal!F214,\"\")","v":""},null,{"$f":"IF(W215<>\"\",SUM($AI$6:AI215)/10,\"\")","v":""},null,{"$f":"IF(Y215>0,+Y215/Daten!$I$18^2,\"\")","v":""},null,null,0,{"$f":"IF(WEEKDAY(A215)=1,IF(E215=1,VLOOKUP(AE215,Daten!$C$49:$D$102,2),\" \"),\"\")","v":""},15,0,0,0,""]
[{"$f":"+A214+1","v":"2021-04-16"},4,"1900-01-06",1,0,null,null,":",null,":",null," "," ","",null,null,0,"",null,null,"",{"$f":"IF(+Radelkal!F215>0,+Radelkal!F215,\"\")","v":""},null,{"$f":"IF(W216<>\"\",SUM($AI$6:AI216)/10,\"\")","v":""},null,{"$f":"IF(Y216>0,+Y216/Daten!$I$18^2,\"\")","v":""},null,null,0,{"$f":"IF(WEEKDAY(A216)=1,IF(E216=1,VLOOKUP(AE216,Daten!$C$49:$D$102,2),\" \"),\"\")","v":""},15,0,0,0,""]
[{"$f":"+A216","v":"2021-04-16"},4,"1900-01-06",2,2,null,null,":",null,":",null," "," ","",null,null,0,"",null,null,"",{"$f":"IF(+Radelkal!F216>0,+Radelkal!F216,\"\")","v":""},null,{"$f":"IF(W217<>\"\",SUM($AI$6:AI217)/10,\"\")","v":""},null,{"$f":"IF(Y217>0,+Y217/Daten!$I$18^2,\"\")","v":""},null,null,0,{"$f":"IF(WEEKDAY(A217)=1,IF(E217=1,VLOOKUP(AE217,Daten!$C$49:$D$102,2),\" \"),\"\")","v":""},15,0,0,0,""]
[{"$f":"+A216+1","v":"2021-04-17"},4,"1900-01-07",1,0,null,null,":",null,":",null," "," ","",null,null,0,"",null,null,"",{"$f":"IF(+Radelkal!F217>0,+Radelkal!F217,\"\")","v":""},null,{"$f":"IF(W218<>\"\",SUM($AI$6:AI218)/10,\"\")","v":""},null,{"$f":"IF(Y218>0,+Y218/Daten!$I$18^2,\"\")","v":""},null,null,0,{"$f":"IF(WEEKDAY(A218)=1,IF(E218=1,VLOOKUP(AE218,Daten!$C$49:$D$102,2),\" \"),\"\")","v":""},15,0,0,0,""]
[{"$f":"+A218","v":"2021-04-17"},4,"1900-01-07",2,2,null,null,":",null,":",null," "," ","",null,null,0,"",null,null,"",{"$f":"IF(+Radelkal!F218>0,+Radelkal!F218,\"\")","v":""},null,{"$f":"IF(W219<>\"\",SUM($AI$6:AI219)/10,\"\")","v":""},null,{"$f":"IF(Y219>0,+Y219/Daten!$I$18^2,\"\")","v":""},null,null,0,{"$f":"IF(WEEKDAY(A219)=1,IF(E219=1,VLOOKUP(AE219,Daten!$C$49:$D$102,2),\" \"),\"\")","v":""},15,0,0,0,""]
[{"$f":"+A218+1","v":"2021-04-18"},4,"1900-01-01",1,0,null,null,":",null,":",null," "," ","",null,null,0,"",null,null,"",{"$f":"IF(+Radelkal!F219>0,+Radelkal!F219,\"\")","v":""},null,{"$f":"IF(W220<>\"\",SUM($AI$6:AI220)/10,\"\")","v":""},null,{"$f":"IF(Y220>0,+Y220/Daten!$I$18^2,\"\")","v":""},null,null,0,{"$f":"IF(WEEKDAY(A220)=1,IF(E220=1,VLOOKUP(AE220,Daten!$C$49:$D$102,2),\" \"),\"\")","v":" "},15,0,0,0,""]
[{"$f":"+A220","v":"2021-04-18"},4,"1900-01-01",2,1,null,null,":",null,":",null," "," ","",null,null,0,"",null,null,"",{"$f":"IF(+Radelkal!F220>0,+Radelkal!F220,\"\")","v":""},null,{"$f":"IF(W221<>\"\",SUM($AI$6:AI221)/10,\"\")","v":""},null,{"$f":"IF(Y221>0,+Y221/Daten!$I$18^2,\"\")","v":""},null,null,0,{"$f":"IF(WEEKDAY(A221)=1,IF(E221=1,VLOOKUP(AE221,Daten!$C$49:$D$102,2),\" \"),\"\")","v":0},15,0,0,0,""]
[{"$f":"+A220+1","v":"2021-04-19"},4,"1900-01-02",1,0,null,null,":",null,":",null," "," ","",null,null,0,"",null,null,"",{"$f":"IF(+Radelkal!F221>0,+Radelkal!F221,\"\")","v":""},null,{"$f":"IF(W222<>\"\",SUM($AI$6:AI222)/10,\"\")","v":""},null,{"$f":"IF(Y222>0,+Y222/Daten!$I$18^2,\"\")","v":""},null,null,0,{"$f":"IF(WEEKDAY(A222)=1,IF(E222=1,VLOOKUP(AE222,Daten!$C$49:$D$102,2),\" \"),\"\")","v":""},16,0,0,0,""]
[{"$f":"+A222","v":"2021-04-19"},4,"1900-01-02",2,2,null,null,":",null,":",null," "," ","",null,null,0,"",null,null,"",{"$f":"IF(+Radelkal!F222>0,+Radelkal!F222,\"\")","v":""},null,{"$f":"IF(W223<>\"\",SUM($AI$6:AI223)/10,\"\")","v":""},null,{"$f":"IF(Y223>0,+Y223/Daten!$I$18^2,\"\")","v":""},null,null,0,{"$f":"IF(WEEKDAY(A223)=1,IF(E223=1,VLOOKUP(AE223,Daten!$C$49:$D$102,2),\" \"),\"\")","v":""},16,0,0,0,""]
[{"$f":"+A222+1","v":"2021-04-20"},4,"1900-01-03",1,0,null,null,":",null,":",null," "," ","",null,null,0,"",null,null,"",{"$f":"IF(+Radelkal!F223>0,+Radelkal!F223,\"\")","v":""},null,{"$f":"IF(W224<>\"\",SUM($AI$6:AI224)/10,\"\")","v":""},null,{"$f":"IF(Y224>0,+Y224/Daten!$I$18^2,\"\")","v":""},null,null,0,{"$f":"IF(WEEKDAY(A224)=1,IF(E224=1,VLOOKUP(AE224,Daten!$C$49:$D$102,2),\" \"),\"\")","v":""},16,0,0,0,""]
[{"$f":"+A224","v":"2021-04-20"},4,"1900-01-03",2,2,null,null,":",null,":",null," "," ","",null,null,0,"",null,null,"",{"$f":"IF(+Radelkal!F224>0,+Radelkal!F224,\"\")","v":""},null,{"$f":"IF(W225<>\"\",SUM($AI$6:AI225)/10,\"\")","v":""},null,{"$f":"IF(Y225>0,+Y225/Daten!$I$18^2,\"\")","v":""},null,null,0,{"$f":"IF(WEEKDAY(A225)=1,IF(E225=1,VLOOKUP(AE225,Daten!$C$49:$D$102,2),\" \"),\"\")","v":""},16,0,0,0,""]
[{"$f":"+A224+1","v":"2021-04-21"},4,"1900-01-04",1,0,null,null,":",null,":",null," "," ","",null,null,0,"",null,null,"",{"$f":"IF(+Radelkal!F225>0,+Radelkal!F225,\"\")","v":""},null,{"$f":"IF(W226<>\"\",SUM($AI$6:AI226)/10,\"\")","v":""},null,{"$f":"IF(Y226>0,+Y226/Daten!$I$18^2,\"\")","v":""},null,null,0,{"$f":"IF(WEEKDAY(A226)=1,IF(E226=1,VLOOKUP(AE226,Daten!$C$49:$D$102,2),\" \"),\"\")","v":""},16,0,0,0,""]
[{"$f":"+A226","v":"2021-04-21"},4,"1900-01-04",2,2,null,null,":",null,":",null," "," ","",null,null,0,"",null,null,"",{"$f":"IF(+Radelkal!F226>0,+Radelkal!F226,\"\")","v":""},null,{"$f":"IF(W227<>\"\",SUM($AI$6:AI227)/10,\"\")","v":""},null,{"$f":"IF(Y227>0,+Y227/Daten!$I$18^2,\"\")","v":""},null,null,0,{"$f":"IF(WEEKDAY(A227)=1,IF(E227=1,VLOOKUP(AE227,Daten!$C$49:$D$102,2),\" \"),\"\")","v":""},16,0,0,0,""]
[{"$f":"+A226+1","v":"2021-04-22"},4,"1900-01-05",1,0,null,null,":",null,":",null," "," ","",null,null,0,"",null,null,"",{"$f":"IF(+Radelkal!F227>0,+Radelkal!F227,\"\")","v":""},null,{"$f":"IF(W228<>\"\",SUM($AI$6:AI228)/10,\"\")","v":""},null,{"$f":"IF(Y228>0,+Y228/Daten!$I$18^2,\"\")","v":""},null,null,0,{"$f":"IF(WEEKDAY(A228)=1,IF(E228=1,VLOOKUP(AE228,Daten!$C$49:$D$102,2),\" \"),\"\")","v":""},16,0,0,0,""]
[{"$f":"+A228","v":"2021-04-22"},4,"1900-01-05",2,2,null,null,":",null,":",null," "," ","",null,null,0,"",null,null,"",{"$f":"IF(+Radelkal!F228>0,+Radelkal!F228,\"\")","v":""},null,{"$f":"IF(W229<>\"\",SUM($AI$6:AI229)/10,\"\")","v":""},null,{"$f":"IF(Y229>0,+Y229/Daten!$I$18^2,\"\")","v":""},null,null,0,{"$f":"IF(WEEKDAY(A229)=1,IF(E229=1,VLOOKUP(AE229,Daten!$C$49:$D$102,2),\" \"),\"\")","v":""},16,0,0,0,""]
[{"$f":"+A228+1","v":"2021-04-23"},4,"1900-01-06",1,0,null,null,":",null,":",null," "," ","",null,null,0,"",null,null,"",{"$f":"IF(+Radelkal!F229>0,+Radelkal!F229,\"\")","v":""},null,{"$f":"IF(W230<>\"\",SUM($AI$6:AI230)/10,\"\")","v":""},null,{"$f":"IF(Y230>0,+Y230/Daten!$I$18^2,\"\")","v":""},null,null,0,{"$f":"IF(WEEKDAY(A230)=1,IF(E230=1,VLOOKUP(AE230,Daten!$C$49:$D$102,2),\" \"),\"\")","v":""},16,0,0,0,""]
[{"$f":"+A230","v":"2021-04-23"},4,"1900-01-06",2,2,null,null,":",null,":",null," "," ","",null,null,0,"",null,null,"",{"$f":"IF(+Radelkal!F230>0,+Radelkal!F230,\"\")","v":""},null,{"$f":"IF(W231<>\"\",SUM($AI$6:AI231)/10,\"\")","v":""},null,{"$f":"IF(Y231>0,+Y231/Daten!$I$18^2,\"\")","v":""},null,null,0,{"$f":"IF(WEEKDAY(A231)=1,IF(E231=1,VLOOKUP(AE231,Daten!$C$49:$D$102,2),\" \"),\"\")","v":""},16,0,0,0,""]
[{"$f":"+A230+1","v":"2021-04-24"},4,"1900-01-07",1,0,null,null,":",null,":",null," "," ","",null,null,0,"",null,null,"",{"$f":"IF(+Radelkal!F231>0,+Radelkal!F231,\"\")","v":""},null,{"$f":"IF(W232<>\"\",SUM($AI$6:AI232)/10,\"\")","v":""},null,{"$f":"IF(Y232>0,+Y232/Daten!$I$18^2,\"\")","v":""},null,null,0,{"$f":"IF(WEEKDAY(A232)=1,IF(E232=1,VLOOKUP(AE232,Daten!$C$49:$D$102,2),\" \"),\"\")","v":""},16,0,0,0,""]
[{"$f":"+A232","v":"2021-04-24"},4,"1900-01-07",2,2,null,null,":",null,":",null," "," ","",null,null,0,"",null,null,"",{"$f":"IF(+Radelkal!F232>0,+Radelkal!F232,\"\")","v":""},null,{"$f":"IF(W233<>\"\",SUM($AI$6:AI233)/10,\"\")","v":""},null,{"$f":"IF(Y233>0,+Y233/Daten!$I$18^2,\"\")","v":""},null,null,0,{"$f":"IF(WEEKDAY(A233)=1,IF(E233=1,VLOOKUP(AE233,Daten!$C$49:$D$102,2),\" \"),\"\")","v":""},16,0,0,0,""]
[{"$f":"+A232+1","v":"2021-04-25"},4,"1900-01-01",1,0,null,null,":",null,":",null," "," ","",null,null,0,"",null,null,"",{"$f":"IF(+Radelkal!F233>0,+Radelkal!F233,\"\")","v":""},null,{"$f":"IF(W234<>\"\",SUM($AI$6:AI234)/10,\"\")","v":""},null,{"$f":"IF(Y234>0,+Y234/Daten!$I$18^2,\"\")","v":""},null,null,0,{"$f":"IF(WEEKDAY(A234)=1,IF(E234=1,VLOOKUP(AE234,Daten!$C$49:$D$102,2),\" \"),\"\")","v":" "},16,0,0,0,""]
[{"$f":"+A234","v":"2021-04-25"},4,"1900-01-01",2,1,null,null,":",null,":",null," "," ","",null,null,0,"",null,null,"",{"$f":"IF(+Radelkal!F234>0,+Radelkal!F234,\"\")","v":""},null,{"$f":"IF(W235<>\"\",SUM($AI$6:AI235)/10,\"\")","v":""},null,{"$f":"IF(Y235>0,+Y235/Daten!$I$18^2,\"\")","v":""},null,null,0,{"$f":"IF(WEEKDAY(A235)=1,IF(E235=1,VLOOKUP(AE235,Daten!$C$49:$D$102,2),\" \"),\"\")","v":0},16,0,0,0,""]
[{"$f":"+A234+1","v":"2021-04-26"},4,"1900-01-02",1,0,null,null,":",null,":",null," "," ","",null,null,0,"",null,null,"",{"$f":"IF(+Radelkal!F235>0,+Radelkal!F235,\"\")","v":""},null,{"$f":"IF(W236<>\"\",SUM($AI$6:AI236)/10,\"\")","v":""},null,{"$f":"IF(Y236>0,+Y236/Daten!$I$18^2,\"\")","v":""},null,null,0,{"$f":"IF(WEEKDAY(A236)=1,IF(E236=1,VLOOKUP(AE236,Daten!$C$49:$D$102,2),\" \"),\"\")","v":""},17,0,0,0,""]
[{"$f":"+A236","v":"2021-04-26"},4,"1900-01-02",2,2,null,null,":",null,":",null," "," ","",null,null,0,"",null,null,"",{"$f":"IF(+Radelkal!F236>0,+Radelkal!F236,\"\")","v":""},null,{"$f":"IF(W237<>\"\",SUM($AI$6:AI237)/10,\"\")","v":""},null,{"$f":"IF(Y237>0,+Y237/Daten!$I$18^2,\"\")","v":""},null,null,0,{"$f":"IF(WEEKDAY(A237)=1,IF(E237=1,VLOOKUP(AE237,Daten!$C$49:$D$102,2),\" \"),\"\")","v":""},17,0,0,0,""]
[{"$f":"+A236+1","v":"2021-04-27"},4,"1900-01-03",1,0,null,null,":",null,":",null," "," ","",null,null,0,"",null,null,"",{"$f":"IF(+Radelkal!F237>0,+Radelkal!F237,\"\")","v":""},null,{"$f":"IF(W238<>\"\",SUM($AI$6:AI238)/10,\"\")","v":""},null,{"$f":"IF(Y238>0,+Y238/Daten!$I$18^2,\"\")","v":""},null,null,0,{"$f":"IF(WEEKDAY(A238)=1,IF(E238=1,VLOOKUP(AE238,Daten!$C$49:$D$102,2),\" \"),\"\")","v":""},17,0,0,0,""]
[{"$f":"+A238","v":"2021-04-27"},4,"1900-01-03",2,2,null,null,":",null,":",null," "," ","",null,null,0,"",null,null,"",{"$f":"IF(+Radelkal!F238>0,+Radelkal!F238,\"\")","v":""},null,{"$f":"IF(W239<>\"\",SUM($AI$6:AI239)/10,\"\")","v":""},null,{"$f":"IF(Y239>0,+Y239/Daten!$I$18^2,\"\")","v":""},null,null,0,{"$f":"IF(WEEKDAY(A239)=1,IF(E239=1,VLOOKUP(AE239,Daten!$C$49:$D$102,2),\" \"),\"\")","v":""},17,0,0,0,""]
[{"$f":"+A238+1","v":"2021-04-28"},4,"1900-01-04",1,0,null,null,":",null,":",null," "," ","",null,null,0,"",null,null,"",{"$f":"IF(+Radelkal!F239>0,+Radelkal!F239,\"\")","v":""},null,{"$f":"IF(W240<>\"\",SUM($AI$6:AI240)/10,\"\")","v":""},null,{"$f":"IF(Y240>0,+Y240/Daten!$I$18^2,\"\")","v":""},null,null,0,{"$f":"IF(WEEKDAY(A240)=1,IF(E240=1,VLOOKUP(AE240,Daten!$C$49:$D$102,2),\" \"),\"\")","v":""},17,0,0,0,""]
[{"$f":"+A240","v":"2021-04-28"},4,"1900-01-04",2,2,null,null,":",null,":",null," "," ","",null,null,0,"",null,null,"",{"$f":"IF(+Radelkal!F240>0,+Radelkal!F240,\"\")","v":""},null,{"$f":"IF(W241<>\"\",SUM($AI$6:AI241)/10,\"\")","v":""},null,{"$f":"IF(Y241>0,+Y241/Daten!$I$18^2,\"\")","v":""},null,null,0,{"$f":"IF(WEEKDAY(A241)=1,IF(E241=1,VLOOKUP(AE241,Daten!$C$49:$D$102,2),\" \"),\"\")","v":""},17,0,0,0,""]
[{"$f":"+A240+1","v":"2021-04-29"},4,"1900-01-05",1,0,null,null,":",null,":",null," "," ","",null,null,0,"",null,null,"",{"$f":"IF(+Radelkal!F241>0,+Radelkal!F241,\"\")","v":""},null,{"$f":"IF(W242<>\"\",SUM($AI$6:AI242)/10,\"\")","v":""},null,{"$f":"IF(Y242>0,+Y242/Daten!$I$18^2,\"\")","v":""},null,null,0,{"$f":"IF(WEEKDAY(A242)=1,IF(E242=1,VLOOKUP(AE242,Daten!$C$49:$D$102,2),\" \"),\"\")","v":""},17,0,0,0,""]
[{"$f":"+A242","v":"2021-04-29"},4,"1900-01-05",2,2,null,null,":",null,":",null," "," ","",null,null,0,"",null,null,"",{"$f":"IF(+Radelkal!F242>0,+Radelkal!F242,\"\")","v":""},null,{"$f":"IF(W243<>\"\",SUM($AI$6:AI243)/10,\"\")","v":""},null,{"$f":"IF(Y243>0,+Y243/Daten!$I$18^2,\"\")","v":""},null,null,0,{"$f":"IF(WEEKDAY(A243)=1,IF(E243=1,VLOOKUP(AE243,Daten!$C$49:$D$102,2),\" \"),\"\")","v":""},17,0,0,0,""]
[{"$f":"+A242+1","v":"2021-04-30"},4,"1900-01-06",1,0,null,null,":",null,":",null," "," ","",null,null,0,"",null,null,"",{"$f":"IF(+Radelkal!F243>0,+Radelkal!F243,\"\")","v":""},null,{"$f":"IF(W244<>\"\",SUM($AI$6:AI244)/10,\"\")","v":""},null,{"$f":"IF(Y244>0,+Y244/Daten!$I$18^2,\"\")","v":""},null,null,0,{"$f":"IF(WEEKDAY(A244)=1,IF(E244=1,VLOOKUP(AE244,Daten!$C$49:$D$102,2),\" \"),\"\")","v":""},17,0,0,0,""]
[{"$f":"+A244","v":"2021-04-30"},4,"1900-01-06",2,2,null,null,":",null,":",null," "," ","",null,null,0,"",null,null,"",{"$f":"IF(+Radelkal!F244>0,+Radelkal!F244,\"\")","v":""},null,{"$f":"IF(W245<>\"\",SUM($AI$6:AI245)/10,\"\")","v":""},null,{"$f":"IF(Y245>0,+Y245/Daten!$I$18^2,\"\")","v":""},null,null,0,{"$f":"IF(WEEKDAY(A245)=1,IF(E245=1,VLOOKUP(AE245,Daten!$C$49:$D$102,2),\" \"),\"\")","v":""},17,0,0,0,""]
[{"$f":"+A244+1","v":"2021-05-01"},5,"1900-01-07",1,0,null,null,":",null,":",null," "," ","",null,null,0,"",null,null,"",{"$f":"IF(+Radelkal!F245>0,+Radelkal!F245,\"\")","v":""},null,{"$f":"IF(W246<>\"\",SUM($AI$6:AI246)/10,\"\")","v":""},null,{"$f":"IF(Y246>0,+Y246/Daten!$I$18^2,\"\")","v":""},null,null,0,{"$f":"IF(WEEKDAY(A246)=1,IF(E246=1,VLOOKUP(AE246,Daten!$C$49:$D$102,2),\" \"),\"\")","v":""},17,0,0,0,""]
[{"$f":"+A246","v":"2021-05-01"},5,"1900-01-07",2,2,null,null,":",null,":",null," "," ","",null,null,0,"",null,null,"",{"$f":"IF(+Radelkal!F246>0,+Radelkal!F246,\"\")","v":""},null,{"$f":"IF(W247<>\"\",SUM($AI$6:AI247)/10,\"\")","v":""},null,{"$f":"IF(Y247>0,+Y247/Daten!$I$18^2,\"\")","v":""},null,null,0,{"$f":"IF(WEEKDAY(A247)=1,IF(E247=1,VLOOKUP(AE247,Daten!$C$49:$D$102,2),\" \"),\"\")","v":""},17,0,0,0,""]
[{"$f":"+A246+1","v":"2021-05-02"},5,"1900-01-01",1,0,null,null,":",null,":",null," "," ","",null,null,0,"",null,null,"",{"$f":"IF(+Radelkal!F247>0,+Radelkal!F247,\"\")","v":""},null,{"$f":"IF(W248<>\"\",SUM($AI$6:AI248)/10,\"\")","v":""},null,{"$f":"IF(Y248>0,+Y248/Daten!$I$18^2,\"\")","v":""},null,null,0,{"$f":"IF(WEEKDAY(A248)=1,IF(E248=1,VLOOKUP(AE248,Daten!$C$49:$D$102,2),\" \"),\"\")","v":" "},17,0,0,0,""]
[{"$f":"+A248","v":"2021-05-02"},5,"1900-01-01",2,1,null,null,":",null,":",null," "," ","",null,null,0,"",null,null,"",{"$f":"IF(+Radelkal!F248>0,+Radelkal!F248,\"\")","v":""},null,{"$f":"IF(W249<>\"\",SUM($AI$6:AI249)/10,\"\")","v":""},null,{"$f":"IF(Y249>0,+Y249/Daten!$I$18^2,\"\")","v":""},null,null,0,{"$f":"IF(WEEKDAY(A249)=1,IF(E249=1,VLOOKUP(AE249,Daten!$C$49:$D$102,2),\" \"),\"\")","v":0},17,0,0,0,""]
[{"$f":"+A248+1","v":"2021-05-03"},5,"1900-01-02",1,0,null,null,":",null,":",null," "," ","",null,null,0,"",null,null,"",{"$f":"IF(+Radelkal!F249>0,+Radelkal!F249,\"\")","v":""},null,{"$f":"IF(W250<>\"\",SUM($AI$6:AI250)/10,\"\")","v":""},null,{"$f":"IF(Y250>0,+Y250/Daten!$I$18^2,\"\")","v":""},null,null,0,{"$f":"IF(WEEKDAY(A250)=1,IF(E250=1,VLOOKUP(AE250,Daten!$C$49:$D$102,2),\" \"),\"\")","v":""},18,0,0,0,""]
[{"$f":"+A250","v":"2021-05-03"},5,"1900-01-02",2,2,null,null,":",null,":",null," "," ","",null,null,0,"",null,null,"",{"$f":"IF(+Radelkal!F250>0,+Radelkal!F250,\"\")","v":""},null,{"$f":"IF(W251<>\"\",SUM($AI$6:AI251)/10,\"\")","v":""},null,{"$f":"IF(Y251>0,+Y251/Daten!$I$18^2,\"\")","v":""},null,null,0,{"$f":"IF(WEEKDAY(A251)=1,IF(E251=1,VLOOKUP(AE251,Daten!$C$49:$D$102,2),\" \"),\"\")","v":""},18,0,0,0,""]
[{"$f":"+A250+1","v":"2021-05-04"},5,"1900-01-03",1,0,null,null,":",null,":",null," "," ","",null,null,0,"",null,null,"",{"$f":"IF(+Radelkal!F251>0,+Radelkal!F251,\"\")","v":""},null,{"$f":"IF(W252<>\"\",SUM($AI$6:AI252)/10,\"\")","v":""},null,{"$f":"IF(Y252>0,+Y252/Daten!$I$18^2,\"\")","v":""},null,null,0,{"$f":"IF(WEEKDAY(A252)=1,IF(E252=1,VLOOKUP(AE252,Daten!$C$49:$D$102,2),\" \"),\"\")","v":""},18,0,0,0,""]
[{"$f":"+A252","v":"2021-05-04"},5,"1900-01-03",2,2,null,null,":",null,":",null," "," ","",null,null,0,"",null,null,"",{"$f":"IF(+Radelkal!F252>0,+Radelkal!F252,\"\")","v":""},null,{"$f":"IF(W253<>\"\",SUM($AI$6:AI253)/10,\"\")","v":""},null,{"$f":"IF(Y253>0,+Y253/Daten!$I$18^2,\"\")","v":""},null,null,0,{"$f":"IF(WEEKDAY(A253)=1,IF(E253=1,VLOOKUP(AE253,Daten!$C$49:$D$102,2),\" \"),\"\")","v":""},18,0,0,0,""]
[{"$f":"+A252+1","v":"2021-05-05"},5,"1900-01-04",1,0,null,null,":",null,":",null," "," ","",null,null,0,"",null,null,"",{"$f":"IF(+Radelkal!F253>0,+Radelkal!F253,\"\")","v":""},null,{"$f":"IF(W254<>\"\",SUM($AI$6:AI254)/10,\"\")","v":""},null,{"$f":"IF(Y254>0,+Y254/Daten!$I$18^2,\"\")","v":""},null,null,0,{"$f":"IF(WEEKDAY(A254)=1,IF(E254=1,VLOOKUP(AE254,Daten!$C$49:$D$102,2),\" \"),\"\")","v":""},18,0,0,0,""]
[{"$f":"+A254","v":"2021-05-05"},5,"1900-01-04",2,2,null,null,":",null,":",null," "," ","",null,null,0,"",null,null,"",{"$f":"IF(+Radelkal!F254>0,+Radelkal!F254,\"\")","v":""},null,{"$f":"IF(W255<>\"\",SUM($AI$6:AI255)/10,\"\")","v":""},null,{"$f":"IF(Y255>0,+Y255/Daten!$I$18^2,\"\")","v":""},null,null,0,{"$f":"IF(WEEKDAY(A255)=1,IF(E255=1,VLOOKUP(AE255,Daten!$C$49:$D$102,2),\" \"),\"\")","v":""},18,0,0,0,""]
[{"$f":"+A254+1","v":"2021-05-06"},5,"1900-01-05",1,0,null,null,":",null,":",null," "," ","",null,null,0,"",null,null,"",{"$f":"IF(+Radelkal!F255>0,+Radelkal!F255,\"\")","v":""},null,{"$f":"IF(W256<>\"\",SUM($AI$6:AI256)/10,\"\")","v":""},null,{"$f":"IF(Y256>0,+Y256/Daten!$I$18^2,\"\")","v":""},null,null,0,{"$f":"IF(WEEKDAY(A256)=1,IF(E256=1,VLOOKUP(AE256,Daten!$C$49:$D$102,2),\" \"),\"\")","v":""},18,0,0,0,""]
[{"$f":"+A256","v":"2021-05-06"},5,"1900-01-05",2,2,null,null,":",null,":",null," "," ","",null,null,0,"",null,null,"",{"$f":"IF(+Radelkal!F256>0,+Radelkal!F256,\"\")","v":""},null,{"$f":"IF(W257<>\"\",SUM($AI$6:AI257)/10,\"\")","v":""},null,{"$f":"IF(Y257>0,+Y257/Daten!$I$18^2,\"\")","v":""},null,null,0,{"$f":"IF(WEEKDAY(A257)=1,IF(E257=1,VLOOKUP(AE257,Daten!$C$49:$D$102,2),\" \"),\"\")","v":""},18,0,0,0,""]
[{"$f":"+A256+1","v":"2021-05-07"},5,"1900-01-06",1,0,null,null,":",null,":",null," "," ","",null,null,0,"",null,null,"",{"$f":"IF(+Radelkal!F257>0,+Radelkal!F257,\"\")","v":""},null,{"$f":"IF(W258<>\"\",SUM($AI$6:AI258)/10,\"\")","v":""},null,{"$f":"IF(Y258>0,+Y258/Daten!$I$18^2,\"\")","v":""},null,null,0,{"$f":"IF(WEEKDAY(A258)=1,IF(E258=1,VLOOKUP(AE258,Daten!$C$49:$D$102,2),\" \"),\"\")","v":""},18,0,0,0,""]
[{"$f":"+A258","v":"2021-05-07"},5,"1900-01-06",2,2,null,null,":",null,":",null," "," ","",null,null,0,"",null,null,"",{"$f":"IF(+Radelkal!F258>0,+Radelkal!F258,\"\")","v":""},null,{"$f":"IF(W259<>\"\",SUM($AI$6:AI259)/10,\"\")","v":""},null,{"$f":"IF(Y259>0,+Y259/Daten!$I$18^2,\"\")","v":""},null,null,0,{"$f":"IF(WEEKDAY(A259)=1,IF(E259=1,VLOOKUP(AE259,Daten!$C$49:$D$102,2),\" \"),\"\")","v":""},18,0,0,0,""]
[{"$f":"+A258+1","v":"2021-05-08"},5,"1900-01-07",1,0,null,null,":",null,":",null," "," ","",null,null,0,"",null,null,"",{"$f":"IF(+Radelkal!F259>0,+Radelkal!F259,\"\")","v":""},null,{"$f":"IF(W260<>\"\",SUM($AI$6:AI260)/10,\"\")","v":""},null,{"$f":"IF(Y260>0,+Y260/Daten!$I$18^2,\"\")","v":""},null,null,0,{"$f":"IF(WEEKDAY(A260)=1,IF(E260=1,VLOOKUP(AE260,Daten!$C$49:$D$102,2),\" \"),\"\")","v":""},18,0,0,0,""]
[{"$f":"+A260","v":"2021-05-08"},5,"1900-01-07",2,2,null,null,":",null,":",null," "," ","",null,null,0,"",null,null,{"$f":"IF(COUNTBLANK(T261)=1,\"\",IF(T261=\"10\",\"0\",10-T261))","v":""},{"$f":"IF(+Radelkal!F260>0,+Radelkal!F260,\"\")","v":""},null,{"$f":"IF(W261<>\"\",SUM($AI$6:AI261)/10,\"\")","v":""},null,{"$f":"IF(Y261>0,+Y261/Daten!$I$18^2,\"\")","v":""},null,null,0,{"$f":"IF(WEEKDAY(A261)=1,IF(E261=1,VLOOKUP(AE261,Daten!$C$49:$D$102,2),\" \"),\"\")","v":""},18,0,0,0,""]
[{"$f":"+A260+1","v":"2021-05-09"},5,"1900-01-01",1,0,null,null,":",null,":",null," "," ","",null,null,{"$f":"IF(maxhf<100,0,IF(ISBLANK(P262)=\"WAHR\",P262,P262/maxhf)*100)","v":0},{"$f":"IF(F262>0,IF(P262>0,+F262*(F262*1000/(G262*60+I262+K262/60))/(maxhf-P262)*(maxhf/220),\"\"),\"\")","v":""},null,null,"",{"$f":"IF(+Radelkal!F261>0,+Radelkal!F261,\"\")","v":""},null,{"$f":"IF(W262<>\"\",SUM($AI$6:AI262)/10,\"\")","v":""},null,{"$f":"IF(Y262>0,+Y262/Daten!$I$18^2,\"\")","v":""},null,null,0,{"$f":"IF(WEEKDAY(A262)=1,IF(E262=1,VLOOKUP(AE262,Daten!$C$49:$D$102,2),\" \"),\"\")","v":" "},18,0,0,0,""]
[{"$f":"+A262","v":"2021-05-09"},{"$f":"MONTH(A263)","v":5},{"$f":"WEEKDAY(A263)","v":"1900-01-01"},2,{"$f":"IF(D263=2,IF(C263=1,1,2),0)","v":1},null,null,":",null,":",null,{"$f":"IF((+G263*60+I263+K263/60)>0,G263*60+I263+K263/60,\" \")","v":" "},{"$f":"IF(+F263>0,+L263/F263/24/60,\" \")","v":" "},{"$f":"IF(F263>0,+F263/(L263/60),\"\")","v":""},null,null,0,"",null,null,"",{"$f":"IF(+Radelkal!F262>0,+Radelkal!F262,\"\")","v":""},null,{"$f":"IF(W263<>\"\",SUM($AI$6:AI263)/10,\"\")","v":""},null,{"$f":"IF(Y263>0,+Y263/Daten!$I$18^2,\"\")","v":""},null,null,0,{"$f":"IF(WEEKDAY(A263)=1,IF(E263=1,VLOOKUP(AE263,Daten!$C$49:$D$102,2),\" \"),\"\")","v":0},18,{"$f":"IF(F263>0,IF(D263=2,IF((AB262+AB263)>0,1,0),0),0)","v":0},{"$f":"+T263/10*F263","v":0},{"$f":"IF(COUNTBLANK(T263)=1,0,+U263/10*F263)","v":0},{"$f":"IF(W263<>\"\",10,\"\")","v":""}]
[{"$f":"+A262+1","v":"2021-05-10"},5,"1900-01-02",1,0,null,null,":",null,":",null," "," ","",null,null,0,"",null,null,"",{"$f":"IF(+Radelkal!F263>0,+Radelkal!F263,\"\")","v":""},null,{"$f":"IF(W264<>\"\",SUM($AI$6:AI264)/10,\"\")","v":""},null,{"$f":"IF(Y264>0,+Y264/Daten!$I$18^2,\"\")","v":""},null,null,{"$f":"IF(D264=2,+F264+F263,0)","v":0},{"$f":"IF(WEEKDAY(A264)=1,IF(E264=1,VLOOKUP(AE264,Daten!$C$49:$D$102,2),\" \"),\"\")","v":""},{"$f":"IF(WEEKDAY(A264)=2,IF(D264=1,AE263+1,AE263),AE263)","v":19},0,0,0,""]
[{"$f":"+A264","v":"2021-05-10"},5,"1900-01-02",2,2,null,null,":",null,":",null," "," ","",null,null,0,"",null,null,"",{"$f":"IF(+Radelkal!F264>0,+Radelkal!F264,\"\")","v":""},null,{"$f":"IF(W265<>\"\",SUM($AI$6:AI265)/10,\"\")","v":""},null,{"$f":"IF(Y265>0,+Y265/Daten!$I$18^2,\"\")","v":""},null,null,0,{"$f":"IF(WEEKDAY(A265)=1,IF(E265=1,VLOOKUP(AE265,Daten!$C$49:$D$102,2),\" \"),\"\")","v":""},19,0,0,0,""]
[{"$f":"+A264+1","v":"2021-05-11"},5,"1900-01-03",1,0,null,null,":",null,":",null," "," ","",null,null,0,"",null,null,"",{"$f":"IF(+Radelkal!F265>0,+Radelkal!F265,\"\")","v":""},null,{"$f":"IF(W266<>\"\",SUM($AI$6:AI266)/10,\"\")","v":""},null,{"$f":"IF(Y266>0,+Y266/Daten!$I$18^2,\"\")","v":""},null,null,0,{"$f":"IF(WEEKDAY(A266)=1,IF(E266=1,VLOOKUP(AE266,Daten!$C$49:$D$102,2),\" \"),\"\")","v":""},19,0,0,0,""]
[{"$f":"+A266","v":"2021-05-11"},5,"1900-01-03",2,2,null,null,":",null,":",null," "," ","",null,null,0,"",null,null,"",{"$f":"IF(+Radelkal!F266>0,+Radelkal!F266,\"\")","v":""},null,{"$f":"IF(W267<>\"\",SUM($AI$6:AI267)/10,\"\")","v":""},null,{"$f":"IF(Y267>0,+Y267/Daten!$I$18^2,\"\")","v":""},null,null,0,{"$f":"IF(WEEKDAY(A267)=1,IF(E267=1,VLOOKUP(AE267,Daten!$C$49:$D$102,2),\" \"),\"\")","v":""},19,0,0,0,""]
[{"$f":"+A266+1","v":"2021-05-12"},5,"1900-01-04",1,0,null,null,":",null,":",null," "," ","",null,null,0,"",null,null,"",{"$f":"IF(+Radelkal!F267>0,+Radelkal!F267,\"\")","v":""},null,{"$f":"IF(W268<>\"\",SUM($AI$6:AI268)/10,\"\")","v":""},null,{"$f":"IF(Y268>0,+Y268/Daten!$I$18^2,\"\")","v":""},null,null,0,{"$f":"IF(WEEKDAY(A268)=1,IF(E268=1,VLOOKUP(AE268,Daten!$C$49:$D$102,2),\" \"),\"\")","v":""},19,0,0,0,""]
[{"$f":"+A268","v":"2021-05-12"},5,"1900-01-04",2,2,null,null,":",null,":",null," "," ","",null,null,0,"",null,null,"",{"$f":"IF(+Radelkal!F268>0,+Radelkal!F268,\"\")","v":""},null,{"$f":"IF(W269<>\"\",SUM($AI$6:AI269)/10,\"\")","v":""},null,{"$f":"IF(Y269>0,+Y269/Daten!$I$18^2,\"\")","v":""},null,null,0,{"$f":"IF(WEEKDAY(A269)=1,IF(E269=1,VLOOKUP(AE269,Daten!$C$49:$D$102,2),\" \"),\"\")","v":""},19,0,0,0,""]
[{"$f":"+A268+1","v":"2021-05-13"},5,"1900-01-05",1,0,null,null,":",null,":",null," "," ","",null,null,0,"",null,null,"",{"$f":"IF(+Radelkal!F269>0,+Radelkal!F269,\"\")","v":""},null,{"$f":"IF(W270<>\"\",SUM($AI$6:AI270)/10,\"\")","v":""},null,{"$f":"IF(Y270>0,+Y270/Daten!$I$18^2,\"\")","v":""},null,null,0,{"$f":"IF(WEEKDAY(A270)=1,IF(E270=1,VLOOKUP(AE270,Daten!$C$49:$D$102,2),\" \"),\"\")","v":""},19,0,0,0,""]
[{"$f":"+A270","v":"2021-05-13"},5,"1900-01-05",2,2,null,null,":",null,":",null," "," ","",null,null,0,"",null,null,"",{"$f":"IF(+Radelkal!F270>0,+Radelkal!F270,\"\")","v":""},null,{"$f":"IF(W271<>\"\",SUM($AI$6:AI271)/10,\"\")","v":""},null,{"$f":"IF(Y271>0,+Y271/Daten!$I$18^2,\"\")","v":""},null,null,0,{"$f":"IF(WEEKDAY(A271)=1,IF(E271=1,VLOOKUP(AE271,Daten!$C$49:$D$102,2),\" \"),\"\")","v":""},19,0,0,0,""]
[{"$f":"+A270+1","v":"2021-05-14"},5,"1900-01-06",1,0,null,null,":",null,":",null," "," ","",null,null,0,"",null,null,"",{"$f":"IF(+Radelkal!F271>0,+Radelkal!F271,\"\")","v":""},null,{"$f":"IF(W272<>\"\",SUM($AI$6:AI272)/10,\"\")","v":""},null,{"$f":"IF(Y272>0,+Y272/Daten!$I$18^2,\"\")","v":""},null,null,0,{"$f":"IF(WEEKDAY(A272)=1,IF(E272=1,VLOOKUP(AE272,Daten!$C$49:$D$102,2),\" \"),\"\")","v":""},19,0,0,0,""]
[{"$f":"+A272","v":"2021-05-14"},5,"1900-01-06",2,2,null,null,":",null,":",null," "," ","",null,null,0,"",null,null,"",{"$f":"IF(+Radelkal!F272>0,+Radelkal!F272,\"\")","v":""},null,{"$f":"IF(W273<>\"\",SUM($AI$6:AI273)/10,\"\")","v":""},null,{"$f":"IF(Y273>0,+Y273/Daten!$I$18^2,\"\")","v":""},null,null,0,{"$f":"IF(WEEKDAY(A273)=1,IF(E273=1,VLOOKUP(AE273,Daten!$C$49:$D$102,2),\" \"),\"\")","v":""},19,0,0,0,""]
[{"$f":"+A272+1","v":"2021-05-15"},5,"1900-01-07",1,0,null,null,":",null,":",null," "," ","",null,null,0,"",null,null,"",{"$f":"IF(+Radelkal!F273>0,+Radelkal!F273,\"\")","v":""},null,{"$f":"IF(W274<>\"\",SUM($AI$6:AI274)/10,\"\")","v":""},null,{"$f":"IF(Y274>0,+Y274/Daten!$I$18^2,\"\")","v":""},null,null,0,{"$f":"IF(WEEKDAY(A274)=1,IF(E274=1,VLOOKUP(AE274,Daten!$C$49:$D$102,2),\" \"),\"\")","v":""},19,0,0,0,""]
[{"$f":"+A274","v":"2021-05-15"},5,"1900-01-07",2,2,null,null,":",null,":",null," "," ","",null,null,0,"",null,null,"",{"$f":"IF(+Radelkal!F274>0,+Radelkal!F274,\"\")","v":""},null,{"$f":"IF(W275<>\"\",SUM($AI$6:AI275)/10,\"\")","v":""},null,{"$f":"IF(Y275>0,+Y275/Daten!$I$18^2,\"\")","v":""},null,null,0,{"$f":"IF(WEEKDAY(A275)=1,IF(E275=1,VLOOKUP(AE275,Daten!$C$49:$D$102,2),\" \"),\"\")","v":""},19,0,0,0,""]
[{"$f":"+A274+1","v":"2021-05-16"},5,"1900-01-01",1,0,null,null,":",null,":",null," "," ","",null,null,0,"",null,null,"",{"$f":"IF(+Radelkal!F275>0,+Radelkal!F275,\"\")","v":""},null,{"$f":"IF(W276<>\"\",SUM($AI$6:AI276)/10,\"\")","v":""},null,{"$f":"IF(Y276>0,+Y276/Daten!$I$18^2,\"\")","v":""},null,null,0,{"$f":"IF(WEEKDAY(A276)=1,IF(E276=1,VLOOKUP(AE276,Daten!$C$49:$D$102,2),\" \"),\"\")","v":" "},19,0,0,0,""]
[{"$f":"+A276","v":"2021-05-16"},5,"1900-01-01",2,1,null,null,":",null,":",null," "," ","",null,null,0,"",null,null,"",{"$f":"IF(+Radelkal!F276>0,+Radelkal!F276,\"\")","v":""},null,{"$f":"IF(W277<>\"\",SUM($AI$6:AI277)/10,\"\")","v":""},null,{"$f":"IF(Y277>0,+Y277/Daten!$I$18^2,\"\")","v":""},null,null,0,{"$f":"IF(WEEKDAY(A277)=1,IF(E277=1,VLOOKUP(AE277,Daten!$C$49:$D$102,2),\" \"),\"\")","v":0},19,0,0,0,""]
[{"$f":"+A276+1","v":"2021-05-17"},5,"1900-01-02",1,0,null,null,":",null,":",null," "," ","",null,null,0,"",null,null,"",{"$f":"IF(+Radelkal!F277>0,+Radelkal!F277,\"\")","v":""},null,{"$f":"IF(W278<>\"\",SUM($AI$6:AI278)/10,\"\")","v":""},null,{"$f":"IF(Y278>0,+Y278/Daten!$I$18^2,\"\")","v":""},null,null,0,{"$f":"IF(WEEKDAY(A278)=1,IF(E278=1,VLOOKUP(AE278,Daten!$C$49:$D$102,2),\" \"),\"\")","v":""},20,0,0,0,""]
[{"$f":"+A278","v":"2021-05-17"},5,"1900-01-02",2,2,null,null,":",null,":",null," "," ","",null,null,0,"",null,null,"",{"$f":"IF(+Radelkal!F278>0,+Radelkal!F278,\"\")","v":""},null,{"$f":"IF(W279<>\"\",SUM($AI$6:AI279)/10,\"\")","v":""},null,{"$f":"IF(Y279>0,+Y279/Daten!$I$18^2,\"\")","v":""},null,null,0,{"$f":"IF(WEEKDAY(A279)=1,IF(E279=1,VLOOKUP(AE279,Daten!$C$49:$D$102,2),\" \"),\"\")","v":""},20,0,0,0,""]
[{"$f":"+A278+1","v":"2021-05-18"},5,"1900-01-03",1,0,null,null,":",null,":",null," "," ","",null,null,0,"",null,null,"",{"$f":"IF(+Radelkal!F279>0,+Radelkal!F279,\"\")","v":""},null,{"$f":"IF(W280<>\"\",SUM($AI$6:AI280)/10,\"\")","v":""},null,{"$f":"IF(Y280>0,+Y280/Daten!$I$18^2,\"\")","v":""},null,null,0,{"$f":"IF(WEEKDAY(A280)=1,IF(E280=1,VLOOKUP(AE280,Daten!$C$49:$D$102,2),\" \"),\"\")","v":""},20,0,0,0,""]
[{"$f":"+A280","v":"2021-05-18"},5,"1900-01-03",2,2,null,null,":",null,":",null," "," ","",null,null,0,"",null,null,"",{"$f":"IF(+Radelkal!F280>0,+Radelkal!F280,\"\")","v":""},null,{"$f":"IF(W281<>\"\",SUM($AI$6:AI281)/10,\"\")","v":""},null,{"$f":"IF(Y281>0,+Y281/Daten!$I$18^2,\"\")","v":""},null,null,0,{"$f":"IF(WEEKDAY(A281)=1,IF(E281=1,VLOOKUP(AE281,Daten!$C$49:$D$102,2),\" \"),\"\")","v":""},20,0,0,0,""]
[{"$f":"+A280+1","v":"2021-05-19"},5,"1900-01-04",1,0,null,null,":",null,":",null," "," ","",null,null,0,"",null,null,"",{"$f":"IF(+Radelkal!F281>0,+Radelkal!F281,\"\")","v":""},null,{"$f":"IF(W282<>\"\",SUM($AI$6:AI282)/10,\"\")","v":""},null,{"$f":"IF(Y282>0,+Y282/Daten!$I$18^2,\"\")","v":""},null,null,0,{"$f":"IF(WEEKDAY(A282)=1,IF(E282=1,VLOOKUP(AE282,Daten!$C$49:$D$102,2),\" \"),\"\")","v":""},20,0,0,0,""]
[{"$f":"+A282","v":"2021-05-19"},5,"1900-01-04",2,2,null,null,":",null,":",null," "," ","",null,null,0,"",null,null,"",{"$f":"IF(+Radelkal!F282>0,+Radelkal!F282,\"\")","v":""},null,{"$f":"IF(W283<>\"\",SUM($AI$6:AI283)/10,\"\")","v":""},null,{"$f":"IF(Y283>0,+Y283/Daten!$I$18^2,\"\")","v":""},null,null,0,{"$f":"IF(WEEKDAY(A283)=1,IF(E283=1,VLOOKUP(AE283,Daten!$C$49:$D$102,2),\" \"),\"\")","v":""},20,0,0,0,""]
[{"$f":"+A282+1","v":"2021-05-20"},5,"1900-01-05",1,0,null,null,":",null,":",null," "," ","",null,null,0,"",null,null,"",{"$f":"IF(+Radelkal!F283>0,+Radelkal!F283,\"\")","v":""},null,{"$f":"IF(W284<>\"\",SUM($AI$6:AI284)/10,\"\")","v":""},null,{"$f":"IF(Y284>0,+Y284/Daten!$I$18^2,\"\")","v":""},null,null,0,{"$f":"IF(WEEKDAY(A284)=1,IF(E284=1,VLOOKUP(AE284,Daten!$C$49:$D$102,2),\" \"),\"\")","v":""},20,0,0,0,""]
[{"$f":"+A284","v":"2021-05-20"},5,"1900-01-05",2,2,null,null,":",null,":",null," "," ","",null,null,0,"",null,null,"",{"$f":"IF(+Radelkal!F284>0,+Radelkal!F284,\"\")","v":""},null,{"$f":"IF(W285<>\"\",SUM($AI$6:AI285)/10,\"\")","v":""},null,{"$f":"IF(Y285>0,+Y285/Daten!$I$18^2,\"\")","v":""},null,null,0,{"$f":"IF(WEEKDAY(A285)=1,IF(E285=1,VLOOKUP(AE285,Daten!$C$49:$D$102,2),\" \"),\"\")","v":""},20,0,0,0,""]
[{"$f":"+A284+1","v":"2021-05-21"},5,"1900-01-06",1,0,null,null,":",null,":",null," "," ","",null,null,0,"",null,null,"",{"$f":"IF(+Radelkal!F285>0,+Radelkal!F285,\"\")","v":""},null,{"$f":"IF(W286<>\"\",SUM($AI$6:AI286)/10,\"\")","v":""},null,{"$f":"IF(Y286>0,+Y286/Daten!$I$18^2,\"\")","v":""},null,null,0,{"$f":"IF(WEEKDAY(A286)=1,IF(E286=1,VLOOKUP(AE286,Daten!$C$49:$D$102,2),\" \"),\"\")","v":""},20,0,0,0,""]
[{"$f":"+A286","v":"2021-05-21"},5,"1900-01-06",2,2,null,null,":",null,":",null," "," ","",null,null,0,"",null,null,"",{"$f":"IF(+Radelkal!F286>0,+Radelkal!F286,\"\")","v":""},null,{"$f":"IF(W287<>\"\",SUM($AI$6:AI287)/10,\"\")","v":""},null,{"$f":"IF(Y287>0,+Y287/Daten!$I$18^2,\"\")","v":""},null,null,0,{"$f":"IF(WEEKDAY(A287)=1,IF(E287=1,VLOOKUP(AE287,Daten!$C$49:$D$102,2),\" \"),\"\")","v":""},20,0,0,0,""]
[{"$f":"+A286+1","v":"2021-05-22"},5,"1900-01-07",1,0,null,null,":",null,":",null," "," ","",null,null,0,"",null,null,"",{"$f":"IF(+Radelkal!F287>0,+Radelkal!F287,\"\")","v":""},null,{"$f":"IF(W288<>\"\",SUM($AI$6:AI288)/10,\"\")","v":""},null,{"$f":"IF(Y288>0,+Y288/Daten!$I$18^2,\"\")","v":""},null,null,0,{"$f":"IF(WEEKDAY(A288)=1,IF(E288=1,VLOOKUP(AE288,Daten!$C$49:$D$102,2),\" \"),\"\")","v":""},20,0,0,0,""]
[{"$f":"+A288","v":"2021-05-22"},5,"1900-01-07",2,2,null,null,":",null,":",null," "," ","",null,null,0,"",null,null,"",{"$f":"IF(+Radelkal!F288>0,+Radelkal!F288,\"\")","v":""},null,{"$f":"IF(W289<>\"\",SUM($AI$6:AI289)/10,\"\")","v":""},null,{"$f":"IF(Y289>0,+Y289/Daten!$I$18^2,\"\")","v":""},null,null,0,{"$f":"IF(WEEKDAY(A289)=1,IF(E289=1,VLOOKUP(AE289,Daten!$C$49:$D$102,2),\" \"),\"\")","v":""},20,0,0,0,""]
[{"$f":"+A288+1","v":"2021-05-23"},5,"1900-01-01",1,0,null,null,":",null,":",null," "," ","",null,null,0,"",null,null,"",{"$f":"IF(+Radelkal!F289>0,+Radelkal!F289,\"\")","v":""},null,{"$f":"IF(W290<>\"\",SUM($AI$6:AI290)/10,\"\")","v":""},null,{"$f":"IF(Y290>0,+Y290/Daten!$I$18^2,\"\")","v":""},null,null,0,{"$f":"IF(WEEKDAY(A290)=1,IF(E290=1,VLOOKUP(AE290,Daten!$C$49:$D$102,2),\" \"),\"\")","v":" "},20,0,0,0,""]
[{"$f":"+A290","v":"2021-05-23"},5,"1900-01-01",2,1,null,null,":",null,":",null," "," ","",null,null,0,"",null,null,"",{"$f":"IF(+Radelkal!F290>0,+Radelkal!F290,\"\")","v":""},null,{"$f":"IF(W291<>\"\",SUM($AI$6:AI291)/10,\"\")","v":""},null,{"$f":"IF(Y291>0,+Y291/Daten!$I$18^2,\"\")","v":""},null,null,0,{"$f":"IF(WEEKDAY(A291)=1,IF(E291=1,VLOOKUP(AE291,Daten!$C$49:$D$102,2),\" \"),\"\")","v":0},20,0,0,0,""]
[{"$f":"+A290+1","v":"2021-05-24"},5,"1900-01-02",1,0,null,null,":",null,":",null," "," ","",null,null,0,"",null,null,"",{"$f":"IF(+Radelkal!F291>0,+Radelkal!F291,\"\")","v":""},null,{"$f":"IF(W292<>\"\",SUM($AI$6:AI292)/10,\"\")","v":""},null,{"$f":"IF(Y292>0,+Y292/Daten!$I$18^2,\"\")","v":""},null,null,0,{"$f":"IF(WEEKDAY(A292)=1,IF(E292=1,VLOOKUP(AE292,Daten!$C$49:$D$102,2),\" \"),\"\")","v":""},21,0,0,0,""]
[{"$f":"+A292","v":"2021-05-24"},5,"1900-01-02",2,2,null,null,":",null,":",null," "," ","",null,null,0,"",null,null,"",{"$f":"IF(+Radelkal!F292>0,+Radelkal!F292,\"\")","v":""},null,{"$f":"IF(W293<>\"\",SUM($AI$6:AI293)/10,\"\")","v":""},null,{"$f":"IF(Y293>0,+Y293/Daten!$I$18^2,\"\")","v":""},null,null,0,{"$f":"IF(WEEKDAY(A293)=1,IF(E293=1,VLOOKUP(AE293,Daten!$C$49:$D$102,2),\" \"),\"\")","v":""},21,0,0,0,""]
[{"$f":"+A292+1","v":"2021-05-25"},5,"1900-01-03",1,0,null,null,":",null,":",null," "," ","",null,null,0,"",null,null,"",{"$f":"IF(+Radelkal!F293>0,+Radelkal!F293,\"\")","v":""},null,{"$f":"IF(W294<>\"\",SUM($AI$6:AI294)/10,\"\")","v":""},null,{"$f":"IF(Y294>0,+Y294/Daten!$I$18^2,\"\")","v":""},null,null,0,{"$f":"IF(WEEKDAY(A294)=1,IF(E294=1,VLOOKUP(AE294,Daten!$C$49:$D$102,2),\" \"),\"\")","v":""},21,0,0,0,""]
[{"$f":"+A294","v":"2021-05-25"},5,"1900-01-03",2,2,null,null,":",null,":",null," "," ","",null,null,0,"",null,null,"",{"$f":"IF(+Radelkal!F294>0,+Radelkal!F294,\"\")","v":""},null,{"$f":"IF(W295<>\"\",SUM($AI$6:AI295)/10,\"\")","v":""},null,{"$f":"IF(Y295>0,+Y295/Daten!$I$18^2,\"\")","v":""},null,null,0,{"$f":"IF(WEEKDAY(A295)=1,IF(E295=1,VLOOKUP(AE295,Daten!$C$49:$D$102,2),\" \"),\"\")","v":""},21,0,0,0,""]
[{"$f":"+A294+1","v":"2021-05-26"},5,"1900-01-04",1,0,null,null,":",null,":",null," "," ","",null,null,0,"",null,null,"",{"$f":"IF(+Radelkal!F295>0,+Radelkal!F295,\"\")","v":""},null,{"$f":"IF(W296<>\"\",SUM($AI$6:AI296)/10,\"\")","v":""},null,{"$f":"IF(Y296>0,+Y296/Daten!$I$18^2,\"\")","v":""},null,null,0,{"$f":"IF(WEEKDAY(A296)=1,IF(E296=1,VLOOKUP(AE296,Daten!$C$49:$D$102,2),\" \"),\"\")","v":""},21,0,0,0,""]
[{"$f":"+A296","v":"2021-05-26"},5,"1900-01-04",2,2,null,null,":",null,":",null," "," ","",null,null,0,"",null,null,"",{"$f":"IF(+Radelkal!F296>0,+Radelkal!F296,\"\")","v":""},null,{"$f":"IF(W297<>\"\",SUM($AI$6:AI297)/10,\"\")","v":""},null,{"$f":"IF(Y297>0,+Y297/Daten!$I$18^2,\"\")","v":""},null,null,0,{"$f":"IF(WEEKDAY(A297)=1,IF(E297=1,VLOOKUP(AE297,Daten!$C$49:$D$102,2),\" \"),\"\")","v":""},21,0,0,0,""]
[{"$f":"+A296+1","v":"2021-05-27"},5,"1900-01-05",1,0,null,null,":",null,":",null," "," ","",null,null,0,"",null,null,"",{"$f":"IF(+Radelkal!F297>0,+Radelkal!F297,\"\")","v":""},null,{"$f":"IF(W298<>\"\",SUM($AI$6:AI298)/10,\"\")","v":""},null,{"$f":"IF(Y298>0,+Y298/Daten!$I$18^2,\"\")","v":""},null,null,0,{"$f":"IF(WEEKDAY(A298)=1,IF(E298=1,VLOOKUP(AE298,Daten!$C$49:$D$102,2),\" \"),\"\")","v":""},21,0,0,0,""]
[{"$f":"+A298","v":"2021-05-27"},5,"1900-01-05",2,2,null,null,":",null,":",null," "," ","",null,null,0,"",null,null,"",{"$f":"IF(+Radelkal!F298>0,+Radelkal!F298,\"\")","v":""},null,{"$f":"IF(W299<>\"\",SUM($AI$6:AI299)/10,\"\")","v":""},null,{"$f":"IF(Y299>0,+Y299/Daten!$I$18^2,\"\")","v":""},null,null,0,{"$f":"IF(WEEKDAY(A299)=1,IF(E299=1,VLOOKUP(AE299,Daten!$C$49:$D$102,2),\" \"),\"\")","v":""},21,0,0,0,""]
[{"$f":"+A298+1","v":"2021-05-28"},5,"1900-01-06",1,0,null,null,":",null,":",null," "," ","",null,null,0,"",null,null,"",{"$f":"IF(+Radelkal!F299>0,+Radelkal!F299,\"\")","v":""},null,{"$f":"IF(W300<>\"\",SUM($AI$6:AI300)/10,\"\")","v":""},null,{"$f":"IF(Y300>0,+Y300/Daten!$I$18^2,\"\")","v":""},null,null,0,{"$f":"IF(WEEKDAY(A300)=1,IF(E300=1,VLOOKUP(AE300,Daten!$C$49:$D$102,2),\" \"),\"\")","v":""},21,0,0,0,""]
[{"$f":"+A300","v":"2021-05-28"},5,"1900-01-06",2,2,null,null,":",null,":",null," "," ","",null,null,0,"",null,null,"",{"$f":"IF(+Radelkal!F300>0,+Radelkal!F300,\"\")","v":""},null,{"$f":"IF(W301<>\"\",SUM($AI$6:AI301)/10,\"\")","v":""},null,{"$f":"IF(Y301>0,+Y301/Daten!$I$18^2,\"\")","v":""},null,null,0,{"$f":"IF(WEEKDAY(A301)=1,IF(E301=1,VLOOKUP(AE301,Daten!$C$49:$D$102,2),\" \"),\"\")","v":""},21,0,0,0,""]
[{"$f":"+A300+1","v":"2021-05-29"},5,"1900-01-07",1,0,null,null,":",null,":",null," "," ","",null,null,0,"",null,null,"",{"$f":"IF(+Radelkal!F301>0,+Radelkal!F301,\"\")","v":""},null,{"$f":"IF(W302<>\"\",SUM($AI$6:AI302)/10,\"\")","v":""},null,{"$f":"IF(Y302>0,+Y302/Daten!$I$18^2,\"\")","v":""},null,null,0,{"$f":"IF(WEEKDAY(A302)=1,IF(E302=1,VLOOKUP(AE302,Daten!$C$49:$D$102,2),\" \"),\"\")","v":""},21,0,0,0,""]
[{"$f":"+A302","v":"2021-05-29"},5,"1900-01-07",2,2,null,null,":",null,":",null," "," ","",null,null,0,"",null,null,"",{"$f":"IF(+Radelkal!F302>0,+Radelkal!F302,\"\")","v":""},null,{"$f":"IF(W303<>\"\",SUM($AI$6:AI303)/10,\"\")","v":""},null,{"$f":"IF(Y303>0,+Y303/Daten!$I$18^2,\"\")","v":""},null,null,0,{"$f":"IF(WEEKDAY(A303)=1,IF(E303=1,VLOOKUP(AE303,Daten!$C$49:$D$102,2),\" \"),\"\")","v":""},21,0,0,0,""]
[{"$f":"+A302+1","v":"2021-05-30"},5,"1900-01-01",1,0,null,null,":",null,":",null," "," ","",null,null,0,"",null,null,"",{"$f":"IF(+Radelkal!F303>0,+Radelkal!F303,\"\")","v":""},null,{"$f":"IF(W304<>\"\",SUM($AI$6:AI304)/10,\"\")","v":""},null,{"$f":"IF(Y304>0,+Y304/Daten!$I$18^2,\"\")","v":""},null,null,0,{"$f":"IF(WEEKDAY(A304)=1,IF(E304=1,VLOOKUP(AE304,Daten!$C$49:$D$102,2),\" \"),\"\")","v":" "},21,0,0,0,""]
[{"$f":"+A304","v":"2021-05-30"},5,"1900-01-01",2,1,null,null,":",null,":",null," "," ","",null,null,0,"",null,null,"",{"$f":"IF(+Radelkal!F304>0,+Radelkal!F304,\"\")","v":""},null,{"$f":"IF(W305<>\"\",SUM($AI$6:AI305)/10,\"\")","v":""},null,{"$f":"IF(Y305>0,+Y305/Daten!$I$18^2,\"\")","v":""},null,null,0,{"$f":"IF(WEEKDAY(A305)=1,IF(E305=1,VLOOKUP(AE305,Daten!$C$49:$D$102,2),\" \"),\"\")","v":0},21,0,0,0,""]
[{"$f":"+A304+1","v":"2021-05-31"},5,"1900-01-02",1,0,null,null,":",null,":",null," "," ","",null,null,0,"",null,null,"",{"$f":"IF(+Radelkal!F305>0,+Radelkal!F305,\"\")","v":""},null,{"$f":"IF(W306<>\"\",SUM($AI$6:AI306)/10,\"\")","v":""},null,{"$f":"IF(Y306>0,+Y306/Daten!$I$18^2,\"\")","v":""},null,null,0,{"$f":"IF(WEEKDAY(A306)=1,IF(E306=1,VLOOKUP(AE306,Daten!$C$49:$D$102,2),\" \"),\"\")","v":""},22,0,0,0,""]
[{"$f":"+A306","v":"2021-05-31"},5,"1900-01-02",2,2,null,null,":",null,":",null," "," ","",null,null,0,"",null,null,"",{"$f":"IF(+Radelkal!F306>0,+Radelkal!F306,\"\")","v":""},null,{"$f":"IF(W307<>\"\",SUM($AI$6:AI307)/10,\"\")","v":""},null,{"$f":"IF(Y307>0,+Y307/Daten!$I$18^2,\"\")","v":""},null,null,0,{"$f":"IF(WEEKDAY(A307)=1,IF(E307=1,VLOOKUP(AE307,Daten!$C$49:$D$102,2),\" \"),\"\")","v":""},22,0,0,0,""]
[{"$f":"+A306+1","v":"2021-06-01"},6,"1900-01-03",1,0,null,null,":",null,":",null," "," ","",null,null,0,"",null,null,"",{"$f":"IF(+Radelkal!F307>0,+Radelkal!F307,\"\")","v":""},null,{"$f":"IF(W308<>\"\",SUM($AI$6:AI308)/10,\"\")","v":""},null,{"$f":"IF(Y308>0,+Y308/Daten!$I$18^2,\"\")","v":""},null,null,0,{"$f":"IF(WEEKDAY(A308)=1,IF(E308=1,VLOOKUP(AE308,Daten!$C$49:$D$102,2),\" \"),\"\")","v":""},22,0,0,0,""]
[{"$f":"+A308","v":"2021-06-01"},6,"1900-01-03",2,2,null,null,":",null,":",null," "," ","",null,null,0,"",null,null,"",{"$f":"IF(+Radelkal!F308>0,+Radelkal!F308,\"\")","v":""},null,{"$f":"IF(W309<>\"\",SUM($AI$6:AI309)/10,\"\")","v":""},null,{"$f":"IF(Y309>0,+Y309/Daten!$I$18^2,\"\")","v":""},null,null,0,{"$f":"IF(WEEKDAY(A309)=1,IF(E309=1,VLOOKUP(AE309,Daten!$C$49:$D$102,2),\" \"),\"\")","v":""},22,0,0,0,""]
[{"$f":"+A308+1","v":"2021-06-02"},6,"1900-01-04",1,0,null,null,":",null,":",null," "," ","",null,null,0,"",null,null,"",{"$f":"IF(+Radelkal!F309>0,+Radelkal!F309,\"\")","v":""},null,{"$f":"IF(W310<>\"\",SUM($AI$6:AI310)/10,\"\")","v":""},null,{"$f":"IF(Y310>0,+Y310/Daten!$I$18^2,\"\")","v":""},null,null,0,{"$f":"IF(WEEKDAY(A310)=1,IF(E310=1,VLOOKUP(AE310,Daten!$C$49:$D$102,2),\" \"),\"\")","v":""},22,0,0,0,""]
[{"$f":"+A310","v":"2021-06-02"},6,"1900-01-04",2,2,null,null,":",null,":",null," "," ","",null,null,0,"",null,null,"",{"$f":"IF(+Radelkal!F310>0,+Radelkal!F310,\"\")","v":""},null,{"$f":"IF(W311<>\"\",SUM($AI$6:AI311)/10,\"\")","v":""},null,{"$f":"IF(Y311>0,+Y311/Daten!$I$18^2,\"\")","v":""},null,null,0,{"$f":"IF(WEEKDAY(A311)=1,IF(E311=1,VLOOKUP(AE311,Daten!$C$49:$D$102,2),\" \"),\"\")","v":""},22,0,0,0,""]
[{"$f":"+A310+1","v":"2021-06-03"},6,"1900-01-05",1,0,null,null,":",null,":",null," "," ","",null,null,0,"",null,null,"",{"$f":"IF(+Radelkal!F311>0,+Radelkal!F311,\"\")","v":""},null,{"$f":"IF(W312<>\"\",SUM($AI$6:AI312)/10,\"\")","v":""},null,{"$f":"IF(Y312>0,+Y312/Daten!$I$18^2,\"\")","v":""},null,null,0,{"$f":"IF(WEEKDAY(A312)=1,IF(E312=1,VLOOKUP(AE312,Daten!$C$49:$D$102,2),\" \"),\"\")","v":""},22,0,0,0,""]
[{"$f":"+A312","v":"2021-06-03"},6,"1900-01-05",2,2,null,null,":",null,":",null," "," ","",null,null,0,"",null,null,"",{"$f":"IF(+Radelkal!F312>0,+Radelkal!F312,\"\")","v":""},null,{"$f":"IF(W313<>\"\",SUM($AI$6:AI313)/10,\"\")","v":""},null,{"$f":"IF(Y313>0,+Y313/Daten!$I$18^2,\"\")","v":""},null,null,0,{"$f":"IF(WEEKDAY(A313)=1,IF(E313=1,VLOOKUP(AE313,Daten!$C$49:$D$102,2),\" \"),\"\")","v":""},22,0,0,0,""]
[{"$f":"+A312+1","v":"2021-06-04"},6,"1900-01-06",1,0,null,null,":",null,":",null," "," ","",null,null,0,"",null,null,"",{"$f":"IF(+Radelkal!F313>0,+Radelkal!F313,\"\")","v":""},null,{"$f":"IF(W314<>\"\",SUM($AI$6:AI314)/10,\"\")","v":""},null,{"$f":"IF(Y314>0,+Y314/Daten!$I$18^2,\"\")","v":""},null,null,0,{"$f":"IF(WEEKDAY(A314)=1,IF(E314=1,VLOOKUP(AE314,Daten!$C$49:$D$102,2),\" \"),\"\")","v":""},22,0,0,0,""]
[{"$f":"+A314","v":"2021-06-04"},6,"1900-01-06",2,2,null,null,":",null,":",null," "," ","",null,null,0,"",null,null,"",{"$f":"IF(+Radelkal!F314>0,+Radelkal!F314,\"\")","v":""},null,{"$f":"IF(W315<>\"\",SUM($AI$6:AI315)/10,\"\")","v":""},null,{"$f":"IF(Y315>0,+Y315/Daten!$I$18^2,\"\")","v":""},null,null,0,{"$f":"IF(WEEKDAY(A315)=1,IF(E315=1,VLOOKUP(AE315,Daten!$C$49:$D$102,2),\" \"),\"\")","v":""},22,0,0,0,""]
[{"$f":"+A314+1","v":"2021-06-05"},6,"1900-01-07",1,0,null,null,":",null,":",null," "," ","",null,null,0,"",null,null,"",{"$f":"IF(+Radelkal!F315>0,+Radelkal!F315,\"\")","v":""},null,{"$f":"IF(W316<>\"\",SUM($AI$6:AI316)/10,\"\")","v":""},null,{"$f":"IF(Y316>0,+Y316/Daten!$I$18^2,\"\")","v":""},null,null,0,{"$f":"IF(WEEKDAY(A316)=1,IF(E316=1,VLOOKUP(AE316,Daten!$C$49:$D$102,2),\" \"),\"\")","v":""},22,0,0,0,""]
[{"$f":"+A316","v":"2021-06-05"},6,"1900-01-07",2,2,null,null,":",null,":",null," "," ","",null,null,0,"",null,null,"",{"$f":"IF(+Radelkal!F316>0,+Radelkal!F316,\"\")","v":""},null,{"$f":"IF(W317<>\"\",SUM($AI$6:AI317)/10,\"\")","v":""},null,{"$f":"IF(Y317>0,+Y317/Daten!$I$18^2,\"\")","v":""},null,null,0,{"$f":"IF(WEEKDAY(A317)=1,IF(E317=1,VLOOKUP(AE317,Daten!$C$49:$D$102,2),\" \"),\"\")","v":""},22,0,0,0,""]
[{"$f":"+A316+1","v":"2021-06-06"},6,"1900-01-01",1,0,null,null,":",null,":",null," "," ","",null,null,0,"",null,null,"",{"$f":"IF(+Radelkal!F317>0,+Radelkal!F317,\"\")","v":""},null,{"$f":"IF(W318<>\"\",SUM($AI$6:AI318)/10,\"\")","v":""},null,{"$f":"IF(Y318>0,+Y318/Daten!$I$18^2,\"\")","v":""},null,null,0,{"$f":"IF(WEEKDAY(A318)=1,IF(E318=1,VLOOKUP(AE318,Daten!$C$49:$D$102,2),\" \"),\"\")","v":" "},22,0,0,0,""]
[{"$f":"+A318","v":"2021-06-06"},6,"1900-01-01",2,1,null,null,":",null,":",null," "," ","",null,null,0,"",null,null,"",{"$f":"IF(+Radelkal!F318>0,+Radelkal!F318,\"\")","v":""},null,{"$f":"IF(W319<>\"\",SUM($AI$6:AI319)/10,\"\")","v":""},null,{"$f":"IF(Y319>0,+Y319/Daten!$I$18^2,\"\")","v":""},null,null,0,{"$f":"IF(WEEKDAY(A319)=1,IF(E319=1,VLOOKUP(AE319,Daten!$C$49:$D$102,2),\" \"),\"\")","v":0},22,0,0,0,""]
[{"$f":"+A318+1","v":"2021-06-07"},6,"1900-01-02",1,0,null,null,":",null,":",null," "," ","",null,null,0,"",null,null,"",{"$f":"IF(+Radelkal!F319>0,+Radelkal!F319,\"\")","v":""},null,{"$f":"IF(W320<>\"\",SUM($AI$6:AI320)/10,\"\")","v":""},null,{"$f":"IF(Y320>0,+Y320/Daten!$I$18^2,\"\")","v":""},null,null,0,{"$f":"IF(WEEKDAY(A320)=1,IF(E320=1,VLOOKUP(AE320,Daten!$C$49:$D$102,2),\" \"),\"\")","v":""},23,0,0,0,""]
[{"$f":"+A320","v":"2021-06-07"},6,"1900-01-02",2,2,null,null,":",null,":",null," "," ","",null,null,0,"",null,null,"",{"$f":"IF(+Radelkal!F320>0,+Radelkal!F320,\"\")","v":""},null,{"$f":"IF(W321<>\"\",SUM($AI$6:AI321)/10,\"\")","v":""},null,{"$f":"IF(Y321>0,+Y321/Daten!$I$18^2,\"\")","v":""},null,null,0,{"$f":"IF(WEEKDAY(A321)=1,IF(E321=1,VLOOKUP(AE321,Daten!$C$49:$D$102,2),\" \"),\"\")","v":""},23,0,0,0,""]
[{"$f":"+A320+1","v":"2021-06-08"},6,"1900-01-03",1,0,null,null,":",null,":",null," "," ","",null,null,0,"",null,null,"",{"$f":"IF(+Radelkal!F321>0,+Radelkal!F321,\"\")","v":""},null,{"$f":"IF(W322<>\"\",SUM($AI$6:AI322)/10,\"\")","v":""},null,{"$f":"IF(Y322>0,+Y322/Daten!$I$18^2,\"\")","v":""},null,null,0,{"$f":"IF(WEEKDAY(A322)=1,IF(E322=1,VLOOKUP(AE322,Daten!$C$49:$D$102,2),\" \"),\"\")","v":""},23,0,0,0,""]
[{"$f":"+A322","v":"2021-06-08"},6,"1900-01-03",2,2,null,null,":",null,":",null," "," ","",null,null,0,"",null,null,"",{"$f":"IF(+Radelkal!F322>0,+Radelkal!F322,\"\")","v":""},null,{"$f":"IF(W323<>\"\",SUM($AI$6:AI323)/10,\"\")","v":""},null,{"$f":"IF(Y323>0,+Y323/Daten!$I$18^2,\"\")","v":""},null,null,0,{"$f":"IF(WEEKDAY(A323)=1,IF(E323=1,VLOOKUP(AE323,Daten!$C$49:$D$102,2),\" \"),\"\")","v":""},23,0,0,0,""]
[{"$f":"+A322+1","v":"2021-06-09"},6,"1900-01-04",1,0,null,null,":",null,":",null," "," ","",null,null,0,"",null,null,"",{"$f":"IF(+Radelkal!F323>0,+Radelkal!F323,\"\")","v":""},null,{"$f":"IF(W324<>\"\",SUM($AI$6:AI324)/10,\"\")","v":""},null,{"$f":"IF(Y324>0,+Y324/Daten!$I$18^2,\"\")","v":""},null,null,0,{"$f":"IF(WEEKDAY(A324)=1,IF(E324=1,VLOOKUP(AE324,Daten!$C$49:$D$102,2),\" \"),\"\")","v":""},23,0,0,0,""]
[{"$f":"+A324","v":"2021-06-09"},6,"1900-01-04",2,2,null,null,":",null,":",null," "," ","",null,null,0,"",null,null,{"$f":"IF(COUNTBLANK(T325)=1,\"\",IF(T325=\"10\",\"0\",10-T325))","v":""},{"$f":"IF(+Radelkal!F324>0,+Radelkal!F324,\"\")","v":""},null,{"$f":"IF(W325<>\"\",SUM($AI$6:AI325)/10,\"\")","v":""},null,{"$f":"IF(Y325>0,+Y325/Daten!$I$18^2,\"\")","v":""},null,null,0,{"$f":"IF(WEEKDAY(A325)=1,IF(E325=1,VLOOKUP(AE325,Daten!$C$49:$D$102,2),\" \"),\"\")","v":""},23,0,0,0,""]
[{"$f":"+A324+1","v":"2021-06-10"},6,"1900-01-05",1,0,null,null,":",null,":",null," "," ","",null,null,{"$f":"IF(maxhf<100,0,IF(ISBLANK(P326)=\"WAHR\",P326,P326/maxhf)*100)","v":0},{"$f":"IF(F326>0,IF(P326>0,+F326*(F326*1000/(G326*60+I326+K326/60))/(maxhf-P326)*(maxhf/220),\"\"),\"\")","v":""},null,null,"",{"$f":"IF(+Radelkal!F325>0,+Radelkal!F325,\"\")","v":""},null,{"$f":"IF(W326<>\"\",SUM($AI$6:AI326)/10,\"\")","v":""},null,{"$f":"IF(Y326>0,+Y326/Daten!$I$18^2,\"\")","v":""},null,null,0,{"$f":"IF(WEEKDAY(A326)=1,IF(E326=1,VLOOKUP(AE326,Daten!$C$49:$D$102,2),\" \"),\"\")","v":""},23,0,0,0,""]
[{"$f":"+A326","v":"2021-06-10"},{"$f":"MONTH(A327)","v":6},{"$f":"WEEKDAY(A327)","v":"1900-01-05"},2,{"$f":"IF(D327=2,IF(C327=1,1,2),0)","v":2},null,null,":",null,":",null,{"$f":"IF((+G327*60+I327+K327/60)>0,G327*60+I327+K327/60,\" \")","v":" "},{"$f":"IF(+F327>0,+L327/F327/24/60,\" \")","v":" "},{"$f":"IF(F327>0,+F327/(L327/60),\"\")","v":""},null,null,0,"",null,null,"",{"$f":"IF(+Radelkal!F326>0,+Radelkal!F326,\"\")","v":""},null,{"$f":"IF(W327<>\"\",SUM($AI$6:AI327)/10,\"\")","v":""},null,{"$f":"IF(Y327>0,+Y327/Daten!$I$18^2,\"\")","v":""},null,null,0,{"$f":"IF(WEEKDAY(A327)=1,IF(E327=1,VLOOKUP(AE327,Daten!$C$49:$D$102,2),\" \"),\"\")","v":""},23,{"$f":"IF(F327>0,IF(D327=2,IF((AB326+AB327)>0,1,0),0),0)","v":0},{"$f":"+T327/10*F327","v":0},{"$f":"IF(COUNTBLANK(T327)=1,0,+U327/10*F327)","v":0},{"$f":"IF(W327<>\"\",10,\"\")","v":""}]
[{"$f":"+A326+1","v":"2021-06-11"},6,"1900-01-06",1,0,null,null,":",null,":",null," "," ","",null,null,0,"",null,null,"",{"$f":"IF(+Radelkal!F327>0,+Radelkal!F327,\"\")","v":""},null,{"$f":"IF(W328<>\"\",SUM($AI$6:AI328)/10,\"\")","v":""},null,{"$f":"IF(Y328>0,+Y328/Daten!$I$18^2,\"\")","v":""},null,null,{"$f":"IF(D328=2,+F328+F327,0)","v":0},{"$f":"IF(WEEKDAY(A328)=1,IF(E328=1,VLOOKUP(AE328,Daten!$C$49:$D$102,2),\" \"),\"\")","v":""},{"$f":"IF(WEEKDAY(A328)=2,IF(D328=1,AE327+1,AE327),AE327)","v":23},0,0,0,""]
[{"$f":"+A328","v":"2021-06-11"},6,"1900-01-06",2,2,null,null,":",null,":",null," "," ","",null,null,0,"",null,null,"",{"$f":"IF(+Radelkal!F328>0,+Radelkal!F328,\"\")","v":""},null,{"$f":"IF(W329<>\"\",SUM($AI$6:AI329)/10,\"\")","v":""},null,{"$f":"IF(Y329>0,+Y329/Daten!$I$18^2,\"\")","v":""},null,null,0,{"$f":"IF(WEEKDAY(A329)=1,IF(E329=1,VLOOKUP(AE329,Daten!$C$49:$D$102,2),\" \"),\"\")","v":""},23,0,0,0,""]
[{"$f":"+A328+1","v":"2021-06-12"},6,"1900-01-07",1,0,null,null,":",null,":",null," "," ","",null,null,0,"",null,null,"",{"$f":"IF(+Radelkal!F329>0,+Radelkal!F329,\"\")","v":""},null,{"$f":"IF(W330<>\"\",SUM($AI$6:AI330)/10,\"\")","v":""},null,{"$f":"IF(Y330>0,+Y330/Daten!$I$18^2,\"\")","v":""},null,null,0,{"$f":"IF(WEEKDAY(A330)=1,IF(E330=1,VLOOKUP(AE330,Daten!$C$49:$D$102,2),\" \"),\"\")","v":""},23,0,0,0,""]
[{"$f":"+A330","v":"2021-06-12"},6,"1900-01-07",2,2,null,null,":",null,":",null," "," ","",null,null,0,"",null,null,"",{"$f":"IF(+Radelkal!F330>0,+Radelkal!F330,\"\")","v":""},null,{"$f":"IF(W331<>\"\",SUM($AI$6:AI331)/10,\"\")","v":""},null,{"$f":"IF(Y331>0,+Y331/Daten!$I$18^2,\"\")","v":""},null,null,0,{"$f":"IF(WEEKDAY(A331)=1,IF(E331=1,VLOOKUP(AE331,Daten!$C$49:$D$102,2),\" \"),\"\")","v":""},23,0,0,0,""]
[{"$f":"+A330+1","v":"2021-06-13"},6,"1900-01-01",1,0,null,null,":",null,":",null," "," ","",null,null,0,"",null,null,"",{"$f":"IF(+Radelkal!F331>0,+Radelkal!F331,\"\")","v":""},null,{"$f":"IF(W332<>\"\",SUM($AI$6:AI332)/10,\"\")","v":""},null,{"$f":"IF(Y332>0,+Y332/Daten!$I$18^2,\"\")","v":""},null,null,0,{"$f":"IF(WEEKDAY(A332)=1,IF(E332=1,VLOOKUP(AE332,Daten!$C$49:$D$102,2),\" \"),\"\")","v":" "},23,0,0,0,""]
[{"$f":"+A332","v":"2021-06-13"},6,"1900-01-01",2,1,null,null,":",null,":",null," "," ","",null,null,0,"",null,null,"",{"$f":"IF(+Radelkal!F332>0,+Radelkal!F332,\"\")","v":""},null,{"$f":"IF(W333<>\"\",SUM($AI$6:AI333)/10,\"\")","v":""},null,{"$f":"IF(Y333>0,+Y333/Daten!$I$18^2,\"\")","v":""},null,null,0,{"$f":"IF(WEEKDAY(A333)=1,IF(E333=1,VLOOKUP(AE333,Daten!$C$49:$D$102,2),\" \"),\"\")","v":0},23,0,0,0,""]
[{"$f":"+A332+1","v":"2021-06-14"},6,"1900-01-02",1,0,null,null,":",null,":",null," "," ","",null,null,0,"",null,null,"",{"$f":"IF(+Radelkal!F333>0,+Radelkal!F333,\"\")","v":""},null,{"$f":"IF(W334<>\"\",SUM($AI$6:AI334)/10,\"\")","v":""},null,{"$f":"IF(Y334>0,+Y334/Daten!$I$18^2,\"\")","v":""},null,null,0,{"$f":"IF(WEEKDAY(A334)=1,IF(E334=1,VLOOKUP(AE334,Daten!$C$49:$D$102,2),\" \"),\"\")","v":""},24,0,0,0,""]
[{"$f":"+A334","v":"2021-06-14"},6,"1900-01-02",2,2,null,null,":",null,":",null," "," ","",null,null,0,"",null,null,"",{"$f":"IF(+Radelkal!F334>0,+Radelkal!F334,\"\")","v":""},null,{"$f":"IF(W335<>\"\",SUM($AI$6:AI335)/10,\"\")","v":""},null,{"$f":"IF(Y335>0,+Y335/Daten!$I$18^2,\"\")","v":""},null,null,0,{"$f":"IF(WEEKDAY(A335)=1,IF(E335=1,VLOOKUP(AE335,Daten!$C$49:$D$102,2),\" \"),\"\")","v":""},24,0,0,0,""]
[{"$f":"+A334+1","v":"2021-06-15"},6,"1900-01-03",1,0,null,null,":",null,":",null," "," ","",null,null,0,"",null,null,"",{"$f":"IF(+Radelkal!F335>0,+Radelkal!F335,\"\")","v":""},null,{"$f":"IF(W336<>\"\",SUM($AI$6:AI336)/10,\"\")","v":""},null,{"$f":"IF(Y336>0,+Y336/Daten!$I$18^2,\"\")","v":""},null,null,0,{"$f":"IF(WEEKDAY(A336)=1,IF(E336=1,VLOOKUP(AE336,Daten!$C$49:$D$102,2),\" \"),\"\")","v":""},24,0,0,0,""]
[{"$f":"+A336","v":"2021-06-15"},6,"1900-01-03",2,2,null,null,":",null,":",null," "," ","",null,null,0,"",null,null,"",{"$f":"IF(+Radelkal!F336>0,+Radelkal!F336,\"\")","v":""},null,{"$f":"IF(W337<>\"\",SUM($AI$6:AI337)/10,\"\")","v":""},null,{"$f":"IF(Y337>0,+Y337/Daten!$I$18^2,\"\")","v":""},null,null,{"$f":"IF(D337=2,+F337+F336,0)","v":0},{"$f":"IF(WEEKDAY(A337)=1,IF(E337=1,VLOOKUP(AE337,Daten!$C$49:$D$102,2),\" \"),\"\")","v":""},{"$f":"IF(WEEKDAY(A337)=2,IF(D337=1,AE336+1,AE336),AE336)","v":24},{"$f":"IF(F337>0,IF(D337=2,IF((AB336+AB337)>0,1,0),0),0)","v":0},0,0,""]
[{"$f":"+A336+1","v":"2021-06-16"},6,"1900-01-04",1,0,null,null,":",null,":",null," "," ","",null,null,0,"",null,null,"",{"$f":"IF(+Radelkal!F337>0,+Radelkal!F337,\"\")","v":""},null,{"$f":"IF(W338<>\"\",SUM($AI$6:AI338)/10,\"\")","v":""},null,{"$f":"IF(Y338>0,+Y338/Daten!$I$18^2,\"\")","v":""},null,null,0,{"$f":"IF(WEEKDAY(A338)=1,IF(E338=1,VLOOKUP(AE338,Daten!$C$49:$D$102,2),\" \"),\"\")","v":""},24,0,0,0,""]
[{"$f":"+A338","v":"2021-06-16"},6,"1900-01-04",2,2,null,null,":",null,":",null," "," ","",null,null,0,"",null,null,"",{"$f":"IF(+Radelkal!F338>0,+Radelkal!F338,\"\")","v":""},null,{"$f":"IF(W339<>\"\",SUM($AI$6:AI339)/10,\"\")","v":""},null,{"$f":"IF(Y339>0,+Y339/Daten!$I$18^2,\"\")","v":""},null,null,0,{"$f":"IF(WEEKDAY(A339)=1,IF(E339=1,VLOOKUP(AE339,Daten!$C$49:$D$102,2),\" \"),\"\")","v":""},24,0,0,0,""]
[{"$f":"+A338+1","v":"2021-06-17"},6,"1900-01-05",1,0,null,null,":",null,":",null," "," ","",null,null,0,"",null,null,"",{"$f":"IF(+Radelkal!F339>0,+Radelkal!F339,\"\")","v":""},null,{"$f":"IF(W340<>\"\",SUM($AI$6:AI340)/10,\"\")","v":""},null,{"$f":"IF(Y340>0,+Y340/Daten!$I$18^2,\"\")","v":""},null,null,0,{"$f":"IF(WEEKDAY(A340)=1,IF(E340=1,VLOOKUP(AE340,Daten!$C$49:$D$102,2),\" \"),\"\")","v":""},24,0,0,0,""]
[{"$f":"+A340","v":"2021-06-17"},6,"1900-01-05",2,2,null,null,":",null,":",null," "," ","",null,null,0,"",null,null,"",{"$f":"IF(+Radelkal!F340>0,+Radelkal!F340,\"\")","v":""},null,{"$f":"IF(W341<>\"\",SUM($AI$6:AI341)/10,\"\")","v":""},null,{"$f":"IF(Y341>0,+Y341/Daten!$I$18^2,\"\")","v":""},null,null,0,{"$f":"IF(WEEKDAY(A341)=1,IF(E341=1,VLOOKUP(AE341,Daten!$C$49:$D$102,2),\" \"),\"\")","v":""},24,0,0,0,""]
[{"$f":"+A340+1","v":"2021-06-18"},6,"1900-01-06",1,0,null,null,":",null,":",null," "," ","",null,null,0,"",null,null,"",{"$f":"IF(+Radelkal!F341>0,+Radelkal!F341,\"\")","v":""},null,{"$f":"IF(W342<>\"\",SUM($AI$6:AI342)/10,\"\")","v":""},null,{"$f":"IF(Y342>0,+Y342/Daten!$I$18^2,\"\")","v":""},null,null,0,{"$f":"IF(WEEKDAY(A342)=1,IF(E342=1,VLOOKUP(AE342,Daten!$C$49:$D$102,2),\" \"),\"\")","v":""},24,0,0,0,""]
[{"$f":"+A342","v":"2021-06-18"},6,"1900-01-06",2,2,null,null,":",null,":",null," "," ","",null,null,0,"",null,null,"",{"$f":"IF(+Radelkal!F342>0,+Radelkal!F342,\"\")","v":""},null,{"$f":"IF(W343<>\"\",SUM($AI$6:AI343)/10,\"\")","v":""},null,{"$f":"IF(Y343>0,+Y343/Daten!$I$18^2,\"\")","v":""},null,null,0,{"$f":"IF(WEEKDAY(A343)=1,IF(E343=1,VLOOKUP(AE343,Daten!$C$49:$D$102,2),\" \"),\"\")","v":""},24,0,0,0,""]
[{"$f":"+A342+1","v":"2021-06-19"},6,"1900-01-07",1,0,null,null,":",null,":",null," "," ","",null,null,0,"",null,null,"",{"$f":"IF(+Radelkal!F343>0,+Radelkal!F343,\"\")","v":""},null,{"$f":"IF(W344<>\"\",SUM($AI$6:AI344)/10,\"\")","v":""},null,{"$f":"IF(Y344>0,+Y344/Daten!$I$18^2,\"\")","v":""},null,null,0,{"$f":"IF(WEEKDAY(A344)=1,IF(E344=1,VLOOKUP(AE344,Daten!$C$49:$D$102,2),\" \"),\"\")","v":""},24,0,0,0,""]
[{"$f":"+A344","v":"2021-06-19"},6,"1900-01-07",2,2,null,null,":",null,":",null," "," ","",null,null,0,"",null,null,"",{"$f":"IF(+Radelkal!F344>0,+Radelkal!F344,\"\")","v":""},null,{"$f":"IF(W345<>\"\",SUM($AI$6:AI345)/10,\"\")","v":""},null,{"$f":"IF(Y345>0,+Y345/Daten!$I$18^2,\"\")","v":""},null,null,0,{"$f":"IF(WEEKDAY(A345)=1,IF(E345=1,VLOOKUP(AE345,Daten!$C$49:$D$102,2),\" \"),\"\")","v":""},24,0,0,0,""]
[{"$f":"+A344+1","v":"2021-06-20"},6,"1900-01-01",1,0,null,null,":",null,":",null," "," ","",null,null,0,"",null,null,"",{"$f":"IF(+Radelkal!F345>0,+Radelkal!F345,\"\")","v":""},null,{"$f":"IF(W346<>\"\",SUM($AI$6:AI346)/10,\"\")","v":""},null,{"$f":"IF(Y346>0,+Y346/Daten!$I$18^2,\"\")","v":""},null,null,0,{"$f":"IF(WEEKDAY(A346)=1,IF(E346=1,VLOOKUP(AE346,Daten!$C$49:$D$102,2),\" \"),\"\")","v":" "},24,0,0,0,""]
[{"$f":"+A346","v":"2021-06-20"},6,"1900-01-01",2,1,null,null,":",null,":",null," "," ","",null,null,0,"",null,null,"",{"$f":"IF(+Radelkal!F346>0,+Radelkal!F346,\"\")","v":""},null,{"$f":"IF(W347<>\"\",SUM($AI$6:AI347)/10,\"\")","v":""},null,{"$f":"IF(Y347>0,+Y347/Daten!$I$18^2,\"\")","v":""},null,null,0,{"$f":"IF(WEEKDAY(A347)=1,IF(E347=1,VLOOKUP(AE347,Daten!$C$49:$D$102,2),\" \"),\"\")","v":0},24,0,0,0,""]
[{"$f":"+A346+1","v":"2021-06-21"},6,"1900-01-02",1,0,null,null,":",null,":",null," "," ","",null,null,0,"",null,null,"",{"$f":"IF(+Radelkal!F347>0,+Radelkal!F347,\"\")","v":""},null,{"$f":"IF(W348<>\"\",SUM($AI$6:AI348)/10,\"\")","v":""},null,{"$f":"IF(Y348>0,+Y348/Daten!$I$18^2,\"\")","v":""},null,null,0,{"$f":"IF(WEEKDAY(A348)=1,IF(E348=1,VLOOKUP(AE348,Daten!$C$49:$D$102,2),\" \"),\"\")","v":""},25,0,0,0,""]
[{"$f":"+A348","v":"2021-06-21"},6,"1900-01-02",2,2,null,null,":",null,":",null," "," ","",null,null,0,"",null,null,"",{"$f":"IF(+Radelkal!F348>0,+Radelkal!F348,\"\")","v":""},null,{"$f":"IF(W349<>\"\",SUM($AI$6:AI349)/10,\"\")","v":""},null,{"$f":"IF(Y349>0,+Y349/Daten!$I$18^2,\"\")","v":""},null,null,0,{"$f":"IF(WEEKDAY(A349)=1,IF(E349=1,VLOOKUP(AE349,Daten!$C$49:$D$102,2),\" \"),\"\")","v":""},25,0,0,0,""]
[{"$f":"+A348+1","v":"2021-06-22"},6,"1900-01-03",1,0,null,null,":",null,":",null," "," ","",null,null,0,"",null,null,"",{"$f":"IF(+Radelkal!F349>0,+Radelkal!F349,\"\")","v":""},null,{"$f":"IF(W350<>\"\",SUM($AI$6:AI350)/10,\"\")","v":""},null,{"$f":"IF(Y350>0,+Y350/Daten!$I$18^2,\"\")","v":""},null,null,0,{"$f":"IF(WEEKDAY(A350)=1,IF(E350=1,VLOOKUP(AE350,Daten!$C$49:$D$102,2),\" \"),\"\")","v":""},25,0,0,0,""]
[{"$f":"+A350","v":"2021-06-22"},6,"1900-01-03",2,2,null,null,":",null,":",null," "," ","",null,null,0,"",null,null,"",{"$f":"IF(+Radelkal!F350>0,+Radelkal!F350,\"\")","v":""},null,{"$f":"IF(W351<>\"\",SUM($AI$6:AI351)/10,\"\")","v":""},null,{"$f":"IF(Y351>0,+Y351/Daten!$I$18^2,\"\")","v":""},null,null,0,{"$f":"IF(WEEKDAY(A351)=1,IF(E351=1,VLOOKUP(AE351,Daten!$C$49:$D$102,2),\" \"),\"\")","v":""},25,0,0,0,""]
[{"$f":"+A350+1","v":"2021-06-23"},6,"1900-01-04",1,0,null,null,":",null,":",null," "," ","",null,null,0,"",null,null,"",{"$f":"IF(+Radelkal!F351>0,+Radelkal!F351,\"\")","v":""},null,{"$f":"IF(W352<>\"\",SUM($AI$6:AI352)/10,\"\")","v":""},null,{"$f":"IF(Y352>0,+Y352/Daten!$I$18^2,\"\")","v":""},null,null,0,{"$f":"IF(WEEKDAY(A352)=1,IF(E352=1,VLOOKUP(AE352,Daten!$C$49:$D$102,2),\" \"),\"\")","v":""},25,0,0,0,""]
[{"$f":"+A352","v":"2021-06-23"},6,"1900-01-04",2,2,null,null,":",null,":",null," "," ","",null,null,0,"",null,null,"",{"$f":"IF(+Radelkal!F352>0,+Radelkal!F352,\"\")","v":""},null,{"$f":"IF(W353<>\"\",SUM($AI$6:AI353)/10,\"\")","v":""},null,{"$f":"IF(Y353>0,+Y353/Daten!$I$18^2,\"\")","v":""},null,null,0,{"$f":"IF(WEEKDAY(A353)=1,IF(E353=1,VLOOKUP(AE353,Daten!$C$49:$D$102,2),\" \"),\"\")","v":""},25,0,0,0,""]
[{"$f":"+A352+1","v":"2021-06-24"},6,"1900-01-05",1,0,null,null,":",null,":",null," "," ","",null,null,0,"",null,null,"",{"$f":"IF(+Radelkal!F353>0,+Radelkal!F353,\"\")","v":""},null,{"$f":"IF(W354<>\"\",SUM($AI$6:AI354)/10,\"\")","v":""},null,{"$f":"IF(Y354>0,+Y354/Daten!$I$18^2,\"\")","v":""},null,null,0,{"$f":"IF(WEEKDAY(A354)=1,IF(E354=1,VLOOKUP(AE354,Daten!$C$49:$D$102,2),\" \"),\"\")","v":""},25,0,0,0,""]
[{"$f":"+A354","v":"2021-06-24"},6,"1900-01-05",2,2,null,null,":",null,":",null," "," ","",null,null,0,"",null,null,"",{"$f":"IF(+Radelkal!F354>0,+Radelkal!F354,\"\")","v":""},null,{"$f":"IF(W355<>\"\",SUM($AI$6:AI355)/10,\"\")","v":""},null,{"$f":"IF(Y355>0,+Y355/Daten!$I$18^2,\"\")","v":""},null,null,0,{"$f":"IF(WEEKDAY(A355)=1,IF(E355=1,VLOOKUP(AE355,Daten!$C$49:$D$102,2),\" \"),\"\")","v":""},25,0,0,0,""]
[{"$f":"+A354+1","v":"2021-06-25"},6,"1900-01-06",1,0,null,null,":",null,":",null," "," ","",null,null,0,"",null,null,"",{"$f":"IF(+Radelkal!F355>0,+Radelkal!F355,\"\")","v":""},null,{"$f":"IF(W356<>\"\",SUM($AI$6:AI356)/10,\"\")","v":""},null,{"$f":"IF(Y356>0,+Y356/Daten!$I$18^2,\"\")","v":""},null,null,0,{"$f":"IF(WEEKDAY(A356)=1,IF(E356=1,VLOOKUP(AE356,Daten!$C$49:$D$102,2),\" \"),\"\")","v":""},25,0,0,0,""]
[{"$f":"+A356","v":"2021-06-25"},6,"1900-01-06",2,2,null,null,":",null,":",null," "," ","",null,null,0,"",null,null,"",{"$f":"IF(+Radelkal!F356>0,+Radelkal!F356,\"\")","v":""},null,{"$f":"IF(W357<>\"\",SUM($AI$6:AI357)/10,\"\")","v":""},null,{"$f":"IF(Y357>0,+Y357/Daten!$I$18^2,\"\")","v":""},null,null,0,{"$f":"IF(WEEKDAY(A357)=1,IF(E357=1,VLOOKUP(AE357,Daten!$C$49:$D$102,2),\" \"),\"\")","v":""},25,0,0,0,""]
[{"$f":"+A356+1","v":"2021-06-26"},6,"1900-01-07",1,0,null,null,":",null,":",null," "," ","",null,null,0,"",null,null,"",{"$f":"IF(+Radelkal!F357>0,+Radelkal!F357,\"\")","v":""},null,{"$f":"IF(W358<>\"\",SUM($AI$6:AI358)/10,\"\")","v":""},null,{"$f":"IF(Y358>0,+Y358/Daten!$I$18^2,\"\")","v":""},null,null,0,{"$f":"IF(WEEKDAY(A358)=1,IF(E358=1,VLOOKUP(AE358,Daten!$C$49:$D$102,2),\" \"),\"\")","v":""},25,0,0,0,""]
[{"$f":"+A358","v":"2021-06-26"},6,"1900-01-07",2,2,null,null,":",null,":",null," "," ","",null,null,0,"",null,null,"",{"$f":"IF(+Radelkal!F358>0,+Radelkal!F358,\"\")","v":""},null,{"$f":"IF(W359<>\"\",SUM($AI$6:AI359)/10,\"\")","v":""},null,{"$f":"IF(Y359>0,+Y359/Daten!$I$18^2,\"\")","v":""},null,null,0,{"$f":"IF(WEEKDAY(A359)=1,IF(E359=1,VLOOKUP(AE359,Daten!$C$49:$D$102,2),\" \"),\"\")","v":""},25,0,0,0,""]
[{"$f":"+A358+1","v":"2021-06-27"},6,"1900-01-01",1,0,null,null,":",null,":",null," "," ","",null,null,0,"",null,null,"",{"$f":"IF(+Radelkal!F359>0,+Radelkal!F359,\"\")","v":""},null,{"$f":"IF(W360<>\"\",SUM($AI$6:AI360)/10,\"\")","v":""},null,{"$f":"IF(Y360>0,+Y360/Daten!$I$18^2,\"\")","v":""},null,null,0,{"$f":"IF(WEEKDAY(A360)=1,IF(E360=1,VLOOKUP(AE360,Daten!$C$49:$D$102,2),\" \"),\"\")","v":" "},25,0,0,0,""]
[{"$f":"+A360","v":"2021-06-27"},6,"1900-01-01",2,1,null,null,":",null,":",null," "," ","",null,null,0,"",null,null,"",{"$f":"IF(+Radelkal!F360>0,+Radelkal!F360,\"\")","v":""},null,{"$f":"IF(W361<>\"\",SUM($AI$6:AI361)/10,\"\")","v":""},null,{"$f":"IF(Y361>0,+Y361/Daten!$I$18^2,\"\")","v":""},null,null,0,{"$f":"IF(WEEKDAY(A361)=1,IF(E361=1,VLOOKUP(AE361,Daten!$C$49:$D$102,2),\" \"),\"\")","v":0},25,0,0,0,""]
[{"$f":"+A360+1","v":"2021-06-28"},6,"1900-01-02",1,0,null,null,":",null,":",null," "," ","",null,null,0,"",null,null,"",{"$f":"IF(+Radelkal!F361>0,+Radelkal!F361,\"\")","v":""},null,{"$f":"IF(W362<>\"\",SUM($AI$6:AI362)/10,\"\")","v":""},null,{"$f":"IF(Y362>0,+Y362/Daten!$I$18^2,\"\")","v":""},null,null,0,{"$f":"IF(WEEKDAY(A362)=1,IF(E362=1,VLOOKUP(AE362,Daten!$C$49:$D$102,2),\" \"),\"\")","v":""},26,0,0,0,""]
[{"$f":"+A362","v":"2021-06-28"},6,"1900-01-02",2,2,null,null,":",null,":",null," "," ","",null,null,0,"",null,null,"",{"$f":"IF(+Radelkal!F362>0,+Radelkal!F362,\"\")","v":""},null,{"$f":"IF(W363<>\"\",SUM($AI$6:AI363)/10,\"\")","v":""},null,{"$f":"IF(Y363>0,+Y363/Daten!$I$18^2,\"\")","v":""},null,null,0,{"$f":"IF(WEEKDAY(A363)=1,IF(E363=1,VLOOKUP(AE363,Daten!$C$49:$D$102,2),\" \"),\"\")","v":""},26,0,0,0,""]
[{"$f":"+A362+1","v":"2021-06-29"},6,"1900-01-03",1,0,null,null,":",null,":",null," "," ","",null,null,0,"",null,null,"",{"$f":"IF(+Radelkal!F363>0,+Radelkal!F363,\"\")","v":""},null,{"$f":"IF(W364<>\"\",SUM($AI$6:AI364)/10,\"\")","v":""},null,{"$f":"IF(Y364>0,+Y364/Daten!$I$18^2,\"\")","v":""},null,null,0,{"$f":"IF(WEEKDAY(A364)=1,IF(E364=1,VLOOKUP(AE364,Daten!$C$49:$D$102,2),\" \"),\"\")","v":""},26,0,0,0,""]
[{"$f":"+A364","v":"2021-06-29"},6,"1900-01-03",2,2,null,null,":",null,":",null," "," ","",null,null,0,"",null,null,"",{"$f":"IF(+Radelkal!F364>0,+Radelkal!F364,\"\")","v":""},null,{"$f":"IF(W365<>\"\",SUM($AI$6:AI365)/10,\"\")","v":""},null,{"$f":"IF(Y365>0,+Y365/Daten!$I$18^2,\"\")","v":""},null,null,0,{"$f":"IF(WEEKDAY(A365)=1,IF(E365=1,VLOOKUP(AE365,Daten!$C$49:$D$102,2),\" \"),\"\")","v":""},26,0,0,0,""]
[{"$f":"+A364+1","v":"2021-06-30"},6,"1900-01-04",1,0,null,null,":",null,":",null," "," ","",null,null,0,"",null,null,"",{"$f":"IF(+Radelkal!F365>0,+Radelkal!F365,\"\")","v":""},null,{"$f":"IF(W366<>\"\",SUM($AI$6:AI366)/10,\"\")","v":""},null,{"$f":"IF(Y366>0,+Y366/Daten!$I$18^2,\"\")","v":""},null,null,0,{"$f":"IF(WEEKDAY(A366)=1,IF(E366=1,VLOOKUP(AE366,Daten!$C$49:$D$102,2),\" \"),\"\")","v":""},26,0,0,0,""]
[{"$f":"+A366","v":"2021-06-30"},6,"1900-01-04",2,2,null,null,":",null,":",null," "," ","",null,null,0,"",null,null,"",{"$f":"IF(+Radelkal!F366>0,+Radelkal!F366,\"\")","v":""},null,{"$f":"IF(W367<>\"\",SUM($AI$6:AI367)/10,\"\")","v":""},null,{"$f":"IF(Y367>0,+Y367/Daten!$I$18^2,\"\")","v":""},null,null,0,{"$f":"IF(WEEKDAY(A367)=1,IF(E367=1,VLOOKUP(AE367,Daten!$C$49:$D$102,2),\" \"),\"\")","v":""},26,0,0,0,""]
[{"$f":"+A366+1","v":"2021-07-01"},7,"1900-01-05",1,0,null,null,":",null,":",null," "," ","",null,null,0,"",null,null,"",{"$f":"IF(+Radelkal!F367>0,+Radelkal!F367,\"\")","v":""},null,{"$f":"IF(W368<>\"\",SUM($AI$6:AI368)/10,\"\")","v":""},null,{"$f":"IF(Y368>0,+Y368/Daten!$I$18^2,\"\")","v":""},null,null,0,{"$f":"IF(WEEKDAY(A368)=1,IF(E368=1,VLOOKUP(AE368,Daten!$C$49:$D$102,2),\" \"),\"\")","v":""},26,0,0,0,""]
[{"$f":"+A368","v":"2021-07-01"},7,"1900-01-05",2,2,null,null,":",null,":",null," "," ","",null,null,0,"",null,null,"",{"$f":"IF(+Radelkal!F368>0,+Radelkal!F368,\"\")","v":""},null,{"$f":"IF(W369<>\"\",SUM($AI$6:AI369)/10,\"\")","v":""},null,{"$f":"IF(Y369>0,+Y369/Daten!$I$18^2,\"\")","v":""},null,null,0,{"$f":"IF(WEEKDAY(A369)=1,IF(E369=1,VLOOKUP(AE369,Daten!$C$49:$D$102,2),\" \"),\"\")","v":""},26,0,0,0,""]
[{"$f":"+A368+1","v":"2021-07-02"},7,"1900-01-06",1,0,null,null,":",null,":",null," "," ","",null,null,0,"",null,null,"",{"$f":"IF(+Radelkal!F369>0,+Radelkal!F369,\"\")","v":""},null,{"$f":"IF(W370<>\"\",SUM($AI$6:AI370)/10,\"\")","v":""},null,{"$f":"IF(Y370>0,+Y370/Daten!$I$18^2,\"\")","v":""},null,null,0,{"$f":"IF(WEEKDAY(A370)=1,IF(E370=1,VLOOKUP(AE370,Daten!$C$49:$D$102,2),\" \"),\"\")","v":""},26,0,0,0,""]
[{"$f":"+A370","v":"2021-07-02"},7,"1900-01-06",2,2,null,null,":",null,":",null," "," ","",null,null,0,"",null,null,"",{"$f":"IF(+Radelkal!F370>0,+Radelkal!F370,\"\")","v":""},null,{"$f":"IF(W371<>\"\",SUM($AI$6:AI371)/10,\"\")","v":""},null,{"$f":"IF(Y371>0,+Y371/Daten!$I$18^2,\"\")","v":""},null,null,0,{"$f":"IF(WEEKDAY(A371)=1,IF(E371=1,VLOOKUP(AE371,Daten!$C$49:$D$102,2),\" \"),\"\")","v":""},26,0,0,0,""]
[{"$f":"+A370+1","v":"2021-07-03"},7,"1900-01-07",1,0,null,null,":",null,":",null," "," ","",null,null,0,"",null,null,"",{"$f":"IF(+Radelkal!F371>0,+Radelkal!F371,\"\")","v":""},null,{"$f":"IF(W372<>\"\",SUM($AI$6:AI372)/10,\"\")","v":""},null,{"$f":"IF(Y372>0,+Y372/Daten!$I$18^2,\"\")","v":""},null,null,0,{"$f":"IF(WEEKDAY(A372)=1,IF(E372=1,VLOOKUP(AE372,Daten!$C$49:$D$102,2),\" \"),\"\")","v":""},26,0,0,0,""]
[{"$f":"+A372","v":"2021-07-03"},7,"1900-01-07",2,2,null,null,":",null,":",null," "," ","",null,null,0,"",null,null,"",{"$f":"IF(+Radelkal!F372>0,+Radelkal!F372,\"\")","v":""},null,{"$f":"IF(W373<>\"\",SUM($AI$6:AI373)/10,\"\")","v":""},null,{"$f":"IF(Y373>0,+Y373/Daten!$I$18^2,\"\")","v":""},null,null,0,{"$f":"IF(WEEKDAY(A373)=1,IF(E373=1,VLOOKUP(AE373,Daten!$C$49:$D$102,2),\" \"),\"\")","v":""},26,0,0,0,""]
[{"$f":"+A372+1","v":"2021-07-04"},7,"1900-01-01",1,0,null,null,":",null,":",null," "," ","",null,null,0,"",null,null,"",{"$f":"IF(+Radelkal!F373>0,+Radelkal!F373,\"\")","v":""},null,{"$f":"IF(W374<>\"\",SUM($AI$6:AI374)/10,\"\")","v":""},null,{"$f":"IF(Y374>0,+Y374/Daten!$I$18^2,\"\")","v":""},null,null,0,{"$f":"IF(WEEKDAY(A374)=1,IF(E374=1,VLOOKUP(AE374,Daten!$C$49:$D$102,2),\" \"),\"\")","v":" "},26,0,0,0,""]
[{"$f":"+A374","v":"2021-07-04"},7,"1900-01-01",2,1,null,null,":",null,":",null," "," ","",null,null,0,"",null,null,"",{"$f":"IF(+Radelkal!F374>0,+Radelkal!F374,\"\")","v":""},null,{"$f":"IF(W375<>\"\",SUM($AI$6:AI375)/10,\"\")","v":""},null,{"$f":"IF(Y375>0,+Y375/Daten!$I$18^2,\"\")","v":""},null,null,0,{"$f":"IF(WEEKDAY(A375)=1,IF(E375=1,VLOOKUP(AE375,Daten!$C$49:$D$102,2),\" \"),\"\")","v":0},26,0,0,0,""]
[{"$f":"+A374+1","v":"2021-07-05"},7,"1900-01-02",1,0,null,null,":",null,":",null," "," ","",null,null,0,"",null,null,"",{"$f":"IF(+Radelkal!F375>0,+Radelkal!F375,\"\")","v":""},null,{"$f":"IF(W376<>\"\",SUM($AI$6:AI376)/10,\"\")","v":""},null,{"$f":"IF(Y376>0,+Y376/Daten!$I$18^2,\"\")","v":""},null,null,0,{"$f":"IF(WEEKDAY(A376)=1,IF(E376=1,VLOOKUP(AE376,Daten!$C$49:$D$102,2),\" \"),\"\")","v":""},27,0,0,0,""]
[{"$f":"+A376","v":"2021-07-05"},7,"1900-01-02",2,2,null,null,":",null,":",null," "," ","",null,null,0,"",null,null,"",{"$f":"IF(+Radelkal!F376>0,+Radelkal!F376,\"\")","v":""},null,{"$f":"IF(W377<>\"\",SUM($AI$6:AI377)/10,\"\")","v":""},null,{"$f":"IF(Y377>0,+Y377/Daten!$I$18^2,\"\")","v":""},null,null,0,{"$f":"IF(WEEKDAY(A377)=1,IF(E377=1,VLOOKUP(AE377,Daten!$C$49:$D$102,2),\" \"),\"\")","v":""},27,0,0,0,""]
[{"$f":"+A376+1","v":"2021-07-06"},7,"1900-01-03",1,0,null,null,":",null,":",null," "," ","",null,null,0,"",null,null,"",{"$f":"IF(+Radelkal!F377>0,+Radelkal!F377,\"\")","v":""},null,{"$f":"IF(W378<>\"\",SUM($AI$6:AI378)/10,\"\")","v":""},null,{"$f":"IF(Y378>0,+Y378/Daten!$I$18^2,\"\")","v":""},null,null,0,{"$f":"IF(WEEKDAY(A378)=1,IF(E378=1,VLOOKUP(AE378,Daten!$C$49:$D$102,2),\" \"),\"\")","v":""},27,0,0,0,""]
[{"$f":"+A378","v":"2021-07-06"},7,"1900-01-03",2,2,null,null,":",null,":",null," "," ","",null,null,0,"",null,null,"",{"$f":"IF(+Radelkal!F378>0,+Radelkal!F378,\"\")","v":""},null,{"$f":"IF(W379<>\"\",SUM($AI$6:AI379)/10,\"\")","v":""},null,{"$f":"IF(Y379>0,+Y379/Daten!$I$18^2,\"\")","v":""},null,null,0,{"$f":"IF(WEEKDAY(A379)=1,IF(E379=1,VLOOKUP(AE379,Daten!$C$49:$D$102,2),\" \"),\"\")","v":""},27,0,0,0,""]
[{"$f":"+A378+1","v":"2021-07-07"},7,"1900-01-04",1,0,null,null,":",null,":",null," "," ","",null,null,0,"",null,null,"",{"$f":"IF(+Radelkal!F379>0,+Radelkal!F379,\"\")","v":""},null,{"$f":"IF(W380<>\"\",SUM($AI$6:AI380)/10,\"\")","v":""},null,{"$f":"IF(Y380>0,+Y380/Daten!$I$18^2,\"\")","v":""},null,null,0,{"$f":"IF(WEEKDAY(A380)=1,IF(E380=1,VLOOKUP(AE380,Daten!$C$49:$D$102,2),\" \"),\"\")","v":""},27,0,0,0,""]
[{"$f":"+A380","v":"2021-07-07"},7,"1900-01-04",2,2,null,null,":",null,":",null," "," ","",null,null,0,"",null,null,"",{"$f":"IF(+Radelkal!F380>0,+Radelkal!F380,\"\")","v":""},null,{"$f":"IF(W381<>\"\",SUM($AI$6:AI381)/10,\"\")","v":""},null,{"$f":"IF(Y381>0,+Y381/Daten!$I$18^2,\"\")","v":""},null,null,0,{"$f":"IF(WEEKDAY(A381)=1,IF(E381=1,VLOOKUP(AE381,Daten!$C$49:$D$102,2),\" \"),\"\")","v":""},27,0,0,0,""]
[{"$f":"+A380+1","v":"2021-07-08"},7,"1900-01-05",1,0,null,null,":",null,":",null," "," ","",null,null,0,"",null,null,"",{"$f":"IF(+Radelkal!F381>0,+Radelkal!F381,\"\")","v":""},null,{"$f":"IF(W382<>\"\",SUM($AI$6:AI382)/10,\"\")","v":""},null,{"$f":"IF(Y382>0,+Y382/Daten!$I$18^2,\"\")","v":""},null,null,0,{"$f":"IF(WEEKDAY(A382)=1,IF(E382=1,VLOOKUP(AE382,Daten!$C$49:$D$102,2),\" \"),\"\")","v":""},27,0,0,0,""]
[{"$f":"+A382","v":"2021-07-08"},7,"1900-01-05",2,2,null,null,":",null,":",null," "," ","",null,null,0,"",null,null,"",{"$f":"IF(+Radelkal!F382>0,+Radelkal!F382,\"\")","v":""},null,{"$f":"IF(W383<>\"\",SUM($AI$6:AI383)/10,\"\")","v":""},null,{"$f":"IF(Y383>0,+Y383/Daten!$I$18^2,\"\")","v":""},null,null,0,{"$f":"IF(WEEKDAY(A383)=1,IF(E383=1,VLOOKUP(AE383,Daten!$C$49:$D$102,2),\" \"),\"\")","v":""},27,0,0,0,""]
[{"$f":"+A382+1","v":"2021-07-09"},7,"1900-01-06",1,0,null,null,":",null,":",null," "," ","",null,null,0,"",null,null,"",{"$f":"IF(+Radelkal!F383>0,+Radelkal!F383,\"\")","v":""},null,{"$f":"IF(W384<>\"\",SUM($AI$6:AI384)/10,\"\")","v":""},null,{"$f":"IF(Y384>0,+Y384/Daten!$I$18^2,\"\")","v":""},null,null,0,{"$f":"IF(WEEKDAY(A384)=1,IF(E384=1,VLOOKUP(AE384,Daten!$C$49:$D$102,2),\" \"),\"\")","v":""},27,0,0,0,""]
[{"$f":"+A384","v":"2021-07-09"},7,"1900-01-06",2,2,null,null,":",null,":",null," "," ","",null,null,0,"",null,null,"",{"$f":"IF(+Radelkal!F384>0,+Radelkal!F384,\"\")","v":""},null,{"$f":"IF(W385<>\"\",SUM($AI$6:AI385)/10,\"\")","v":""},null,{"$f":"IF(Y385>0,+Y385/Daten!$I$18^2,\"\")","v":""},null,null,0,{"$f":"IF(WEEKDAY(A385)=1,IF(E385=1,VLOOKUP(AE385,Daten!$C$49:$D$102,2),\" \"),\"\")","v":""},27,0,0,0,""]
[{"$f":"+A384+1","v":"2021-07-10"},7,"1900-01-07",1,0,null,null,":",null,":",null," "," ","",null,null,0,"",null,null,"",{"$f":"IF(+Radelkal!F385>0,+Radelkal!F385,\"\")","v":""},null,{"$f":"IF(W386<>\"\",SUM($AI$6:AI386)/10,\"\")","v":""},null,{"$f":"IF(Y386>0,+Y386/Daten!$I$18^2,\"\")","v":""},null,null,0,{"$f":"IF(WEEKDAY(A386)=1,IF(E386=1,VLOOKUP(AE386,Daten!$C$49:$D$102,2),\" \"),\"\")","v":""},27,0,0,0,""]
[{"$f":"+A386","v":"2021-07-10"},7,"1900-01-07",2,2,null,null,":",null,":",null," "," ","",null,null,0,"",null,null,"",{"$f":"IF(+Radelkal!F386>0,+Radelkal!F386,\"\")","v":""},null,{"$f":"IF(W387<>\"\",SUM($AI$6:AI387)/10,\"\")","v":""},null,{"$f":"IF(Y387>0,+Y387/Daten!$I$18^2,\"\")","v":""},null,null,0,{"$f":"IF(WEEKDAY(A387)=1,IF(E387=1,VLOOKUP(AE387,Daten!$C$49:$D$102,2),\" \"),\"\")","v":""},27,0,0,0,""]
[{"$f":"+A386+1","v":"2021-07-11"},7,"1900-01-01",1,0,null,null,":",null,":",null," "," ","",null,null,0,"",null,null,"",{"$f":"IF(+Radelkal!F387>0,+Radelkal!F387,\"\")","v":""},null,{"$f":"IF(W388<>\"\",SUM($AI$6:AI388)/10,\"\")","v":""},null,{"$f":"IF(Y388>0,+Y388/Daten!$I$18^2,\"\")","v":""},null,null,0,{"$f":"IF(WEEKDAY(A388)=1,IF(E388=1,VLOOKUP(AE388,Daten!$C$49:$D$102,2),\" \"),\"\")","v":" "},27,0,0,0,""]
[{"$f":"+A388","v":"2021-07-11"},7,"1900-01-01",2,1,null,null,":",null,":",null," "," ","",null,null,0,"",null,null,{"$f":"IF(COUNTBLANK(T389)=1,\"\",IF(T389=\"10\",\"0\",10-T389))","v":""},{"$f":"IF(+Radelkal!F388>0,+Radelkal!F388,\"\")","v":""},null,{"$f":"IF(W389<>\"\",SUM($AI$6:AI389)/10,\"\")","v":""},null,{"$f":"IF(Y389>0,+Y389/Daten!$I$18^2,\"\")","v":""},null,null,0,{"$f":"IF(WEEKDAY(A389)=1,IF(E389=1,VLOOKUP(AE389,Daten!$C$49:$D$102,2),\" \"),\"\")","v":0},27,0,0,0,""]
[{"$f":"+A388+1","v":"2021-07-12"},7,"1900-01-02",1,0,null,null,":",null,":",null," "," ","",null,null,{"$f":"IF(maxhf<100,0,IF(ISBLANK(P390)=\"WAHR\",P390,P390/maxhf)*100)","v":0},{"$f":"IF(F390>0,IF(P390>0,+F390*(F390*1000/(G390*60+I390+K390/60))/(maxhf-P390)*(maxhf/220),\"\"),\"\")","v":""},null,null,"",{"$f":"IF(+Radelkal!F389>0,+Radelkal!F389,\"\")","v":""},null,{"$f":"IF(W390<>\"\",SUM($AI$6:AI390)/10,\"\")","v":""},null,{"$f":"IF(Y390>0,+Y390/Daten!$I$18^2,\"\")","v":""},null,null,0,{"$f":"IF(WEEKDAY(A390)=1,IF(E390=1,VLOOKUP(AE390,Daten!$C$49:$D$102,2),\" \"),\"\")","v":""},28,0,0,0,""]
[{"$f":"+A390","v":"2021-07-12"},{"$f":"MONTH(A391)","v":7},{"$f":"WEEKDAY(A391)","v":"1900-01-02"},2,{"$f":"IF(D391=2,IF(C391=1,1,2),0)","v":2},null,null,":",null,":",null,{"$f":"IF((+G391*60+I391+K391/60)>0,G391*60+I391+K391/60,\" \")","v":" "},{"$f":"IF(+F391>0,+L391/F391/24/60,\" \")","v":" "},{"$f":"IF(F391>0,+F391/(L391/60),\"\")","v":""},null,null,0,"",null,null,"",{"$f":"IF(+Radelkal!F390>0,+Radelkal!F390,\"\")","v":""},null,{"$f":"IF(W391<>\"\",SUM($AI$6:AI391)/10,\"\")","v":""},null,{"$f":"IF(Y391>0,+Y391/Daten!$I$18^2,\"\")","v":""},null,null,0,{"$f":"IF(WEEKDAY(A391)=1,IF(E391=1,VLOOKUP(AE391,Daten!$C$49:$D$102,2),\" \"),\"\")","v":""},28,{"$f":"IF(F391>0,IF(D391=2,IF((AB390+AB391)>0,1,0),0),0)","v":0},{"$f":"+T391/10*F391","v":0},{"$f":"IF(COUNTBLANK(T391)=1,0,+U391/10*F391)","v":0},{"$f":"IF(W391<>\"\",10,\"\")","v":""}]
[{"$f":"+A390+1","v":"2021-07-13"},7,"1900-01-03",1,0,null,null,":",null,":",null," "," ","",null,null,0,"",null,null,"",{"$f":"IF(+Radelkal!F391>0,+Radelkal!F391,\"\")","v":""},null,{"$f":"IF(W392<>\"\",SUM($AI$6:AI392)/10,\"\")","v":""},null,{"$f":"IF(Y392>0,+Y392/Daten!$I$18^2,\"\")","v":""},null,null,{"$f":"IF(D392=2,+F392+F391,0)","v":0},{"$f":"IF(WEEKDAY(A392)=1,IF(E392=1,VLOOKUP(AE392,Daten!$C$49:$D$102,2),\" \"),\"\")","v":""},{"$f":"IF(WEEKDAY(A392)=2,IF(D392=1,AE391+1,AE391),AE391)","v":28},0,0,0,""]
[{"$f":"+A392","v":"2021-07-13"},7,"1900-01-03",2,2,null,null,":",null,":",null," "," ","",null,null,0,"",null,null,"",{"$f":"IF(+Radelkal!F392>0,+Radelkal!F392,\"\")","v":""},null,{"$f":"IF(W393<>\"\",SUM($AI$6:AI393)/10,\"\")","v":""},null,{"$f":"IF(Y393>0,+Y393/Daten!$I$18^2,\"\")","v":""},null,null,0,{"$f":"IF(WEEKDAY(A393)=1,IF(E393=1,VLOOKUP(AE393,Daten!$C$49:$D$102,2),\" \"),\"\")","v":""},28,0,0,0,""]
[{"$f":"+A392+1","v":"2021-07-14"},7,"1900-01-04",1,0,null,null,":",null,":",null," "," ","",null,null,0,"",null,null,"",{"$f":"IF(+Radelkal!F393>0,+Radelkal!F393,\"\")","v":""},null,{"$f":"IF(W394<>\"\",SUM($AI$6:AI394)/10,\"\")","v":""},null,{"$f":"IF(Y394>0,+Y394/Daten!$I$18^2,\"\")","v":""},null,null,0,{"$f":"IF(WEEKDAY(A394)=1,IF(E394=1,VLOOKUP(AE394,Daten!$C$49:$D$102,2),\" \"),\"\")","v":""},28,0,0,0,""]
[{"$f":"+A394","v":"2021-07-14"},7,"1900-01-04",2,2,null,null,":",null,":",null," "," ","",null,null,0,"",null,null,"",{"$f":"IF(+Radelkal!F394>0,+Radelkal!F394,\"\")","v":""},null,{"$f":"IF(W395<>\"\",SUM($AI$6:AI395)/10,\"\")","v":""},null,{"$f":"IF(Y395>0,+Y395/Daten!$I$18^2,\"\")","v":""},null,null,0,{"$f":"IF(WEEKDAY(A395)=1,IF(E395=1,VLOOKUP(AE395,Daten!$C$49:$D$102,2),\" \"),\"\")","v":""},28,0,0,0,""]
[{"$f":"+A394+1","v":"2021-07-15"},7,"1900-01-05",1,0,null,null,":",null,":",null," "," ","",null,null,0,"",null,null,"",{"$f":"IF(+Radelkal!F395>0,+Radelkal!F395,\"\")","v":""},null,{"$f":"IF(W396<>\"\",SUM($AI$6:AI396)/10,\"\")","v":""},null,{"$f":"IF(Y396>0,+Y396/Daten!$I$18^2,\"\")","v":""},null,null,0,{"$f":"IF(WEEKDAY(A396)=1,IF(E396=1,VLOOKUP(AE396,Daten!$C$49:$D$102,2),\" \"),\"\")","v":""},28,0,0,0,""]
[{"$f":"+A396","v":"2021-07-15"},7,"1900-01-05",2,2,null,null,":",null,":",null," "," ","",null,null,0,"",null,null,"",{"$f":"IF(+Radelkal!F396>0,+Radelkal!F396,\"\")","v":""},null,{"$f":"IF(W397<>\"\",SUM($AI$6:AI397)/10,\"\")","v":""},null,{"$f":"IF(Y397>0,+Y397/Daten!$I$18^2,\"\")","v":""},null,null,0,{"$f":"IF(WEEKDAY(A397)=1,IF(E397=1,VLOOKUP(AE397,Daten!$C$49:$D$102,2),\" \"),\"\")","v":""},28,0,0,0,""]
[{"$f":"+A396+1","v":"2021-07-16"},7,"1900-01-06",1,0,null,null,":",null,":",null," "," ","",null,null,0,"",null,null,"",{"$f":"IF(+Radelkal!F397>0,+Radelkal!F397,\"\")","v":""},null,{"$f":"IF(W398<>\"\",SUM($AI$6:AI398)/10,\"\")","v":""},null,{"$f":"IF(Y398>0,+Y398/Daten!$I$18^2,\"\")","v":""},null,null,0,{"$f":"IF(WEEKDAY(A398)=1,IF(E398=1,VLOOKUP(AE398,Daten!$C$49:$D$102,2),\" \"),\"\")","v":""},28,0,0,0,""]
[{"$f":"+A398","v":"2021-07-16"},7,"1900-01-06",2,2,null,null,":",null,":",null," "," ","",null,null,0,"",null,null,"",{"$f":"IF(+Radelkal!F398>0,+Radelkal!F398,\"\")","v":""},null,{"$f":"IF(W399<>\"\",SUM($AI$6:AI399)/10,\"\")","v":""},null,{"$f":"IF(Y399>0,+Y399/Daten!$I$18^2,\"\")","v":""},null,null,0,{"$f":"IF(WEEKDAY(A399)=1,IF(E399=1,VLOOKUP(AE399,Daten!$C$49:$D$102,2),\" \"),\"\")","v":""},28,0,0,0,""]
[{"$f":"+A398+1","v":"2021-07-17"},7,"1900-01-07",1,0,null,null,":",null,":",null," "," ","",null,null,0,"",null,null,"",{"$f":"IF(+Radelkal!F399>0,+Radelkal!F399,\"\")","v":""},null,{"$f":"IF(W400<>\"\",SUM($AI$6:AI400)/10,\"\")","v":""},null,{"$f":"IF(Y400>0,+Y400/Daten!$I$18^2,\"\")","v":""},null,null,0,{"$f":"IF(WEEKDAY(A400)=1,IF(E400=1,VLOOKUP(AE400,Daten!$C$49:$D$102,2),\" \"),\"\")","v":""},28,0,0,0,""]
[{"$f":"+A400","v":"2021-07-17"},7,"1900-01-07",2,2,null,null,":",null,":",null," "," ","",null,null,0,"",null,null,"",{"$f":"IF(+Radelkal!F400>0,+Radelkal!F400,\"\")","v":""},null,{"$f":"IF(W401<>\"\",SUM($AI$6:AI401)/10,\"\")","v":""},null,{"$f":"IF(Y401>0,+Y401/Daten!$I$18^2,\"\")","v":""},null,null,0,{"$f":"IF(WEEKDAY(A401)=1,IF(E401=1,VLOOKUP(AE401,Daten!$C$49:$D$102,2),\" \"),\"\")","v":""},28,0,0,0,""]
[{"$f":"+A400+1","v":"2021-07-18"},7,"1900-01-01",1,0,null,null,":",null,":",null," "," ","",null,null,0,"",null,null,"",{"$f":"IF(+Radelkal!F401>0,+Radelkal!F401,\"\")","v":""},null,{"$f":"IF(W402<>\"\",SUM($AI$6:AI402)/10,\"\")","v":""},null,{"$f":"IF(Y402>0,+Y402/Daten!$I$18^2,\"\")","v":""},null,null,0,{"$f":"IF(WEEKDAY(A402)=1,IF(E402=1,VLOOKUP(AE402,Daten!$C$49:$D$102,2),\" \"),\"\")","v":" "},28,0,0,0,""]
[{"$f":"+A402","v":"2021-07-18"},7,"1900-01-01",2,1,null,null,":",null,":",null," "," ","",null,null,0,"",null,null,"",{"$f":"IF(+Radelkal!F402>0,+Radelkal!F402,\"\")","v":""},null,{"$f":"IF(W403<>\"\",SUM($AI$6:AI403)/10,\"\")","v":""},null,{"$f":"IF(Y403>0,+Y403/Daten!$I$18^2,\"\")","v":""},null,null,0,{"$f":"IF(WEEKDAY(A403)=1,IF(E403=1,VLOOKUP(AE403,Daten!$C$49:$D$102,2),\" \"),\"\")","v":0},28,0,0,0,""]
[{"$f":"+A402+1","v":"2021-07-19"},7,"1900-01-02",1,0,null,null,":",null,":",null," "," ","",null,null,0,"",null,null,"",{"$f":"IF(+Radelkal!F403>0,+Radelkal!F403,\"\")","v":""},null,{"$f":"IF(W404<>\"\",SUM($AI$6:AI404)/10,\"\")","v":""},null,{"$f":"IF(Y404>0,+Y404/Daten!$I$18^2,\"\")","v":""},null,null,0,{"$f":"IF(WEEKDAY(A404)=1,IF(E404=1,VLOOKUP(AE404,Daten!$C$49:$D$102,2),\" \"),\"\")","v":""},29,0,0,0,""]
[{"$f":"+A404","v":"2021-07-19"},7,"1900-01-02",2,2,null,null,":",null,":",null," "," ","",null,null,0,"",null,null,"",{"$f":"IF(+Radelkal!F404>0,+Radelkal!F404,\"\")","v":""},null,{"$f":"IF(W405<>\"\",SUM($AI$6:AI405)/10,\"\")","v":""},null,{"$f":"IF(Y405>0,+Y405/Daten!$I$18^2,\"\")","v":""},null,null,0,{"$f":"IF(WEEKDAY(A405)=1,IF(E405=1,VLOOKUP(AE405,Daten!$C$49:$D$102,2),\" \"),\"\")","v":""},29,0,0,0,""]
[{"$f":"+A404+1","v":"2021-07-20"},7,"1900-01-03",1,0,null,null,":",null,":",null," "," ","",null,null,0,"",null,null,"",{"$f":"IF(+Radelkal!F405>0,+Radelkal!F405,\"\")","v":""},null,{"$f":"IF(W406<>\"\",SUM($AI$6:AI406)/10,\"\")","v":""},null,{"$f":"IF(Y406>0,+Y406/Daten!$I$18^2,\"\")","v":""},null,null,0,{"$f":"IF(WEEKDAY(A406)=1,IF(E406=1,VLOOKUP(AE406,Daten!$C$49:$D$102,2),\" \"),\"\")","v":""},29,0,0,0,""]
[{"$f":"+A406","v":"2021-07-20"},7,"1900-01-03",2,2,null,null,":",null,":",null," "," ","",null,null,0,"",null,null,"",{"$f":"IF(+Radelkal!F406>0,+Radelkal!F406,\"\")","v":""},null,{"$f":"IF(W407<>\"\",SUM($AI$6:AI407)/10,\"\")","v":""},null,{"$f":"IF(Y407>0,+Y407/Daten!$I$18^2,\"\")","v":""},null,null,0,{"$f":"IF(WEEKDAY(A407)=1,IF(E407=1,VLOOKUP(AE407,Daten!$C$49:$D$102,2),\" \"),\"\")","v":""},29,0,0,0,""]
[{"$f":"+A406+1","v":"2021-07-21"},7,"1900-01-04",1,0,null,null,":",null,":",null," "," ","",null,null,0,"",null,null,"",{"$f":"IF(+Radelkal!F407>0,+Radelkal!F407,\"\")","v":""},null,{"$f":"IF(W408<>\"\",SUM($AI$6:AI408)/10,\"\")","v":""},null,{"$f":"IF(Y408>0,+Y408/Daten!$I$18^2,\"\")","v":""},null,null,0,{"$f":"IF(WEEKDAY(A408)=1,IF(E408=1,VLOOKUP(AE408,Daten!$C$49:$D$102,2),\" \"),\"\")","v":""},29,0,0,0,""]
[{"$f":"+A408","v":"2021-07-21"},7,"1900-01-04",2,2,null,null,":",null,":",null," "," ","",null,null,0,"",null,null,"",{"$f":"IF(+Radelkal!F408>0,+Radelkal!F408,\"\")","v":""},null,{"$f":"IF(W409<>\"\",SUM($AI$6:AI409)/10,\"\")","v":""},null,{"$f":"IF(Y409>0,+Y409/Daten!$I$18^2,\"\")","v":""},null,null,0,{"$f":"IF(WEEKDAY(A409)=1,IF(E409=1,VLOOKUP(AE409,Daten!$C$49:$D$102,2),\" \"),\"\")","v":""},29,0,0,0,""]
[{"$f":"+A408+1","v":"2021-07-22"},7,"1900-01-05",1,0,null,null,":",null,":",null," "," ","",null,null,0,"",null,null,"",{"$f":"IF(+Radelkal!F409>0,+Radelkal!F409,\"\")","v":""},null,{"$f":"IF(W410<>\"\",SUM($AI$6:AI410)/10,\"\")","v":""},null,{"$f":"IF(Y410>0,+Y410/Daten!$I$18^2,\"\")","v":""},null,null,0,{"$f":"IF(WEEKDAY(A410)=1,IF(E410=1,VLOOKUP(AE410,Daten!$C$49:$D$102,2),\" \"),\"\")","v":""},29,0,0,0,""]
[{"$f":"+A410","v":"2021-07-22"},7,"1900-01-05",2,2,null,null,":",null,":",null," "," ","",null,null,0,"",null,null,"",{"$f":"IF(+Radelkal!F410>0,+Radelkal!F410,\"\")","v":""},null,{"$f":"IF(W411<>\"\",SUM($AI$6:AI411)/10,\"\")","v":""},null,{"$f":"IF(Y411>0,+Y411/Daten!$I$18^2,\"\")","v":""},null,null,0,{"$f":"IF(WEEKDAY(A411)=1,IF(E411=1,VLOOKUP(AE411,Daten!$C$49:$D$102,2),\" \"),\"\")","v":""},29,0,0,0,""]
[{"$f":"+A410+1","v":"2021-07-23"},7,"1900-01-06",1,0,null,null,":",null,":",null," "," ","",null,null,0,"",null,null,"",{"$f":"IF(+Radelkal!F411>0,+Radelkal!F411,\"\")","v":""},null,{"$f":"IF(W412<>\"\",SUM($AI$6:AI412)/10,\"\")","v":""},null,{"$f":"IF(Y412>0,+Y412/Daten!$I$18^2,\"\")","v":""},null,null,0,{"$f":"IF(WEEKDAY(A412)=1,IF(E412=1,VLOOKUP(AE412,Daten!$C$49:$D$102,2),\" \"),\"\")","v":""},29,0,0,0,""]
[{"$f":"+A412","v":"2021-07-23"},7,"1900-01-06",2,2,null,null,":",null,":",null," "," ","",null,null,0,"",null,null,"",{"$f":"IF(+Radelkal!F412>0,+Radelkal!F412,\"\")","v":""},null,{"$f":"IF(W413<>\"\",SUM($AI$6:AI413)/10,\"\")","v":""},null,{"$f":"IF(Y413>0,+Y413/Daten!$I$18^2,\"\")","v":""},null,null,0,{"$f":"IF(WEEKDAY(A413)=1,IF(E413=1,VLOOKUP(AE413,Daten!$C$49:$D$102,2),\" \"),\"\")","v":""},29,0,0,0,""]
[{"$f":"+A412+1","v":"2021-07-24"},7,"1900-01-07",1,0,null,null,":",null,":",null," "," ","",null,null,0,"",null,null,"",{"$f":"IF(+Radelkal!F413>0,+Radelkal!F413,\"\")","v":""},null,{"$f":"IF(W414<>\"\",SUM($AI$6:AI414)/10,\"\")","v":""},null,{"$f":"IF(Y414>0,+Y414/Daten!$I$18^2,\"\")","v":""},null,null,0,{"$f":"IF(WEEKDAY(A414)=1,IF(E414=1,VLOOKUP(AE414,Daten!$C$49:$D$102,2),\" \"),\"\")","v":""},29,0,0,0,""]
[{"$f":"+A414","v":"2021-07-24"},7,"1900-01-07",2,2,null,null,":",null,":",null," "," ","",null,null,0,"",null,null,"",{"$f":"IF(+Radelkal!F414>0,+Radelkal!F414,\"\")","v":""},null,{"$f":"IF(W415<>\"\",SUM($AI$6:AI415)/10,\"\")","v":""},null,{"$f":"IF(Y415>0,+Y415/Daten!$I$18^2,\"\")","v":""},null,null,0,{"$f":"IF(WEEKDAY(A415)=1,IF(E415=1,VLOOKUP(AE415,Daten!$C$49:$D$102,2),\" \"),\"\")","v":""},29,0,0,0,""]
[{"$f":"+A414+1","v":"2021-07-25"},7,"1900-01-01",1,0,null,null,":",null,":",null," "," ","",null,null,0,"",null,null,"",{"$f":"IF(+Radelkal!F415>0,+Radelkal!F415,\"\")","v":""},null,{"$f":"IF(W416<>\"\",SUM($AI$6:AI416)/10,\"\")","v":""},null,{"$f":"IF(Y416>0,+Y416/Daten!$I$18^2,\"\")","v":""},null,null,0,{"$f":"IF(WEEKDAY(A416)=1,IF(E416=1,VLOOKUP(AE416,Daten!$C$49:$D$102,2),\" \"),\"\")","v":" "},29,0,0,0,""]
[{"$f":"+A416","v":"2021-07-25"},7,"1900-01-01",2,1,null,null,":",null,":",null," "," ","",null,null,0,"",null,null,"",{"$f":"IF(+Radelkal!F416>0,+Radelkal!F416,\"\")","v":""},null,{"$f":"IF(W417<>\"\",SUM($AI$6:AI417)/10,\"\")","v":""},null,{"$f":"IF(Y417>0,+Y417/Daten!$I$18^2,\"\")","v":""},null,null,0,{"$f":"IF(WEEKDAY(A417)=1,IF(E417=1,VLOOKUP(AE417,Daten!$C$49:$D$102,2),\" \"),\"\")","v":0},29,0,0,0,""]
[{"$f":"+A416+1","v":"2021-07-26"},7,"1900-01-02",1,0,null,null,":",null,":",null," "," ","",null,null,0,"",null,null,"",{"$f":"IF(+Radelkal!F417>0,+Radelkal!F417,\"\")","v":""},null,{"$f":"IF(W418<>\"\",SUM($AI$6:AI418)/10,\"\")","v":""},null,{"$f":"IF(Y418>0,+Y418/Daten!$I$18^2,\"\")","v":""},null,null,0,{"$f":"IF(WEEKDAY(A418)=1,IF(E418=1,VLOOKUP(AE418,Daten!$C$49:$D$102,2),\" \"),\"\")","v":""},30,0,0,0,""]
[{"$f":"+A418","v":"2021-07-26"},7,"1900-01-02",2,2,null,null,":",null,":",null," "," ","",null,null,0,"",null,null,"",{"$f":"IF(+Radelkal!F418>0,+Radelkal!F418,\"\")","v":""},null,{"$f":"IF(W419<>\"\",SUM($AI$6:AI419)/10,\"\")","v":""},null,{"$f":"IF(Y419>0,+Y419/Daten!$I$18^2,\"\")","v":""},null,null,0,{"$f":"IF(WEEKDAY(A419)=1,IF(E419=1,VLOOKUP(AE419,Daten!$C$49:$D$102,2),\" \"),\"\")","v":""},30,0,0,0,""]
[{"$f":"+A418+1","v":"2021-07-27"},7,"1900-01-03",1,0,null,null,":",null,":",null," "," ","",null,null,0,"",null,null,"",{"$f":"IF(+Radelkal!F419>0,+Radelkal!F419,\"\")","v":""},null,{"$f":"IF(W420<>\"\",SUM($AI$6:AI420)/10,\"\")","v":""},null,{"$f":"IF(Y420>0,+Y420/Daten!$I$18^2,\"\")","v":""},null,null,0,{"$f":"IF(WEEKDAY(A420)=1,IF(E420=1,VLOOKUP(AE420,Daten!$C$49:$D$102,2),\" \"),\"\")","v":""},30,0,0,0,""]
[{"$f":"+A420","v":"2021-07-27"},7,"1900-01-03",2,2,null,null,":",null,":",null," "," ","",null,null,0,"",null,null,"",{"$f":"IF(+Radelkal!F420>0,+Radelkal!F420,\"\")","v":""},null,{"$f":"IF(W421<>\"\",SUM($AI$6:AI421)/10,\"\")","v":""},null,{"$f":"IF(Y421>0,+Y421/Daten!$I$18^2,\"\")","v":""},null,null,0,{"$f":"IF(WEEKDAY(A421)=1,IF(E421=1,VLOOKUP(AE421,Daten!$C$49:$D$102,2),\" \"),\"\")","v":""},30,0,0,0,""]
[{"$f":"+A420+1","v":"2021-07-28"},7,"1900-01-04",1,0,null,null,":",null,":",null," "," ","",null,null,0,"",null,null,"",{"$f":"IF(+Radelkal!F421>0,+Radelkal!F421,\"\")","v":""},null,{"$f":"IF(W422<>\"\",SUM($AI$6:AI422)/10,\"\")","v":""},null,{"$f":"IF(Y422>0,+Y422/Daten!$I$18^2,\"\")","v":""},null,null,0,{"$f":"IF(WEEKDAY(A422)=1,IF(E422=1,VLOOKUP(AE422,Daten!$C$49:$D$102,2),\" \"),\"\")","v":""},30,0,0,0,""]
[{"$f":"+A422","v":"2021-07-28"},7,"1900-01-04",2,2,null,null,":",null,":",null," "," ","",null,null,0,"",null,null,"",{"$f":"IF(+Radelkal!F422>0,+Radelkal!F422,\"\")","v":""},null,{"$f":"IF(W423<>\"\",SUM($AI$6:AI423)/10,\"\")","v":""},null,{"$f":"IF(Y423>0,+Y423/Daten!$I$18^2,\"\")","v":""},null,null,0,{"$f":"IF(WEEKDAY(A423)=1,IF(E423=1,VLOOKUP(AE423,Daten!$C$49:$D$102,2),\" \"),\"\")","v":""},30,0,0,0,""]
[{"$f":"+A422+1","v":"2021-07-29"},7,"1900-01-05",1,0,null,null,":",null,":",null," "," ","",null,null,0,"",null,null,"",{"$f":"IF(+Radelkal!F423>0,+Radelkal!F423,\"\")","v":""},null,{"$f":"IF(W424<>\"\",SUM($AI$6:AI424)/10,\"\")","v":""},null,{"$f":"IF(Y424>0,+Y424/Daten!$I$18^2,\"\")","v":""},null,null,0,{"$f":"IF(WEEKDAY(A424)=1,IF(E424=1,VLOOKUP(AE424,Daten!$C$49:$D$102,2),\" \"),\"\")","v":""},30,0,0,0,""]
[{"$f":"+A424","v":"2021-07-29"},7,"1900-01-05",2,2,null,null,":",null,":",null," "," ","",null,null,0,"",null,null,"",{"$f":"IF(+Radelkal!F424>0,+Radelkal!F424,\"\")","v":""},null,{"$f":"IF(W425<>\"\",SUM($AI$6:AI425)/10,\"\")","v":""},null,{"$f":"IF(Y425>0,+Y425/Daten!$I$18^2,\"\")","v":""},null,null,0,{"$f":"IF(WEEKDAY(A425)=1,IF(E425=1,VLOOKUP(AE425,Daten!$C$49:$D$102,2),\" \"),\"\")","v":""},30,0,0,0,""]
[{"$f":"+A424+1","v":"2021-07-30"},7,"1900-01-06",1,0,null,null,":",null,":",null," "," ","",null,null,0,"",null,null,"",{"$f":"IF(+Radelkal!F425>0,+Radelkal!F425,\"\")","v":""},null,{"$f":"IF(W426<>\"\",SUM($AI$6:AI426)/10,\"\")","v":""},null,{"$f":"IF(Y426>0,+Y426/Daten!$I$18^2,\"\")","v":""},null,null,0,{"$f":"IF(WEEKDAY(A426)=1,IF(E426=1,VLOOKUP(AE426,Daten!$C$49:$D$102,2),\" \"),\"\")","v":""},30,0,0,0,""]
[{"$f":"+A426","v":"2021-07-30"},7,"1900-01-06",2,2,null,null,":",null,":",null," "," ","",null,null,0,"",null,null,"",{"$f":"IF(+Radelkal!F426>0,+Radelkal!F426,\"\")","v":""},null,{"$f":"IF(W427<>\"\",SUM($AI$6:AI427)/10,\"\")","v":""},null,{"$f":"IF(Y427>0,+Y427/Daten!$I$18^2,\"\")","v":""},null,null,0,{"$f":"IF(WEEKDAY(A427)=1,IF(E427=1,VLOOKUP(AE427,Daten!$C$49:$D$102,2),\" \"),\"\")","v":""},30,0,0,0,""]
[{"$f":"+A426+1","v":"2021-07-31"},7,"1900-01-07",1,0,null,null,":",null,":",null," "," ","",null,null,0,"",null,null,"",{"$f":"IF(+Radelkal!F427>0,+Radelkal!F427,\"\")","v":""},null,{"$f":"IF(W428<>\"\",SUM($AI$6:AI428)/10,\"\")","v":""},null,{"$f":"IF(Y428>0,+Y428/Daten!$I$18^2,\"\")","v":""},null,null,0,{"$f":"IF(WEEKDAY(A428)=1,IF(E428=1,VLOOKUP(AE428,Daten!$C$49:$D$102,2),\" \"),\"\")","v":""},30,0,0,0,""]
[{"$f":"+A428","v":"2021-07-31"},7,"1900-01-07",2,2,null,null,":",null,":",null," "," ","",null,null,0,"",null,null,"",{"$f":"IF(+Radelkal!F428>0,+Radelkal!F428,\"\")","v":""},null,{"$f":"IF(W429<>\"\",SUM($AI$6:AI429)/10,\"\")","v":""},null,{"$f":"IF(Y429>0,+Y429/Daten!$I$18^2,\"\")","v":""},null,null,0,{"$f":"IF(WEEKDAY(A429)=1,IF(E429=1,VLOOKUP(AE429,Daten!$C$49:$D$102,2),\" \"),\"\")","v":""},30,0,0,0,""]
[{"$f":"+A428+1","v":"2021-08-01"},8,"1900-01-01",1,0,null,null,":",null,":",null," "," ","",null,null,0,"",null,null,"",{"$f":"IF(+Radelkal!F429>0,+Radelkal!F429,\"\")","v":""},null,{"$f":"IF(W430<>\"\",SUM($AI$6:AI430)/10,\"\")","v":""},null,{"$f":"IF(Y430>0,+Y430/Daten!$I$18^2,\"\")","v":""},null,null,0,{"$f":"IF(WEEKDAY(A430)=1,IF(E430=1,VLOOKUP(AE430,Daten!$C$49:$D$102,2),\" \"),\"\")","v":" "},30,0,0,0,""]
[{"$f":"+A430","v":"2021-08-01"},8,"1900-01-01",2,1,null,null,":",null,":",null," "," ","",null,null,0,"",null,null,"",{"$f":"IF(+Radelkal!F430>0,+Radelkal!F430,\"\")","v":""},null,{"$f":"IF(W431<>\"\",SUM($AI$6:AI431)/10,\"\")","v":""},null,{"$f":"IF(Y431>0,+Y431/Daten!$I$18^2,\"\")","v":""},null,null,0,{"$f":"IF(WEEKDAY(A431)=1,IF(E431=1,VLOOKUP(AE431,Daten!$C$49:$D$102,2),\" \"),\"\")","v":0},30,0,0,0,""]
[{"$f":"+A430+1","v":"2021-08-02"},8,"1900-01-02",1,0,null,null,":",null,":",null," "," ","",null,null,0,"",null,null,"",{"$f":"IF(+Radelkal!F431>0,+Radelkal!F431,\"\")","v":""},null,{"$f":"IF(W432<>\"\",SUM($AI$6:AI432)/10,\"\")","v":""},null,{"$f":"IF(Y432>0,+Y432/Daten!$I$18^2,\"\")","v":""},null,null,0,{"$f":"IF(WEEKDAY(A432)=1,IF(E432=1,VLOOKUP(AE432,Daten!$C$49:$D$102,2),\" \"),\"\")","v":""},31,0,0,0,""]
[{"$f":"+A432","v":"2021-08-02"},8,"1900-01-02",2,2,null,null,":",null,":",null," "," ","",null,null,0,"",null,null,"",{"$f":"IF(+Radelkal!F432>0,+Radelkal!F432,\"\")","v":""},null,{"$f":"IF(W433<>\"\",SUM($AI$6:AI433)/10,\"\")","v":""},null,{"$f":"IF(Y433>0,+Y433/Daten!$I$18^2,\"\")","v":""},null,null,0,{"$f":"IF(WEEKDAY(A433)=1,IF(E433=1,VLOOKUP(AE433,Daten!$C$49:$D$102,2),\" \"),\"\")","v":""},31,0,0,0,""]
[{"$f":"+A432+1","v":"2021-08-03"},8,"1900-01-03",1,0,null,null,":",null,":",null," "," ","",null,null,0,"",null,null,"",{"$f":"IF(+Radelkal!F433>0,+Radelkal!F433,\"\")","v":""},null,{"$f":"IF(W434<>\"\",SUM($AI$6:AI434)/10,\"\")","v":""},null,{"$f":"IF(Y434>0,+Y434/Daten!$I$18^2,\"\")","v":""},null,null,0,{"$f":"IF(WEEKDAY(A434)=1,IF(E434=1,VLOOKUP(AE434,Daten!$C$49:$D$102,2),\" \"),\"\")","v":""},31,0,0,0,""]
[{"$f":"+A434","v":"2021-08-03"},8,"1900-01-03",2,2,null,null,":",null,":",null," "," ","",null,null,0,"",null,null,"",{"$f":"IF(+Radelkal!F434>0,+Radelkal!F434,\"\")","v":""},null,{"$f":"IF(W435<>\"\",SUM($AI$6:AI435)/10,\"\")","v":""},null,{"$f":"IF(Y435>0,+Y435/Daten!$I$18^2,\"\")","v":""},null,null,0,{"$f":"IF(WEEKDAY(A435)=1,IF(E435=1,VLOOKUP(AE435,Daten!$C$49:$D$102,2),\" \"),\"\")","v":""},31,0,0,0,""]
[{"$f":"+A434+1","v":"2021-08-04"},8,"1900-01-04",1,0,null,null,":",null,":",null," "," ","",null,null,0,"",null,null,"",{"$f":"IF(+Radelkal!F435>0,+Radelkal!F435,\"\")","v":""},null,{"$f":"IF(W436<>\"\",SUM($AI$6:AI436)/10,\"\")","v":""},null,{"$f":"IF(Y436>0,+Y436/Daten!$I$18^2,\"\")","v":""},null,null,0,{"$f":"IF(WEEKDAY(A436)=1,IF(E436=1,VLOOKUP(AE436,Daten!$C$49:$D$102,2),\" \"),\"\")","v":""},31,0,0,0,""]
[{"$f":"+A436","v":"2021-08-04"},8,"1900-01-04",2,2,null,null,":",null,":",null," "," ","",null,null,0,"",null,null,"",{"$f":"IF(+Radelkal!F436>0,+Radelkal!F436,\"\")","v":""},null,{"$f":"IF(W437<>\"\",SUM($AI$6:AI437)/10,\"\")","v":""},null,{"$f":"IF(Y437>0,+Y437/Daten!$I$18^2,\"\")","v":""},null,null,0,{"$f":"IF(WEEKDAY(A437)=1,IF(E437=1,VLOOKUP(AE437,Daten!$C$49:$D$102,2),\" \"),\"\")","v":""},31,0,0,0,""]
[{"$f":"+A436+1","v":"2021-08-05"},8,"1900-01-05",1,0,null,null,":",null,":",null," "," ","",null,null,0,"",null,null,"",{"$f":"IF(+Radelkal!F437>0,+Radelkal!F437,\"\")","v":""},null,{"$f":"IF(W438<>\"\",SUM($AI$6:AI438)/10,\"\")","v":""},null,{"$f":"IF(Y438>0,+Y438/Daten!$I$18^2,\"\")","v":""},null,null,0,{"$f":"IF(WEEKDAY(A438)=1,IF(E438=1,VLOOKUP(AE438,Daten!$C$49:$D$102,2),\" \"),\"\")","v":""},31,0,0,0,""]
[{"$f":"+A438","v":"2021-08-05"},8,"1900-01-05",2,2,null,null,":",null,":",null," "," ","",null,null,0,"",null,null,"",{"$f":"IF(+Radelkal!F438>0,+Radelkal!F438,\"\")","v":""},null,{"$f":"IF(W439<>\"\",SUM($AI$6:AI439)/10,\"\")","v":""},null,{"$f":"IF(Y439>0,+Y439/Daten!$I$18^2,\"\")","v":""},null,null,0,{"$f":"IF(WEEKDAY(A439)=1,IF(E439=1,VLOOKUP(AE439,Daten!$C$49:$D$102,2),\" \"),\"\")","v":""},31,0,0,0,""]
[{"$f":"+A438+1","v":"2021-08-06"},8,"1900-01-06",1,0,null,null,":",null,":",null," "," ","",null,null,0,"",null,null,"",{"$f":"IF(+Radelkal!F439>0,+Radelkal!F439,\"\")","v":""},null,{"$f":"IF(W440<>\"\",SUM($AI$6:AI440)/10,\"\")","v":""},null,{"$f":"IF(Y440>0,+Y440/Daten!$I$18^2,\"\")","v":""},null,null,0,{"$f":"IF(WEEKDAY(A440)=1,IF(E440=1,VLOOKUP(AE440,Daten!$C$49:$D$102,2),\" \"),\"\")","v":""},31,0,0,0,""]
[{"$f":"+A440","v":"2021-08-06"},8,"1900-01-06",2,2,null,null,":",null,":",null," "," ","",null,null,0,"",null,null,"",{"$f":"IF(+Radelkal!F440>0,+Radelkal!F440,\"\")","v":""},null,{"$f":"IF(W441<>\"\",SUM($AI$6:AI441)/10,\"\")","v":""},null,{"$f":"IF(Y441>0,+Y441/Daten!$I$18^2,\"\")","v":""},null,null,0,{"$f":"IF(WEEKDAY(A441)=1,IF(E441=1,VLOOKUP(AE441,Daten!$C$49:$D$102,2),\" \"),\"\")","v":""},31,0,0,0,""]
[{"$f":"+A440+1","v":"2021-08-07"},8,"1900-01-07",1,0,null,null,":",null,":",null," "," ","",null,null,0,"",null,null,"",{"$f":"IF(+Radelkal!F441>0,+Radelkal!F441,\"\")","v":""},null,{"$f":"IF(W442<>\"\",SUM($AI$6:AI442)/10,\"\")","v":""},null,{"$f":"IF(Y442>0,+Y442/Daten!$I$18^2,\"\")","v":""},null,null,0,{"$f":"IF(WEEKDAY(A442)=1,IF(E442=1,VLOOKUP(AE442,Daten!$C$49:$D$102,2),\" \"),\"\")","v":""},31,0,0,0,""]
[{"$f":"+A442","v":"2021-08-07"},8,"1900-01-07",2,2,null,null,":",null,":",null," "," ","",null,null,0,"",null,null,"",{"$f":"IF(+Radelkal!F442>0,+Radelkal!F442,\"\")","v":""},null,{"$f":"IF(W443<>\"\",SUM($AI$6:AI443)/10,\"\")","v":""},null,{"$f":"IF(Y443>0,+Y443/Daten!$I$18^2,\"\")","v":""},null,null,0,{"$f":"IF(WEEKDAY(A443)=1,IF(E443=1,VLOOKUP(AE443,Daten!$C$49:$D$102,2),\" \"),\"\")","v":""},31,0,0,0,""]
[{"$f":"+A442+1","v":"2021-08-08"},8,"1900-01-01",1,0,null,null,":",null,":",null," "," ","",null,null,0,"",null,null,"",{"$f":"IF(+Radelkal!F443>0,+Radelkal!F443,\"\")","v":""},null,{"$f":"IF(W444<>\"\",SUM($AI$6:AI444)/10,\"\")","v":""},null,{"$f":"IF(Y444>0,+Y444/Daten!$I$18^2,\"\")","v":""},null,null,0,{"$f":"IF(WEEKDAY(A444)=1,IF(E444=1,VLOOKUP(AE444,Daten!$C$49:$D$102,2),\" \"),\"\")","v":" "},31,0,0,0,""]
[{"$f":"+A444","v":"2021-08-08"},8,"1900-01-01",2,1,null,null,":",null,":",null," "," ","",null,null,0,"",null,null,"",{"$f":"IF(+Radelkal!F444>0,+Radelkal!F444,\"\")","v":""},null,{"$f":"IF(W445<>\"\",SUM($AI$6:AI445)/10,\"\")","v":""},null,{"$f":"IF(Y445>0,+Y445/Daten!$I$18^2,\"\")","v":""},null,null,0,{"$f":"IF(WEEKDAY(A445)=1,IF(E445=1,VLOOKUP(AE445,Daten!$C$49:$D$102,2),\" \"),\"\")","v":0},31,0,0,0,""]
[{"$f":"+A444+1","v":"2021-08-09"},8,"1900-01-02",1,0,null,null,":",null,":",null," "," ","",null,null,0,"",null,null,"",{"$f":"IF(+Radelkal!F445>0,+Radelkal!F445,\"\")","v":""},null,{"$f":"IF(W446<>\"\",SUM($AI$6:AI446)/10,\"\")","v":""},null,{"$f":"IF(Y446>0,+Y446/Daten!$I$18^2,\"\")","v":""},null,null,0,{"$f":"IF(WEEKDAY(A446)=1,IF(E446=1,VLOOKUP(AE446,Daten!$C$49:$D$102,2),\" \"),\"\")","v":""},32,0,0,0,""]
[{"$f":"+A446","v":"2021-08-09"},8,"1900-01-02",2,2,null,null,":",null,":",null," "," ","",null,null,0,"",null,null,"",{"$f":"IF(+Radelkal!F446>0,+Radelkal!F446,\"\")","v":""},null,{"$f":"IF(W447<>\"\",SUM($AI$6:AI447)/10,\"\")","v":""},null,{"$f":"IF(Y447>0,+Y447/Daten!$I$18^2,\"\")","v":""},null,null,0,{"$f":"IF(WEEKDAY(A447)=1,IF(E447=1,VLOOKUP(AE447,Daten!$C$49:$D$102,2),\" \"),\"\")","v":""},32,0,0,0,""]
[{"$f":"+A446+1","v":"2021-08-10"},8,"1900-01-03",1,0,null,null,":",null,":",null," "," ","",null,null,0,"",null,null,"",{"$f":"IF(+Radelkal!F447>0,+Radelkal!F447,\"\")","v":""},null,{"$f":"IF(W448<>\"\",SUM($AI$6:AI448)/10,\"\")","v":""},null,{"$f":"IF(Y448>0,+Y448/Daten!$I$18^2,\"\")","v":""},null,null,0,{"$f":"IF(WEEKDAY(A448)=1,IF(E448=1,VLOOKUP(AE448,Daten!$C$49:$D$102,2),\" \"),\"\")","v":""},32,0,0,0,""]
[{"$f":"+A448","v":"2021-08-10"},8,"1900-01-03",2,2,null,null,":",null,":",null," "," ","",null,null,0,"",null,null,"",{"$f":"IF(+Radelkal!F448>0,+Radelkal!F448,\"\")","v":""},null,{"$f":"IF(W449<>\"\",SUM($AI$6:AI449)/10,\"\")","v":""},null,{"$f":"IF(Y449>0,+Y449/Daten!$I$18^2,\"\")","v":""},null,null,0,{"$f":"IF(WEEKDAY(A449)=1,IF(E449=1,VLOOKUP(AE449,Daten!$C$49:$D$102,2),\" \"),\"\")","v":""},32,0,0,0,""]
[{"$f":"+A448+1","v":"2021-08-11"},8,"1900-01-04",1,0,null,null,":",null,":",null," "," ","",null,null,0,"",null,null,"",{"$f":"IF(+Radelkal!F449>0,+Radelkal!F449,\"\")","v":""},null,{"$f":"IF(W450<>\"\",SUM($AI$6:AI450)/10,\"\")","v":""},null,{"$f":"IF(Y450>0,+Y450/Daten!$I$18^2,\"\")","v":""},null,null,0,{"$f":"IF(WEEKDAY(A450)=1,IF(E450=1,VLOOKUP(AE450,Daten!$C$49:$D$102,2),\" \"),\"\")","v":""},32,0,0,0,""]
[{"$f":"+A450","v":"2021-08-11"},8,"1900-01-04",2,2,null,null,":",null,":",null," "," ","",null,null,0,"",null,null,"",{"$f":"IF(+Radelkal!F450>0,+Radelkal!F450,\"\")","v":""},null,{"$f":"IF(W451<>\"\",SUM($AI$6:AI451)/10,\"\")","v":""},null,{"$f":"IF(Y451>0,+Y451/Daten!$I$18^2,\"\")","v":""},null,null,0,{"$f":"IF(WEEKDAY(A451)=1,IF(E451=1,VLOOKUP(AE451,Daten!$C$49:$D$102,2),\" \"),\"\")","v":""},32,0,0,0,""]
[{"$f":"+A450+1","v":"2021-08-12"},8,"1900-01-05",1,0,null,null,":",null,":",null," "," ","",null,null,0,"",null,null,"",{"$f":"IF(+Radelkal!F451>0,+Radelkal!F451,\"\")","v":""},null,{"$f":"IF(W452<>\"\",SUM($AI$6:AI452)/10,\"\")","v":""},null,{"$f":"IF(Y452>0,+Y452/Daten!$I$18^2,\"\")","v":""},null,null,0,{"$f":"IF(WEEKDAY(A452)=1,IF(E452=1,VLOOKUP(AE452,Daten!$C$49:$D$102,2),\" \"),\"\")","v":""},32,0,0,0,""]
[{"$f":"+A452","v":"2021-08-12"},8,"1900-01-05",2,2,null,null,":",null,":",null," "," ","",null,null,0,"",null,null,{"$f":"IF(COUNTBLANK(T453)=1,\"\",IF(T453=\"10\",\"0\",10-T453))","v":""},{"$f":"IF(+Radelkal!F452>0,+Radelkal!F452,\"\")","v":""},null,{"$f":"IF(W453<>\"\",SUM($AI$6:AI453)/10,\"\")","v":""},null,{"$f":"IF(Y453>0,+Y453/Daten!$I$18^2,\"\")","v":""},null,null,0,{"$f":"IF(WEEKDAY(A453)=1,IF(E453=1,VLOOKUP(AE453,Daten!$C$49:$D$102,2),\" \"),\"\")","v":""},32,0,0,0,""]
[{"$f":"+A452+1","v":"2021-08-13"},8,"1900-01-06",1,0,null,null,":",null,":",null," "," ","",null,null,{"$f":"IF(maxhf<100,0,IF(ISBLANK(P454)=\"WAHR\",P454,P454/maxhf)*100)","v":0},{"$f":"IF(F454>0,IF(P454>0,+F454*(F454*1000/(G454*60+I454+K454/60))/(maxhf-P454)*(maxhf/220),\"\"),\"\")","v":""},null,null,"",{"$f":"IF(+Radelkal!F453>0,+Radelkal!F453,\"\")","v":""},null,{"$f":"IF(W454<>\"\",SUM($AI$6:AI454)/10,\"\")","v":""},null,{"$f":"IF(Y454>0,+Y454/Daten!$I$18^2,\"\")","v":""},null,null,0,{"$f":"IF(WEEKDAY(A454)=1,IF(E454=1,VLOOKUP(AE454,Daten!$C$49:$D$102,2),\" \"),\"\")","v":""},32,0,0,0,""]
[{"$f":"+A454","v":"2021-08-13"},{"$f":"MONTH(A455)","v":8},{"$f":"WEEKDAY(A455)","v":"1900-01-06"},2,{"$f":"IF(D455=2,IF(C455=1,1,2),0)","v":2},null,null,":",null,":",null,{"$f":"IF((+G455*60+I455+K455/60)>0,G455*60+I455+K455/60,\" \")","v":" "},{"$f":"IF(+F455>0,+L455/F455/24/60,\" \")","v":" "},{"$f":"IF(F455>0,+F455/(L455/60),\"\")","v":""},null,null,0,"",null,null,"",{"$f":"IF(+Radelkal!F454>0,+Radelkal!F454,\"\")","v":""},null,{"$f":"IF(W455<>\"\",SUM($AI$6:AI455)/10,\"\")","v":""},null,{"$f":"IF(Y455>0,+Y455/Daten!$I$18^2,\"\")","v":""},null,null,0,{"$f":"IF(WEEKDAY(A455)=1,IF(E455=1,VLOOKUP(AE455,Daten!$C$49:$D$102,2),\" \"),\"\")","v":""},32,{"$f":"IF(F455>0,IF(D455=2,IF((AB454+AB455)>0,1,0),0),0)","v":0},{"$f":"+T455/10*F455","v":0},{"$f":"IF(COUNTBLANK(T455)=1,0,+U455/10*F455)","v":0},{"$f":"IF(W455<>\"\",10,\"\")","v":""}]
[{"$f":"+A454+1","v":"2021-08-14"},8,"1900-01-07",1,0,null,null,":",null,":",null," "," ","",null,null,0,"",null,null,"",{"$f":"IF(+Radelkal!F455>0,+Radelkal!F455,\"\")","v":""},null,{"$f":"IF(W456<>\"\",SUM($AI$6:AI456)/10,\"\")","v":""},null,{"$f":"IF(Y456>0,+Y456/Daten!$I$18^2,\"\")","v":""},null,null,{"$f":"IF(D456=2,+F456+F455,0)","v":0},{"$f":"IF(WEEKDAY(A456)=1,IF(E456=1,VLOOKUP(AE456,Daten!$C$49:$D$102,2),\" \"),\"\")","v":""},{"$f":"IF(WEEKDAY(A456)=2,IF(D456=1,AE455+1,AE455),AE455)","v":32},0,0,0,""]
[{"$f":"+A456","v":"2021-08-14"},8,"1900-01-07",2,2,null,null,":",null,":",null," "," ","",null,null,0,"",null,null,"",{"$f":"IF(+Radelkal!F456>0,+Radelkal!F456,\"\")","v":""},null,{"$f":"IF(W457<>\"\",SUM($AI$6:AI457)/10,\"\")","v":""},null,{"$f":"IF(Y457>0,+Y457/Daten!$I$18^2,\"\")","v":""},null,null,0,{"$f":"IF(WEEKDAY(A457)=1,IF(E457=1,VLOOKUP(AE457,Daten!$C$49:$D$102,2),\" \"),\"\")","v":""},32,0,0,0,""]
[{"$f":"+A456+1","v":"2021-08-15"},8,"1900-01-01",1,0,null,null,":",null,":",null," "," ","",null,null,0,"",null,null,"",{"$f":"IF(+Radelkal!F457>0,+Radelkal!F457,\"\")","v":""},null,{"$f":"IF(W458<>\"\",SUM($AI$6:AI458)/10,\"\")","v":""},null,{"$f":"IF(Y458>0,+Y458/Daten!$I$18^2,\"\")","v":""},null,null,0,{"$f":"IF(WEEKDAY(A458)=1,IF(E458=1,VLOOKUP(AE458,Daten!$C$49:$D$102,2),\" \"),\"\")","v":" "},32,0,0,0,""]
[{"$f":"+A458","v":"2021-08-15"},8,"1900-01-01",2,1,null,null,":",null,":",null," "," ","",null,null,0,"",null,null,"",{"$f":"IF(+Radelkal!F458>0,+Radelkal!F458,\"\")","v":""},null,{"$f":"IF(W459<>\"\",SUM($AI$6:AI459)/10,\"\")","v":""},null,{"$f":"IF(Y459>0,+Y459/Daten!$I$18^2,\"\")","v":""},null,null,0,{"$f":"IF(WEEKDAY(A459)=1,IF(E459=1,VLOOKUP(AE459,Daten!$C$49:$D$102,2),\" \"),\"\")","v":0},32,0,0,0,""]
[{"$f":"+A458+1","v":"2021-08-16"},8,"1900-01-02",1,0,null,null,":",null,":",null," "," ","",null,null,0,"",null,null,"",{"$f":"IF(+Radelkal!F459>0,+Radelkal!F459,\"\")","v":""},null,{"$f":"IF(W460<>\"\",SUM($AI$6:AI460)/10,\"\")","v":""},null,{"$f":"IF(Y460>0,+Y460/Daten!$I$18^2,\"\")","v":""},null,null,0,{"$f":"IF(WEEKDAY(A460)=1,IF(E460=1,VLOOKUP(AE460,Daten!$C$49:$D$102,2),\" \"),\"\")","v":""},33,0,0,0,""]
[{"$f":"+A460","v":"2021-08-16"},8,"1900-01-02",2,2,null,null,":",null,":",null," "," ","",null,null,0,"",null,null,"",{"$f":"IF(+Radelkal!F460>0,+Radelkal!F460,\"\")","v":""},null,{"$f":"IF(W461<>\"\",SUM($AI$6:AI461)/10,\"\")","v":""},null,{"$f":"IF(Y461>0,+Y461/Daten!$I$18^2,\"\")","v":""},null,null,0,{"$f":"IF(WEEKDAY(A461)=1,IF(E461=1,VLOOKUP(AE461,Daten!$C$49:$D$102,2),\" \"),\"\")","v":""},33,0,0,0,""]
[{"$f":"+A460+1","v":"2021-08-17"},8,"1900-01-03",1,0,null,null,":",null,":",null," "," ","",null,null,0,"",null,null,"",{"$f":"IF(+Radelkal!F461>0,+Radelkal!F461,\"\")","v":""},null,{"$f":"IF(W462<>\"\",SUM($AI$6:AI462)/10,\"\")","v":""},null,{"$f":"IF(Y462>0,+Y462/Daten!$I$18^2,\"\")","v":""},null,null,0,{"$f":"IF(WEEKDAY(A462)=1,IF(E462=1,VLOOKUP(AE462,Daten!$C$49:$D$102,2),\" \"),\"\")","v":""},33,0,0,0,""]
[{"$f":"+A462","v":"2021-08-17"},8,"1900-01-03",2,2,null,null,":",null,":",null," "," ","",null,null,0,"",null,null,"",{"$f":"IF(+Radelkal!F462>0,+Radelkal!F462,\"\")","v":""},null,{"$f":"IF(W463<>\"\",SUM($AI$6:AI463)/10,\"\")","v":""},null,{"$f":"IF(Y463>0,+Y463/Daten!$I$18^2,\"\")","v":""},null,null,0,{"$f":"IF(WEEKDAY(A463)=1,IF(E463=1,VLOOKUP(AE463,Daten!$C$49:$D$102,2),\" \"),\"\")","v":""},33,0,0,0,""]
[{"$f":"+A462+1","v":"2021-08-18"},8,"1900-01-04",1,0,null,null,":",null,":",null," "," ","",null,null,0,"",null,null,"",{"$f":"IF(+Radelkal!F463>0,+Radelkal!F463,\"\")","v":""},null,{"$f":"IF(W464<>\"\",SUM($AI$6:AI464)/10,\"\")","v":""},null,{"$f":"IF(Y464>0,+Y464/Daten!$I$18^2,\"\")","v":""},null,null,0,{"$f":"IF(WEEKDAY(A464)=1,IF(E464=1,VLOOKUP(AE464,Daten!$C$49:$D$102,2),\" \"),\"\")","v":""},33,0,0,0,""]
[{"$f":"+A464","v":"2021-08-18"},8,"1900-01-04",2,2,null,null,":",null,":",null," "," ","",null,null,0,"",null,null,"",{"$f":"IF(+Radelkal!F464>0,+Radelkal!F464,\"\")","v":""},null,{"$f":"IF(W465<>\"\",SUM($AI$6:AI465)/10,\"\")","v":""},null,{"$f":"IF(Y465>0,+Y465/Daten!$I$18^2,\"\")","v":""},null,null,0,{"$f":"IF(WEEKDAY(A465)=1,IF(E465=1,VLOOKUP(AE465,Daten!$C$49:$D$102,2),\" \"),\"\")","v":""},33,0,0,0,""]
[{"$f":"+A464+1","v":"2021-08-19"},8,"1900-01-05",1,0,null,null,":",null,":",null," "," ","",null,null,0,"",null,null,"",{"$f":"IF(+Radelkal!F465>0,+Radelkal!F465,\"\")","v":""},null,{"$f":"IF(W466<>\"\",SUM($AI$6:AI466)/10,\"\")","v":""},null,{"$f":"IF(Y466>0,+Y466/Daten!$I$18^2,\"\")","v":""},null,null,0,{"$f":"IF(WEEKDAY(A466)=1,IF(E466=1,VLOOKUP(AE466,Daten!$C$49:$D$102,2),\" \"),\"\")","v":""},33,0,0,0,""]
[{"$f":"+A466","v":"2021-08-19"},8,"1900-01-05",2,2,null,null,":",null,":",null," "," ","",null,null,0,"",null,null,"",{"$f":"IF(+Radelkal!F466>0,+Radelkal!F466,\"\")","v":""},null,{"$f":"IF(W467<>\"\",SUM($AI$6:AI467)/10,\"\")","v":""},null,{"$f":"IF(Y467>0,+Y467/Daten!$I$18^2,\"\")","v":""},null,null,0,{"$f":"IF(WEEKDAY(A467)=1,IF(E467=1,VLOOKUP(AE467,Daten!$C$49:$D$102,2),\" \"),\"\")","v":""},33,0,0,0,""]
[{"$f":"+A466+1","v":"2021-08-20"},8,"1900-01-06",1,0,null,null,":",null,":",null," "," ","",null,null,0,"",null,null,"",{"$f":"IF(+Radelkal!F467>0,+Radelkal!F467,\"\")","v":""},null,{"$f":"IF(W468<>\"\",SUM($AI$6:AI468)/10,\"\")","v":""},null,{"$f":"IF(Y468>0,+Y468/Daten!$I$18^2,\"\")","v":""},null,null,0,{"$f":"IF(WEEKDAY(A468)=1,IF(E468=1,VLOOKUP(AE468,Daten!$C$49:$D$102,2),\" \"),\"\")","v":""},33,0,0,0,""]
[{"$f":"+A468","v":"2021-08-20"},8,"1900-01-06",2,2,null,null,":",null,":",null," "," ","",null,null,0,"",null,null,"",{"$f":"IF(+Radelkal!F468>0,+Radelkal!F468,\"\")","v":""},null,{"$f":"IF(W469<>\"\",SUM($AI$6:AI469)/10,\"\")","v":""},null,{"$f":"IF(Y469>0,+Y469/Daten!$I$18^2,\"\")","v":""},null,null,0,{"$f":"IF(WEEKDAY(A469)=1,IF(E469=1,VLOOKUP(AE469,Daten!$C$49:$D$102,2),\" \"),\"\")","v":""},33,0,0,0,""]
[{"$f":"+A468+1","v":"2021-08-21"},8,"1900-01-07",1,0,null,null,":",null,":",null," "," ","",null,null,0,"",null,null,"",{"$f":"IF(+Radelkal!F469>0,+Radelkal!F469,\"\")","v":""},null,{"$f":"IF(W470<>\"\",SUM($AI$6:AI470)/10,\"\")","v":""},null,{"$f":"IF(Y470>0,+Y470/Daten!$I$18^2,\"\")","v":""},null,null,0,{"$f":"IF(WEEKDAY(A470)=1,IF(E470=1,VLOOKUP(AE470,Daten!$C$49:$D$102,2),\" \"),\"\")","v":""},33,0,0,0,""]
[{"$f":"+A470","v":"2021-08-21"},8,"1900-01-07",2,2,null,null,":",null,":",null," "," ","",null,null,0,"",null,null,"",{"$f":"IF(+Radelkal!F470>0,+Radelkal!F470,\"\")","v":""},null,{"$f":"IF(W471<>\"\",SUM($AI$6:AI471)/10,\"\")","v":""},null,{"$f":"IF(Y471>0,+Y471/Daten!$I$18^2,\"\")","v":""},null,null,0,{"$f":"IF(WEEKDAY(A471)=1,IF(E471=1,VLOOKUP(AE471,Daten!$C$49:$D$102,2),\" \"),\"\")","v":""},33,0,0,0,""]
[{"$f":"+A470+1","v":"2021-08-22"},8,"1900-01-01",1,0,null,null,":",null,":",null," "," ","",null,null,0,"",null,null,"",{"$f":"IF(+Radelkal!F471>0,+Radelkal!F471,\"\")","v":""},null,{"$f":"IF(W472<>\"\",SUM($AI$6:AI472)/10,\"\")","v":""},null,{"$f":"IF(Y472>0,+Y472/Daten!$I$18^2,\"\")","v":""},null,null,0,{"$f":"IF(WEEKDAY(A472)=1,IF(E472=1,VLOOKUP(AE472,Daten!$C$49:$D$102,2),\" \"),\"\")","v":" "},33,0,0,0,""]
[{"$f":"+A472","v":"2021-08-22"},8,"1900-01-01",2,1,null,null,":",null,":",null," "," ","",null,null,0,"",null,null,"",{"$f":"IF(+Radelkal!F472>0,+Radelkal!F472,\"\")","v":""},null,{"$f":"IF(W473<>\"\",SUM($AI$6:AI473)/10,\"\")","v":""},null,{"$f":"IF(Y473>0,+Y473/Daten!$I$18^2,\"\")","v":""},null,null,0,{"$f":"IF(WEEKDAY(A473)=1,IF(E473=1,VLOOKUP(AE473,Daten!$C$49:$D$102,2),\" \"),\"\")","v":0},33,0,0,0,""]
[{"$f":"+A472+1","v":"2021-08-23"},8,"1900-01-02",1,0,null,null,":",null,":",null," "," ","",null,null,0,"",null,null,"",{"$f":"IF(+Radelkal!F473>0,+Radelkal!F473,\"\")","v":""},null,{"$f":"IF(W474<>\"\",SUM($AI$6:AI474)/10,\"\")","v":""},null,{"$f":"IF(Y474>0,+Y474/Daten!$I$18^2,\"\")","v":""},null,null,0,{"$f":"IF(WEEKDAY(A474)=1,IF(E474=1,VLOOKUP(AE474,Daten!$C$49:$D$102,2),\" \"),\"\")","v":""},34,0,0,0,""]
[{"$f":"+A474","v":"2021-08-23"},8,"1900-01-02",2,2,null,null,":",null,":",null," "," ","",null,null,0,"",null,null,"",{"$f":"IF(+Radelkal!F474>0,+Radelkal!F474,\"\")","v":""},null,{"$f":"IF(W475<>\"\",SUM($AI$6:AI475)/10,\"\")","v":""},null,{"$f":"IF(Y475>0,+Y475/Daten!$I$18^2,\"\")","v":""},null,null,0,{"$f":"IF(WEEKDAY(A475)=1,IF(E475=1,VLOOKUP(AE475,Daten!$C$49:$D$102,2),\" \"),\"\")","v":""},34,0,0,0,""]
[{"$f":"+A474+1","v":"2021-08-24"},8,"1900-01-03",1,0,null,null,":",null,":",null," "," ","",null,null,0,"",null,null,"",{"$f":"IF(+Radelkal!F475>0,+Radelkal!F475,\"\")","v":""},null,{"$f":"IF(W476<>\"\",SUM($AI$6:AI476)/10,\"\")","v":""},null,{"$f":"IF(Y476>0,+Y476/Daten!$I$18^2,\"\")","v":""},null,null,0,{"$f":"IF(WEEKDAY(A476)=1,IF(E476=1,VLOOKUP(AE476,Daten!$C$49:$D$102,2),\" \"),\"\")","v":""},34,0,0,0,""]
[{"$f":"+A476","v":"2021-08-24"},8,"1900-01-03",2,2,null,null,":",null,":",null," "," ","",null,null,0,"",null,null,"",{"$f":"IF(+Radelkal!F476>0,+Radelkal!F476,\"\")","v":""},null,{"$f":"IF(W477<>\"\",SUM($AI$6:AI477)/10,\"\")","v":""},null,{"$f":"IF(Y477>0,+Y477/Daten!$I$18^2,\"\")","v":""},null,null,0,{"$f":"IF(WEEKDAY(A477)=1,IF(E477=1,VLOOKUP(AE477,Daten!$C$49:$D$102,2),\" \"),\"\")","v":""},34,0,0,0,""]
[{"$f":"+A476+1","v":"2021-08-25"},8,"1900-01-04",1,0,null,null,":",null,":",null," "," ","",null,null,0,"",null,null,"",{"$f":"IF(+Radelkal!F477>0,+Radelkal!F477,\"\")","v":""},null,{"$f":"IF(W478<>\"\",SUM($AI$6:AI478)/10,\"\")","v":""},null,{"$f":"IF(Y478>0,+Y478/Daten!$I$18^2,\"\")","v":""},null,null,0,{"$f":"IF(WEEKDAY(A478)=1,IF(E478=1,VLOOKUP(AE478,Daten!$C$49:$D$102,2),\" \"),\"\")","v":""},34,0,0,0,""]
[{"$f":"+A478","v":"2021-08-25"},8,"1900-01-04",2,2,null,null,":",null,":",null," "," ","",null,null,0,"",null,null,"",{"$f":"IF(+Radelkal!F478>0,+Radelkal!F478,\"\")","v":""},null,{"$f":"IF(W479<>\"\",SUM($AI$6:AI479)/10,\"\")","v":""},null,{"$f":"IF(Y479>0,+Y479/Daten!$I$18^2,\"\")","v":""},null,null,0,{"$f":"IF(WEEKDAY(A479)=1,IF(E479=1,VLOOKUP(AE479,Daten!$C$49:$D$102,2),\" \"),\"\")","v":""},34,0,0,0,""]
[{"$f":"+A478+1","v":"2021-08-26"},8,"1900-01-05",1,0,null,null,":",null,":",null," "," ","",null,null,0,"",null,null,"",{"$f":"IF(+Radelkal!F479>0,+Radelkal!F479,\"\")","v":""},null,{"$f":"IF(W480<>\"\",SUM($AI$6:AI480)/10,\"\")","v":""},null,{"$f":"IF(Y480>0,+Y480/Daten!$I$18^2,\"\")","v":""},null,null,0,{"$f":"IF(WEEKDAY(A480)=1,IF(E480=1,VLOOKUP(AE480,Daten!$C$49:$D$102,2),\" \"),\"\")","v":""},34,0,0,0,""]
[{"$f":"+A480","v":"2021-08-26"},8,"1900-01-05",2,2,null,null,":",null,":",null," "," ","",null,null,0,"",null,null,"",{"$f":"IF(+Radelkal!F480>0,+Radelkal!F480,\"\")","v":""},null,{"$f":"IF(W481<>\"\",SUM($AI$6:AI481)/10,\"\")","v":""},null,{"$f":"IF(Y481>0,+Y481/Daten!$I$18^2,\"\")","v":""},null,null,0,{"$f":"IF(WEEKDAY(A481)=1,IF(E481=1,VLOOKUP(AE481,Daten!$C$49:$D$102,2),\" \"),\"\")","v":""},34,0,0,0,""]
[{"$f":"+A480+1","v":"2021-08-27"},8,"1900-01-06",1,0,null,null,":",null,":",null," "," ","",null,null,0,"",null,null,"",{"$f":"IF(+Radelkal!F481>0,+Radelkal!F481,\"\")","v":""},null,{"$f":"IF(W482<>\"\",SUM($AI$6:AI482)/10,\"\")","v":""},null,{"$f":"IF(Y482>0,+Y482/Daten!$I$18^2,\"\")","v":""},null,null,0,{"$f":"IF(WEEKDAY(A482)=1,IF(E482=1,VLOOKUP(AE482,Daten!$C$49:$D$102,2),\" \"),\"\")","v":""},34,0,0,0,""]
[{"$f":"+A482","v":"2021-08-27"},8,"1900-01-06",2,2,null,null,":",null,":",null," "," ","",null,null,0,"",null,null,"",{"$f":"IF(+Radelkal!F482>0,+Radelkal!F482,\"\")","v":""},null,{"$f":"IF(W483<>\"\",SUM($AI$6:AI483)/10,\"\")","v":""},null,{"$f":"IF(Y483>0,+Y483/Daten!$I$18^2,\"\")","v":""},null,null,0,{"$f":"IF(WEEKDAY(A483)=1,IF(E483=1,VLOOKUP(AE483,Daten!$C$49:$D$102,2),\" \"),\"\")","v":""},34,0,0,0,""]
[{"$f":"+A482+1","v":"2021-08-28"},8,"1900-01-07",1,0,null,null,":",null,":",null," "," ","",null,null,0,"",null,null,"",{"$f":"IF(+Radelkal!F483>0,+Radelkal!F483,\"\")","v":""},null,{"$f":"IF(W484<>\"\",SUM($AI$6:AI484)/10,\"\")","v":""},null,{"$f":"IF(Y484>0,+Y484/Daten!$I$18^2,\"\")","v":""},null,null,0,{"$f":"IF(WEEKDAY(A484)=1,IF(E484=1,VLOOKUP(AE484,Daten!$C$49:$D$102,2),\" \"),\"\")","v":""},34,0,0,0,""]
[{"$f":"+A484","v":"2021-08-28"},8,"1900-01-07",2,2,null,null,":",null,":",null," "," ","",null,null,0,"",null,null,"",{"$f":"IF(+Radelkal!F484>0,+Radelkal!F484,\"\")","v":""},null,{"$f":"IF(W485<>\"\",SUM($AI$6:AI485)/10,\"\")","v":""},null,{"$f":"IF(Y485>0,+Y485/Daten!$I$18^2,\"\")","v":""},null,null,0,{"$f":"IF(WEEKDAY(A485)=1,IF(E485=1,VLOOKUP(AE485,Daten!$C$49:$D$102,2),\" \"),\"\")","v":""},34,0,0,0,""]
[{"$f":"+A484+1","v":"2021-08-29"},8,"1900-01-01",1,0,null,null,":",null,":",null," "," ","",null,null,0,"",null,null,"",{"$f":"IF(+Radelkal!F485>0,+Radelkal!F485,\"\")","v":""},null,{"$f":"IF(W486<>\"\",SUM($AI$6:AI486)/10,\"\")","v":""},null,{"$f":"IF(Y486>0,+Y486/Daten!$I$18^2,\"\")","v":""},null,null,0,{"$f":"IF(WEEKDAY(A486)=1,IF(E486=1,VLOOKUP(AE486,Daten!$C$49:$D$102,2),\" \"),\"\")","v":" "},34,0,0,0,""]
[{"$f":"+A486","v":"2021-08-29"},8,"1900-01-01",2,1,null,null,":",null,":",null," "," ","",null,null,0,"",null,null,"",{"$f":"IF(+Radelkal!F486>0,+Radelkal!F486,\"\")","v":""},null,{"$f":"IF(W487<>\"\",SUM($AI$6:AI487)/10,\"\")","v":""},null,{"$f":"IF(Y487>0,+Y487/Daten!$I$18^2,\"\")","v":""},null,null,0,{"$f":"IF(WEEKDAY(A487)=1,IF(E487=1,VLOOKUP(AE487,Daten!$C$49:$D$102,2),\" \"),\"\")","v":0},34,0,0,0,""]
[{"$f":"+A486+1","v":"2021-08-30"},8,"1900-01-02",1,0,null,null,":",null,":",null," "," ","",null,null,0,"",null,null,"",{"$f":"IF(+Radelkal!F487>0,+Radelkal!F487,\"\")","v":""},null,{"$f":"IF(W488<>\"\",SUM($AI$6:AI488)/10,\"\")","v":""},null,{"$f":"IF(Y488>0,+Y488/Daten!$I$18^2,\"\")","v":""},null,null,0,{"$f":"IF(WEEKDAY(A488)=1,IF(E488=1,VLOOKUP(AE488,Daten!$C$49:$D$102,2),\" \"),\"\")","v":""},35,0,0,0,""]
[{"$f":"+A488","v":"2021-08-30"},8,"1900-01-02",2,2,null,null,":",null,":",null," "," ","",null,null,0,"",null,null,"",{"$f":"IF(+Radelkal!F488>0,+Radelkal!F488,\"\")","v":""},null,{"$f":"IF(W489<>\"\",SUM($AI$6:AI489)/10,\"\")","v":""},null,{"$f":"IF(Y489>0,+Y489/Daten!$I$18^2,\"\")","v":""},null,null,0,{"$f":"IF(WEEKDAY(A489)=1,IF(E489=1,VLOOKUP(AE489,Daten!$C$49:$D$102,2),\" \"),\"\")","v":""},35,0,0,0,""]
[{"$f":"+A488+1","v":"2021-08-31"},8,"1900-01-03",1,0,null,null,":",null,":",null," "," ","",null,null,0,"",null,null,"",{"$f":"IF(+Radelkal!F489>0,+Radelkal!F489,\"\")","v":""},null,{"$f":"IF(W490<>\"\",SUM($AI$6:AI490)/10,\"\")","v":""},null,{"$f":"IF(Y490>0,+Y490/Daten!$I$18^2,\"\")","v":""},null,null,0,{"$f":"IF(WEEKDAY(A490)=1,IF(E490=1,VLOOKUP(AE490,Daten!$C$49:$D$102,2),\" \"),\"\")","v":""},35,0,0,0,""]
[{"$f":"+A490","v":"2021-08-31"},8,"1900-01-03",2,2,null,null,":",null,":",null," "," ","",null,null,0,"",null,null,"",{"$f":"IF(+Radelkal!F490>0,+Radelkal!F490,\"\")","v":""},null,{"$f":"IF(W491<>\"\",SUM($AI$6:AI491)/10,\"\")","v":""},null,{"$f":"IF(Y491>0,+Y491/Daten!$I$18^2,\"\")","v":""},null,null,0,{"$f":"IF(WEEKDAY(A491)=1,IF(E491=1,VLOOKUP(AE491,Daten!$C$49:$D$102,2),\" \"),\"\")","v":""},35,0,0,0,""]
[{"$f":"+A490+1","v":"2021-09-01"},9,"1900-01-04",1,0,null,null,":",null,":",null," "," ","",null,null,0,"",null,null,"",{"$f":"IF(+Radelkal!F491>0,+Radelkal!F491,\"\")","v":""},null,{"$f":"IF(W492<>\"\",SUM($AI$6:AI492)/10,\"\")","v":""},null,{"$f":"IF(Y492>0,+Y492/Daten!$I$18^2,\"\")","v":""},null,null,0,{"$f":"IF(WEEKDAY(A492)=1,IF(E492=1,VLOOKUP(AE492,Daten!$C$49:$D$102,2),\" \"),\"\")","v":""},35,0,0,0,""]
[{"$f":"+A492","v":"2021-09-01"},9,"1900-01-04",2,2,null,null,":",null,":",null," "," ","",null,null,0,"",null,null,"",{"$f":"IF(+Radelkal!F492>0,+Radelkal!F492,\"\")","v":""},null,{"$f":"IF(W493<>\"\",SUM($AI$6:AI493)/10,\"\")","v":""},null,{"$f":"IF(Y493>0,+Y493/Daten!$I$18^2,\"\")","v":""},null,null,0,{"$f":"IF(WEEKDAY(A493)=1,IF(E493=1,VLOOKUP(AE493,Daten!$C$49:$D$102,2),\" \"),\"\")","v":""},35,0,0,0,""]
[{"$f":"+A492+1","v":"2021-09-02"},9,"1900-01-05",1,0,null,null,":",null,":",null," "," ","",null,null,0,"",null,null,"",{"$f":"IF(+Radelkal!F493>0,+Radelkal!F493,\"\")","v":""},null,{"$f":"IF(W494<>\"\",SUM($AI$6:AI494)/10,\"\")","v":""},null,{"$f":"IF(Y494>0,+Y494/Daten!$I$18^2,\"\")","v":""},null,null,0,{"$f":"IF(WEEKDAY(A494)=1,IF(E494=1,VLOOKUP(AE494,Daten!$C$49:$D$102,2),\" \"),\"\")","v":""},35,0,0,0,""]
[{"$f":"+A494","v":"2021-09-02"},9,"1900-01-05",2,2,null,null,":",null,":",null," "," ","",null,null,0,"",null,null,"",{"$f":"IF(+Radelkal!F494>0,+Radelkal!F494,\"\")","v":""},null,{"$f":"IF(W495<>\"\",SUM($AI$6:AI495)/10,\"\")","v":""},null,{"$f":"IF(Y495>0,+Y495/Daten!$I$18^2,\"\")","v":""},null,null,0,{"$f":"IF(WEEKDAY(A495)=1,IF(E495=1,VLOOKUP(AE495,Daten!$C$49:$D$102,2),\" \"),\"\")","v":""},35,0,0,0,""]
[{"$f":"+A494+1","v":"2021-09-03"},9,"1900-01-06",1,0,null,null,":",null,":",null," "," ","",null,null,0,"",null,null,"",{"$f":"IF(+Radelkal!F495>0,+Radelkal!F495,\"\")","v":""},null,{"$f":"IF(W496<>\"\",SUM($AI$6:AI496)/10,\"\")","v":""},null,{"$f":"IF(Y496>0,+Y496/Daten!$I$18^2,\"\")","v":""},null,null,0,{"$f":"IF(WEEKDAY(A496)=1,IF(E496=1,VLOOKUP(AE496,Daten!$C$49:$D$102,2),\" \"),\"\")","v":""},35,0,0,0,""]
[{"$f":"+A496","v":"2021-09-03"},9,"1900-01-06",2,2,null,null,":",null,":",null," "," ","",null,null,0,"",null,null,"",{"$f":"IF(+Radelkal!F496>0,+Radelkal!F496,\"\")","v":""},null,{"$f":"IF(W497<>\"\",SUM($AI$6:AI497)/10,\"\")","v":""},null,{"$f":"IF(Y497>0,+Y497/Daten!$I$18^2,\"\")","v":""},null,null,0,{"$f":"IF(WEEKDAY(A497)=1,IF(E497=1,VLOOKUP(AE497,Daten!$C$49:$D$102,2),\" \"),\"\")","v":""},35,0,0,0,""]
[{"$f":"+A496+1","v":"2021-09-04"},9,"1900-01-07",1,0,null,null,":",null,":",null," "," ","",null,null,0,"",null,null,"",{"$f":"IF(+Radelkal!F497>0,+Radelkal!F497,\"\")","v":""},null,{"$f":"IF(W498<>\"\",SUM($AI$6:AI498)/10,\"\")","v":""},null,{"$f":"IF(Y498>0,+Y498/Daten!$I$18^2,\"\")","v":""},null,null,0,{"$f":"IF(WEEKDAY(A498)=1,IF(E498=1,VLOOKUP(AE498,Daten!$C$49:$D$102,2),\" \"),\"\")","v":""},35,0,0,0,""]
[{"$f":"+A498","v":"2021-09-04"},9,"1900-01-07",2,2,null,null,":",null,":",null," "," ","",null,null,0,"",null,null,"",{"$f":"IF(+Radelkal!F498>0,+Radelkal!F498,\"\")","v":""},null,{"$f":"IF(W499<>\"\",SUM($AI$6:AI499)/10,\"\")","v":""},null,{"$f":"IF(Y499>0,+Y499/Daten!$I$18^2,\"\")","v":""},null,null,0,{"$f":"IF(WEEKDAY(A499)=1,IF(E499=1,VLOOKUP(AE499,Daten!$C$49:$D$102,2),\" \"),\"\")","v":""},35,0,0,0,""]
[{"$f":"+A498+1","v":"2021-09-05"},9,"1900-01-01",1,0,null,null,":",null,":",null," "," ","",null,null,0,"",null,null,"",{"$f":"IF(+Radelkal!F499>0,+Radelkal!F499,\"\")","v":""},null,{"$f":"IF(W500<>\"\",SUM($AI$6:AI500)/10,\"\")","v":""},null,{"$f":"IF(Y500>0,+Y500/Daten!$I$18^2,\"\")","v":""},null,null,0,{"$f":"IF(WEEKDAY(A500)=1,IF(E500=1,VLOOKUP(AE500,Daten!$C$49:$D$102,2),\" \"),\"\")","v":" "},35,0,0,0,""]
[{"$f":"+A500","v":"2021-09-05"},9,"1900-01-01",2,1,null,null,":",null,":",null," "," ","",null,null,0,"",null,null,"",{"$f":"IF(+Radelkal!F500>0,+Radelkal!F500,\"\")","v":""},null,{"$f":"IF(W501<>\"\",SUM($AI$6:AI501)/10,\"\")","v":""},null,{"$f":"IF(Y501>0,+Y501/Daten!$I$18^2,\"\")","v":""},null,null,0,{"$f":"IF(WEEKDAY(A501)=1,IF(E501=1,VLOOKUP(AE501,Daten!$C$49:$D$102,2),\" \"),\"\")","v":0},35,0,0,0,""]
[{"$f":"+A500+1","v":"2021-09-06"},9,"1900-01-02",1,0,null,null,":",null,":",null," "," ","",null,null,0,"",null,null,"",{"$f":"IF(+Radelkal!F501>0,+Radelkal!F501,\"\")","v":""},null,{"$f":"IF(W502<>\"\",SUM($AI$6:AI502)/10,\"\")","v":""},null,{"$f":"IF(Y502>0,+Y502/Daten!$I$18^2,\"\")","v":""},null,null,0,{"$f":"IF(WEEKDAY(A502)=1,IF(E502=1,VLOOKUP(AE502,Daten!$C$49:$D$102,2),\" \"),\"\")","v":""},36,0,0,0,""]
[{"$f":"+A502","v":"2021-09-06"},9,"1900-01-02",2,2,null,null,":",null,":",null," "," ","",null,null,0,"",null,null,"",{"$f":"IF(+Radelkal!F502>0,+Radelkal!F502,\"\")","v":""},null,{"$f":"IF(W503<>\"\",SUM($AI$6:AI503)/10,\"\")","v":""},null,{"$f":"IF(Y503>0,+Y503/Daten!$I$18^2,\"\")","v":""},null,null,0,{"$f":"IF(WEEKDAY(A503)=1,IF(E503=1,VLOOKUP(AE503,Daten!$C$49:$D$102,2),\" \"),\"\")","v":""},36,0,0,0,""]
[{"$f":"+A502+1","v":"2021-09-07"},9,"1900-01-03",1,0,null,null,":",null,":",null," "," ","",null,null,0,"",null,null,"",{"$f":"IF(+Radelkal!F503>0,+Radelkal!F503,\"\")","v":""},null,{"$f":"IF(W504<>\"\",SUM($AI$6:AI504)/10,\"\")","v":""},null,{"$f":"IF(Y504>0,+Y504/Daten!$I$18^2,\"\")","v":""},null,null,0,{"$f":"IF(WEEKDAY(A504)=1,IF(E504=1,VLOOKUP(AE504,Daten!$C$49:$D$102,2),\" \"),\"\")","v":""},36,0,0,0,""]
[{"$f":"+A504","v":"2021-09-07"},9,"1900-01-03",2,2,null,null,":",null,":",null," "," ","",null,null,0,"",null,null,"",{"$f":"IF(+Radelkal!F504>0,+Radelkal!F504,\"\")","v":""},null,{"$f":"IF(W505<>\"\",SUM($AI$6:AI505)/10,\"\")","v":""},null,{"$f":"IF(Y505>0,+Y505/Daten!$I$18^2,\"\")","v":""},null,null,0,{"$f":"IF(WEEKDAY(A505)=1,IF(E505=1,VLOOKUP(AE505,Daten!$C$49:$D$102,2),\" \"),\"\")","v":""},36,0,0,0,""]
[{"$f":"+A504+1","v":"2021-09-08"},9,"1900-01-04",1,0,null,null,":",null,":",null," "," ","",null,null,0,"",null,null,"",{"$f":"IF(+Radelkal!F505>0,+Radelkal!F505,\"\")","v":""},null,{"$f":"IF(W506<>\"\",SUM($AI$6:AI506)/10,\"\")","v":""},null,{"$f":"IF(Y506>0,+Y506/Daten!$I$18^2,\"\")","v":""},null,null,0,{"$f":"IF(WEEKDAY(A506)=1,IF(E506=1,VLOOKUP(AE506,Daten!$C$49:$D$102,2),\" \"),\"\")","v":""},36,0,0,0,""]
[{"$f":"+A506","v":"2021-09-08"},9,"1900-01-04",2,2,null,null,":",null,":",null," "," ","",null,null,0,"",null,null,"",{"$f":"IF(+Radelkal!F506>0,+Radelkal!F506,\"\")","v":""},null,{"$f":"IF(W507<>\"\",SUM($AI$6:AI507)/10,\"\")","v":""},null,{"$f":"IF(Y507>0,+Y507/Daten!$I$18^2,\"\")","v":""},null,null,0,{"$f":"IF(WEEKDAY(A507)=1,IF(E507=1,VLOOKUP(AE507,Daten!$C$49:$D$102,2),\" \"),\"\")","v":""},36,0,0,0,""]
[{"$f":"+A506+1","v":"2021-09-09"},9,"1900-01-05",1,0,null,null,":",null,":",null," "," ","",null,null,0,"",null,null,"",{"$f":"IF(+Radelkal!F507>0,+Radelkal!F507,\"\")","v":""},null,{"$f":"IF(W508<>\"\",SUM($AI$6:AI508)/10,\"\")","v":""},null,{"$f":"IF(Y508>0,+Y508/Daten!$I$18^2,\"\")","v":""},null,null,0,{"$f":"IF(WEEKDAY(A508)=1,IF(E508=1,VLOOKUP(AE508,Daten!$C$49:$D$102,2),\" \"),\"\")","v":""},36,0,0,0,""]
[{"$f":"+A508","v":"2021-09-09"},9,"1900-01-05",2,2,null,null,":",null,":",null," "," ","",null,null,0,"",null,null,"",{"$f":"IF(+Radelkal!F508>0,+Radelkal!F508,\"\")","v":""},null,{"$f":"IF(W509<>\"\",SUM($AI$6:AI509)/10,\"\")","v":""},null,{"$f":"IF(Y509>0,+Y509/Daten!$I$18^2,\"\")","v":""},null,null,0,{"$f":"IF(WEEKDAY(A509)=1,IF(E509=1,VLOOKUP(AE509,Daten!$C$49:$D$102,2),\" \"),\"\")","v":""},36,0,0,0,""]
[{"$f":"+A508+1","v":"2021-09-10"},9,"1900-01-06",1,0,null,null,":",null,":",null," "," ","",null,null,0,"",null,null,"",{"$f":"IF(+Radelkal!F509>0,+Radelkal!F509,\"\")","v":""},null,{"$f":"IF(W510<>\"\",SUM($AI$6:AI510)/10,\"\")","v":""},null,{"$f":"IF(Y510>0,+Y510/Daten!$I$18^2,\"\")","v":""},null,null,0,{"$f":"IF(WEEKDAY(A510)=1,IF(E510=1,VLOOKUP(AE510,Daten!$C$49:$D$102,2),\" \"),\"\")","v":""},36,0,0,0,""]
[{"$f":"+A510","v":"2021-09-10"},9,"1900-01-06",2,2,null,null,":",null,":",null," "," ","",null,null,0,"",null,null,"",{"$f":"IF(+Radelkal!F510>0,+Radelkal!F510,\"\")","v":""},null,{"$f":"IF(W511<>\"\",SUM($AI$6:AI511)/10,\"\")","v":""},null,{"$f":"IF(Y511>0,+Y511/Daten!$I$18^2,\"\")","v":""},null,null,0,{"$f":"IF(WEEKDAY(A511)=1,IF(E511=1,VLOOKUP(AE511,Daten!$C$49:$D$102,2),\" \"),\"\")","v":""},36,0,0,0,""]
[{"$f":"+A510+1","v":"2021-09-11"},9,"1900-01-07",1,0,null,null,":",null,":",null," "," ","",null,null,0,"",null,null,"",{"$f":"IF(+Radelkal!F511>0,+Radelkal!F511,\"\")","v":""},null,{"$f":"IF(W512<>\"\",SUM($AI$6:AI512)/10,\"\")","v":""},null,{"$f":"IF(Y512>0,+Y512/Daten!$I$18^2,\"\")","v":""},null,null,0,{"$f":"IF(WEEKDAY(A512)=1,IF(E512=1,VLOOKUP(AE512,Daten!$C$49:$D$102,2),\" \"),\"\")","v":""},36,0,0,0,""]
[{"$f":"+A512","v":"2021-09-11"},9,"1900-01-07",2,2,null,null,":",null,":",null," "," ","",null,null,0,"",null,null,"",{"$f":"IF(+Radelkal!F512>0,+Radelkal!F512,\"\")","v":""},null,{"$f":"IF(W513<>\"\",SUM($AI$6:AI513)/10,\"\")","v":""},null,{"$f":"IF(Y513>0,+Y513/Daten!$I$18^2,\"\")","v":""},null,null,0,{"$f":"IF(WEEKDAY(A513)=1,IF(E513=1,VLOOKUP(AE513,Daten!$C$49:$D$102,2),\" \"),\"\")","v":""},36,0,0,0,""]
[{"$f":"+A512+1","v":"2021-09-12"},9,"1900-01-01",1,0,null,null,":",null,":",null," "," ","",null,null,0,"",null,null,"",{"$f":"IF(+Radelkal!F513>0,+Radelkal!F513,\"\")","v":""},null,{"$f":"IF(W514<>\"\",SUM($AI$6:AI514)/10,\"\")","v":""},null,{"$f":"IF(Y514>0,+Y514/Daten!$I$18^2,\"\")","v":""},null,null,0,{"$f":"IF(WEEKDAY(A514)=1,IF(E514=1,VLOOKUP(AE514,Daten!$C$49:$D$102,2),\" \"),\"\")","v":" "},36,0,0,0,""]
[{"$f":"+A514","v":"2021-09-12"},9,"1900-01-01",2,1,null,null,":",null,":",null," "," ","",null,null,0,"",null,null,"",{"$f":"IF(+Radelkal!F514>0,+Radelkal!F514,\"\")","v":""},null,{"$f":"IF(W515<>\"\",SUM($AI$6:AI515)/10,\"\")","v":""},null,{"$f":"IF(Y515>0,+Y515/Daten!$I$18^2,\"\")","v":""},null,null,0,{"$f":"IF(WEEKDAY(A515)=1,IF(E515=1,VLOOKUP(AE515,Daten!$C$49:$D$102,2),\" \"),\"\")","v":0},36,0,0,0,""]
[{"$f":"+A514+1","v":"2021-09-13"},9,"1900-01-02",1,0,null,null,":",null,":",null," "," ","",null,null,0,"",null,null,"",{"$f":"IF(+Radelkal!F515>0,+Radelkal!F515,\"\")","v":""},null,{"$f":"IF(W516<>\"\",SUM($AI$6:AI516)/10,\"\")","v":""},null,{"$f":"IF(Y516>0,+Y516/Daten!$I$18^2,\"\")","v":""},null,null,0,{"$f":"IF(WEEKDAY(A516)=1,IF(E516=1,VLOOKUP(AE516,Daten!$C$49:$D$102,2),\" \"),\"\")","v":""},37,0,0,0,""]
[{"$f":"+A516","v":"2021-09-13"},9,"1900-01-02",2,2,null,null,":",null,":",null," "," ","",null,null,0,"",null,null,{"$f":"IF(COUNTBLANK(T517)=1,\"\",IF(T517=\"10\",\"0\",10-T517))","v":""},{"$f":"IF(+Radelkal!F516>0,+Radelkal!F516,\"\")","v":""},null,{"$f":"IF(W517<>\"\",SUM($AI$6:AI517)/10,\"\")","v":""},null,{"$f":"IF(Y517>0,+Y517/Daten!$I$18^2,\"\")","v":""},null,null,0,{"$f":"IF(WEEKDAY(A517)=1,IF(E517=1,VLOOKUP(AE517,Daten!$C$49:$D$102,2),\" \"),\"\")","v":""},37,0,0,0,""]
[{"$f":"+A516+1","v":"2021-09-14"},9,"1900-01-03",1,0,null,null,":",null,":",null," "," ","",null,null,{"$f":"IF(maxhf<100,0,IF(ISBLANK(P518)=\"WAHR\",P518,P518/maxhf)*100)","v":0},{"$f":"IF(F518>0,IF(P518>0,+F518*(F518*1000/(G518*60+I518+K518/60))/(maxhf-P518)*(maxhf/220),\"\"),\"\")","v":""},null,null,"",{"$f":"IF(+Radelkal!F517>0,+Radelkal!F517,\"\")","v":""},null,{"$f":"IF(W518<>\"\",SUM($AI$6:AI518)/10,\"\")","v":""},null,{"$f":"IF(Y518>0,+Y518/Daten!$I$18^2,\"\")","v":""},null,null,0,{"$f":"IF(WEEKDAY(A518)=1,IF(E518=1,VLOOKUP(AE518,Daten!$C$49:$D$102,2),\" \"),\"\")","v":""},37,0,0,0,""]
[{"$f":"+A518","v":"2021-09-14"},{"$f":"MONTH(A519)","v":9},{"$f":"WEEKDAY(A519)","v":"1900-01-03"},2,{"$f":"IF(D519=2,IF(C519=1,1,2),0)","v":2},null,null,":",null,":",null,{"$f":"IF((+G519*60+I519+K519/60)>0,G519*60+I519+K519/60,\" \")","v":" "},{"$f":"IF(+F519>0,+L519/F519/24/60,\" \")","v":" "},{"$f":"IF(F519>0,+F519/(L519/60),\"\")","v":""},null,null,0,"",null,null,"",{"$f":"IF(+Radelkal!F518>0,+Radelkal!F518,\"\")","v":""},null,{"$f":"IF(W519<>\"\",SUM($AI$6:AI519)/10,\"\")","v":""},null,{"$f":"IF(Y519>0,+Y519/Daten!$I$18^2,\"\")","v":""},null,null,0,{"$f":"IF(WEEKDAY(A519)=1,IF(E519=1,VLOOKUP(AE519,Daten!$C$49:$D$102,2),\" \"),\"\")","v":""},37,{"$f":"IF(F519>0,IF(D519=2,IF((AB518+AB519)>0,1,0),0),0)","v":0},{"$f":"+T519/10*F519","v":0},{"$f":"IF(COUNTBLANK(T519)=1,0,+U519/10*F519)","v":0},{"$f":"IF(W519<>\"\",10,\"\")","v":""}]
[{"$f":"+A518+1","v":"2021-09-15"},9,"1900-01-04",1,0,null,null,":",null,":",null," "," ","",null,null,0,"",null,null,"",{"$f":"IF(+Radelkal!F519>0,+Radelkal!F519,\"\")","v":""},null,{"$f":"IF(W520<>\"\",SUM($AI$6:AI520)/10,\"\")","v":""},null,{"$f":"IF(Y520>0,+Y520/Daten!$I$18^2,\"\")","v":""},null,null,{"$f":"IF(D520=2,+F520+F519,0)","v":0},{"$f":"IF(WEEKDAY(A520)=1,IF(E520=1,VLOOKUP(AE520,Daten!$C$49:$D$102,2),\" \"),\"\")","v":""},{"$f":"IF(WEEKDAY(A520)=2,IF(D520=1,AE519+1,AE519),AE519)","v":37},0,0,0,""]
[{"$f":"+A520","v":"2021-09-15"},9,"1900-01-04",2,2,null,null,":",null,":",null," "," ","",null,null,0,"",null,null,"",{"$f":"IF(+Radelkal!F520>0,+Radelkal!F520,\"\")","v":""},null,{"$f":"IF(W521<>\"\",SUM($AI$6:AI521)/10,\"\")","v":""},null,{"$f":"IF(Y521>0,+Y521/Daten!$I$18^2,\"\")","v":""},null,null,0,{"$f":"IF(WEEKDAY(A521)=1,IF(E521=1,VLOOKUP(AE521,Daten!$C$49:$D$102,2),\" \"),\"\")","v":""},37,0,0,0,""]
[{"$f":"+A520+1","v":"2021-09-16"},9,"1900-01-05",1,0,null,null,":",null,":",null," "," ","",null,null,0,"",null,null,"",{"$f":"IF(+Radelkal!F521>0,+Radelkal!F521,\"\")","v":""},null,{"$f":"IF(W522<>\"\",SUM($AI$6:AI522)/10,\"\")","v":""},null,{"$f":"IF(Y522>0,+Y522/Daten!$I$18^2,\"\")","v":""},null,null,0,{"$f":"IF(WEEKDAY(A522)=1,IF(E522=1,VLOOKUP(AE522,Daten!$C$49:$D$102,2),\" \"),\"\")","v":""},37,0,0,0,""]
[{"$f":"+A522","v":"2021-09-16"},9,"1900-01-05",2,2,null,null,":",null,":",null," "," ","",null,null,0,"",null,null,"",{"$f":"IF(+Radelkal!F522>0,+Radelkal!F522,\"\")","v":""},null,{"$f":"IF(W523<>\"\",SUM($AI$6:AI523)/10,\"\")","v":""},null,{"$f":"IF(Y523>0,+Y523/Daten!$I$18^2,\"\")","v":""},null,null,0,{"$f":"IF(WEEKDAY(A523)=1,IF(E523=1,VLOOKUP(AE523,Daten!$C$49:$D$102,2),\" \"),\"\")","v":""},37,0,0,0,""]
[{"$f":"+A522+1","v":"2021-09-17"},9,"1900-01-06",1,0,null,null,":",null,":",null," "," ","",null,null,0,"",null,null,"",{"$f":"IF(+Radelkal!F523>0,+Radelkal!F523,\"\")","v":""},null,{"$f":"IF(W524<>\"\",SUM($AI$6:AI524)/10,\"\")","v":""},null,{"$f":"IF(Y524>0,+Y524/Daten!$I$18^2,\"\")","v":""},null,null,0,{"$f":"IF(WEEKDAY(A524)=1,IF(E524=1,VLOOKUP(AE524,Daten!$C$49:$D$102,2),\" \"),\"\")","v":""},37,0,0,0,""]
[{"$f":"+A524","v":"2021-09-17"},9,"1900-01-06",2,2,null,null,":",null,":",null," "," ","",null,null,0,"",null,null,"",{"$f":"IF(+Radelkal!F524>0,+Radelkal!F524,\"\")","v":""},null,{"$f":"IF(W525<>\"\",SUM($AI$6:AI525)/10,\"\")","v":""},null,{"$f":"IF(Y525>0,+Y525/Daten!$I$18^2,\"\")","v":""},null,null,0,{"$f":"IF(WEEKDAY(A525)=1,IF(E525=1,VLOOKUP(AE525,Daten!$C$49:$D$102,2),\" \"),\"\")","v":""},37,0,0,0,""]
[{"$f":"+A524+1","v":"2021-09-18"},9,"1900-01-07",1,0,null,null,":",null,":",null," "," ","",null,null,0,"",null,null,"",{"$f":"IF(+Radelkal!F525>0,+Radelkal!F525,\"\")","v":""},null,{"$f":"IF(W526<>\"\",SUM($AI$6:AI526)/10,\"\")","v":""},null,{"$f":"IF(Y526>0,+Y526/Daten!$I$18^2,\"\")","v":""},null,null,0,{"$f":"IF(WEEKDAY(A526)=1,IF(E526=1,VLOOKUP(AE526,Daten!$C$49:$D$102,2),\" \"),\"\")","v":""},37,0,0,0,""]
[{"$f":"+A526","v":"2021-09-18"},9,"1900-01-07",2,2,null,null,":",null,":",null," "," ","",null,null,0,"",null,null,"",{"$f":"IF(+Radelkal!F526>0,+Radelkal!F526,\"\")","v":""},null,{"$f":"IF(W527<>\"\",SUM($AI$6:AI527)/10,\"\")","v":""},null,{"$f":"IF(Y527>0,+Y527/Daten!$I$18^2,\"\")","v":""},null,null,0,{"$f":"IF(WEEKDAY(A527)=1,IF(E527=1,VLOOKUP(AE527,Daten!$C$49:$D$102,2),\" \"),\"\")","v":""},37,0,0,0,""]
[{"$f":"+A526+1","v":"2021-09-19"},9,"1900-01-01",1,0,null,null,":",null,":",null," "," ","",null,null,0,"",null,null,"",{"$f":"IF(+Radelkal!F527>0,+Radelkal!F527,\"\")","v":""},null,{"$f":"IF(W528<>\"\",SUM($AI$6:AI528)/10,\"\")","v":""},null,{"$f":"IF(Y528>0,+Y528/Daten!$I$18^2,\"\")","v":""},null,null,0,{"$f":"IF(WEEKDAY(A528)=1,IF(E528=1,VLOOKUP(AE528,Daten!$C$49:$D$102,2),\" \"),\"\")","v":" "},37,0,0,0,""]
[{"$f":"+A528","v":"2021-09-19"},9,"1900-01-01",2,1,null,null,":",null,":",null," "," ","",null,null,0,"",null,null,"",{"$f":"IF(+Radelkal!F528>0,+Radelkal!F528,\"\")","v":""},null,{"$f":"IF(W529<>\"\",SUM($AI$6:AI529)/10,\"\")","v":""},null,{"$f":"IF(Y529>0,+Y529/Daten!$I$18^2,\"\")","v":""},null,null,0,{"$f":"IF(WEEKDAY(A529)=1,IF(E529=1,VLOOKUP(AE529,Daten!$C$49:$D$102,2),\" \"),\"\")","v":0},37,0,0,0,""]
[{"$f":"+A528+1","v":"2021-09-20"},9,"1900-01-02",1,0,null,null,":",null,":",null," "," ","",null,null,0,"",null,null,"",{"$f":"IF(+Radelkal!F529>0,+Radelkal!F529,\"\")","v":""},null,{"$f":"IF(W530<>\"\",SUM($AI$6:AI530)/10,\"\")","v":""},null,{"$f":"IF(Y530>0,+Y530/Daten!$I$18^2,\"\")","v":""},null,null,0,{"$f":"IF(WEEKDAY(A530)=1,IF(E530=1,VLOOKUP(AE530,Daten!$C$49:$D$102,2),\" \"),\"\")","v":""},38,0,0,0,""]
[{"$f":"+A530","v":"2021-09-20"},9,"1900-01-02",2,2,null,null,":",null,":",null," "," ","",null,null,0,"",null,null,"",{"$f":"IF(+Radelkal!F530>0,+Radelkal!F530,\"\")","v":""},null,{"$f":"IF(W531<>\"\",SUM($AI$6:AI531)/10,\"\")","v":""},null,{"$f":"IF(Y531>0,+Y531/Daten!$I$18^2,\"\")","v":""},null,null,0,{"$f":"IF(WEEKDAY(A531)=1,IF(E531=1,VLOOKUP(AE531,Daten!$C$49:$D$102,2),\" \"),\"\")","v":""},38,0,0,0,""]
[{"$f":"+A530+1","v":"2021-09-21"},9,"1900-01-03",1,0,null,null,":",null,":",null," "," ","",null,null,0,"",null,null,"",{"$f":"IF(+Radelkal!F531>0,+Radelkal!F531,\"\")","v":""},null,{"$f":"IF(W532<>\"\",SUM($AI$6:AI532)/10,\"\")","v":""},null,{"$f":"IF(Y532>0,+Y532/Daten!$I$18^2,\"\")","v":""},null,null,0,{"$f":"IF(WEEKDAY(A532)=1,IF(E532=1,VLOOKUP(AE532,Daten!$C$49:$D$102,2),\" \"),\"\")","v":""},38,0,0,0,""]
[{"$f":"+A532","v":"2021-09-21"},9,"1900-01-03",2,2,null,null,":",null,":",null," "," ","",null,null,0,"",null,null,"",{"$f":"IF(+Radelkal!F532>0,+Radelkal!F532,\"\")","v":""},null,{"$f":"IF(W533<>\"\",SUM($AI$6:AI533)/10,\"\")","v":""},null,{"$f":"IF(Y533>0,+Y533/Daten!$I$18^2,\"\")","v":""},null,null,0,{"$f":"IF(WEEKDAY(A533)=1,IF(E533=1,VLOOKUP(AE533,Daten!$C$49:$D$102,2),\" \"),\"\")","v":""},38,0,0,0,""]
[{"$f":"+A532+1","v":"2021-09-22"},9,"1900-01-04",1,0,null,null,":",null,":",null," "," ","",null,null,0,"",null,null,"",{"$f":"IF(+Radelkal!F533>0,+Radelkal!F533,\"\")","v":""},null,{"$f":"IF(W534<>\"\",SUM($AI$6:AI534)/10,\"\")","v":""},null,{"$f":"IF(Y534>0,+Y534/Daten!$I$18^2,\"\")","v":""},null,null,0,{"$f":"IF(WEEKDAY(A534)=1,IF(E534=1,VLOOKUP(AE534,Daten!$C$49:$D$102,2),\" \"),\"\")","v":""},38,0,0,0,""]
[{"$f":"+A534","v":"2021-09-22"},9,"1900-01-04",2,2,null,null,":",null,":",null," "," ","",null,null,0,"",null,null,"",{"$f":"IF(+Radelkal!F534>0,+Radelkal!F534,\"\")","v":""},null,{"$f":"IF(W535<>\"\",SUM($AI$6:AI535)/10,\"\")","v":""},null,{"$f":"IF(Y535>0,+Y535/Daten!$I$18^2,\"\")","v":""},null,null,0,{"$f":"IF(WEEKDAY(A535)=1,IF(E535=1,VLOOKUP(AE535,Daten!$C$49:$D$102,2),\" \"),\"\")","v":""},38,0,0,0,""]
[{"$f":"+A534+1","v":"2021-09-23"},9,"1900-01-05",1,0,null,null,":",null,":",null," "," ","",null,null,0,"",null,null,"",{"$f":"IF(+Radelkal!F535>0,+Radelkal!F535,\"\")","v":""},null,{"$f":"IF(W536<>\"\",SUM($AI$6:AI536)/10,\"\")","v":""},null,{"$f":"IF(Y536>0,+Y536/Daten!$I$18^2,\"\")","v":""},null,null,0,{"$f":"IF(WEEKDAY(A536)=1,IF(E536=1,VLOOKUP(AE536,Daten!$C$49:$D$102,2),\" \"),\"\")","v":""},38,0,0,0,""]
[{"$f":"+A536","v":"2021-09-23"},9,"1900-01-05",2,2,null,null,":",null,":",null," "," ","",null,null,0,"",null,null,"",{"$f":"IF(+Radelkal!F536>0,+Radelkal!F536,\"\")","v":""},null,{"$f":"IF(W537<>\"\",SUM($AI$6:AI537)/10,\"\")","v":""},null,{"$f":"IF(Y537>0,+Y537/Daten!$I$18^2,\"\")","v":""},null,null,0,{"$f":"IF(WEEKDAY(A537)=1,IF(E537=1,VLOOKUP(AE537,Daten!$C$49:$D$102,2),\" \"),\"\")","v":""},38,0,0,0,""]
[{"$f":"+A536+1","v":"2021-09-24"},9,"1900-01-06",1,0,null,null,":",null,":",null," "," ","",null,null,0,"",null,null,"",{"$f":"IF(+Radelkal!F537>0,+Radelkal!F537,\"\")","v":""},null,{"$f":"IF(W538<>\"\",SUM($AI$6:AI538)/10,\"\")","v":""},null,{"$f":"IF(Y538>0,+Y538/Daten!$I$18^2,\"\")","v":""},null,null,0,{"$f":"IF(WEEKDAY(A538)=1,IF(E538=1,VLOOKUP(AE538,Daten!$C$49:$D$102,2),\" \"),\"\")","v":""},38,0,0,0,""]
[{"$f":"+A538","v":"2021-09-24"},9,"1900-01-06",2,2,null,null,":",null,":",null," "," ","",null,null,0,"",null,null,"",{"$f":"IF(+Radelkal!F538>0,+Radelkal!F538,\"\")","v":""},null,{"$f":"IF(W539<>\"\",SUM($AI$6:AI539)/10,\"\")","v":""},null,{"$f":"IF(Y539>0,+Y539/Daten!$I$18^2,\"\")","v":""},null,null,0,{"$f":"IF(WEEKDAY(A539)=1,IF(E539=1,VLOOKUP(AE539,Daten!$C$49:$D$102,2),\" \"),\"\")","v":""},38,0,0,0,""]
[{"$f":"+A538+1","v":"2021-09-25"},9,"1900-01-07",1,0,null,null,":",null,":",null," "," ","",null,null,0,"",null,null,"",{"$f":"IF(+Radelkal!F539>0,+Radelkal!F539,\"\")","v":""},null,{"$f":"IF(W540<>\"\",SUM($AI$6:AI540)/10,\"\")","v":""},null,{"$f":"IF(Y540>0,+Y540/Daten!$I$18^2,\"\")","v":""},null,null,0,{"$f":"IF(WEEKDAY(A540)=1,IF(E540=1,VLOOKUP(AE540,Daten!$C$49:$D$102,2),\" \"),\"\")","v":""},38,0,0,0,""]
[{"$f":"+A540","v":"2021-09-25"},9,"1900-01-07",2,2,null,null,":",null,":",null," "," ","",null,null,0,"",null,null,"",{"$f":"IF(+Radelkal!F540>0,+Radelkal!F540,\"\")","v":""},null,{"$f":"IF(W541<>\"\",SUM($AI$6:AI541)/10,\"\")","v":""},null,{"$f":"IF(Y541>0,+Y541/Daten!$I$18^2,\"\")","v":""},null,null,0,{"$f":"IF(WEEKDAY(A541)=1,IF(E541=1,VLOOKUP(AE541,Daten!$C$49:$D$102,2),\" \"),\"\")","v":""},38,0,0,0,""]
[{"$f":"+A540+1","v":"2021-09-26"},9,"1900-01-01",1,0,null,null,":",null,":",null," "," ","",null,null,0,"",null,null,"",{"$f":"IF(+Radelkal!F541>0,+Radelkal!F541,\"\")","v":""},null,{"$f":"IF(W542<>\"\",SUM($AI$6:AI542)/10,\"\")","v":""},null,{"$f":"IF(Y542>0,+Y542/Daten!$I$18^2,\"\")","v":""},null,null,0,{"$f":"IF(WEEKDAY(A542)=1,IF(E542=1,VLOOKUP(AE542,Daten!$C$49:$D$102,2),\" \"),\"\")","v":" "},38,0,0,0,""]
[{"$f":"+A542","v":"2021-09-26"},9,"1900-01-01",2,1,null,null,":",null,":",null," "," ","",null,null,0,"",null,null,"",{"$f":"IF(+Radelkal!F542>0,+Radelkal!F542,\"\")","v":""},null,{"$f":"IF(W543<>\"\",SUM($AI$6:AI543)/10,\"\")","v":""},null,{"$f":"IF(Y543>0,+Y543/Daten!$I$18^2,\"\")","v":""},null,null,0,{"$f":"IF(WEEKDAY(A543)=1,IF(E543=1,VLOOKUP(AE543,Daten!$C$49:$D$102,2),\" \"),\"\")","v":0},38,0,0,0,""]
[{"$f":"+A542+1","v":"2021-09-27"},9,"1900-01-02",1,0,null,null,":",null,":",null," "," ","",null,null,0,"",null,null,"",{"$f":"IF(+Radelkal!F543>0,+Radelkal!F543,\"\")","v":""},null,{"$f":"IF(W544<>\"\",SUM($AI$6:AI544)/10,\"\")","v":""},null,{"$f":"IF(Y544>0,+Y544/Daten!$I$18^2,\"\")","v":""},null,null,0,{"$f":"IF(WEEKDAY(A544)=1,IF(E544=1,VLOOKUP(AE544,Daten!$C$49:$D$102,2),\" \"),\"\")","v":""},39,0,0,0,""]
[{"$f":"+A544","v":"2021-09-27"},9,"1900-01-02",2,2,null,null,":",null,":",null," "," ","",null,null,0,"",null,null,"",{"$f":"IF(+Radelkal!F544>0,+Radelkal!F544,\"\")","v":""},null,{"$f":"IF(W545<>\"\",SUM($AI$6:AI545)/10,\"\")","v":""},null,{"$f":"IF(Y545>0,+Y545/Daten!$I$18^2,\"\")","v":""},null,null,0,{"$f":"IF(WEEKDAY(A545)=1,IF(E545=1,VLOOKUP(AE545,Daten!$C$49:$D$102,2),\" \"),\"\")","v":""},39,0,0,0,""]
[{"$f":"+A544+1","v":"2021-09-28"},9,"1900-01-03",1,0,null,null,":",null,":",null," "," ","",null,null,0,"",null,null,"",{"$f":"IF(+Radelkal!F545>0,+Radelkal!F545,\"\")","v":""},null,{"$f":"IF(W546<>\"\",SUM($AI$6:AI546)/10,\"\")","v":""},null,{"$f":"IF(Y546>0,+Y546/Daten!$I$18^2,\"\")","v":""},null,null,0,{"$f":"IF(WEEKDAY(A546)=1,IF(E546=1,VLOOKUP(AE546,Daten!$C$49:$D$102,2),\" \"),\"\")","v":""},39,0,0,0,""]
[{"$f":"+A546","v":"2021-09-28"},9,"1900-01-03",2,2,null,null,":",null,":",null," "," ","",null,null,0,"",null,null,"",{"$f":"IF(+Radelkal!F546>0,+Radelkal!F546,\"\")","v":""},null,{"$f":"IF(W547<>\"\",SUM($AI$6:AI547)/10,\"\")","v":""},null,{"$f":"IF(Y547>0,+Y547/Daten!$I$18^2,\"\")","v":""},null,null,0,{"$f":"IF(WEEKDAY(A547)=1,IF(E547=1,VLOOKUP(AE547,Daten!$C$49:$D$102,2),\" \"),\"\")","v":""},39,0,0,0,""]
[{"$f":"+A546+1","v":"2021-09-29"},9,"1900-01-04",1,0,null,null,":",null,":",null," "," ","",null,null,0,"",null,null,"",{"$f":"IF(+Radelkal!F547>0,+Radelkal!F547,\"\")","v":""},null,{"$f":"IF(W548<>\"\",SUM($AI$6:AI548)/10,\"\")","v":""},null,{"$f":"IF(Y548>0,+Y548/Daten!$I$18^2,\"\")","v":""},null,null,0,{"$f":"IF(WEEKDAY(A548)=1,IF(E548=1,VLOOKUP(AE548,Daten!$C$49:$D$102,2),\" \"),\"\")","v":""},39,0,0,0,""]
[{"$f":"+A548","v":"2021-09-29"},9,"1900-01-04",2,2,null,null,":",null,":",null," "," ","",null,null,0,"",null,null,"",{"$f":"IF(+Radelkal!F548>0,+Radelkal!F548,\"\")","v":""},null,{"$f":"IF(W549<>\"\",SUM($AI$6:AI549)/10,\"\")","v":""},null,{"$f":"IF(Y549>0,+Y549/Daten!$I$18^2,\"\")","v":""},null,null,0,{"$f":"IF(WEEKDAY(A549)=1,IF(E549=1,VLOOKUP(AE549,Daten!$C$49:$D$102,2),\" \"),\"\")","v":""},39,0,0,0,""]
[{"$f":"+A548+1","v":"2021-09-30"},9,"1900-01-05",1,0,null,null,":",null,":",null," "," ","",null,null,0,"",null,null,"",{"$f":"IF(+Radelkal!F549>0,+Radelkal!F549,\"\")","v":""},null,{"$f":"IF(W550<>\"\",SUM($AI$6:AI550)/10,\"\")","v":""},null,{"$f":"IF(Y550>0,+Y550/Daten!$I$18^2,\"\")","v":""},null,null,0,{"$f":"IF(WEEKDAY(A550)=1,IF(E550=1,VLOOKUP(AE550,Daten!$C$49:$D$102,2),\" \"),\"\")","v":""},39,0,0,0,""]
[{"$f":"+A550","v":"2021-09-30"},9,"1900-01-05",2,2,null,null,":",null,":",null," "," ","",null,null,0,"",null,null,"",{"$f":"IF(+Radelkal!F550>0,+Radelkal!F550,\"\")","v":""},null,{"$f":"IF(W551<>\"\",SUM($AI$6:AI551)/10,\"\")","v":""},null,{"$f":"IF(Y551>0,+Y551/Daten!$I$18^2,\"\")","v":""},null,null,0,{"$f":"IF(WEEKDAY(A551)=1,IF(E551=1,VLOOKUP(AE551,Daten!$C$49:$D$102,2),\" \"),\"\")","v":""},39,0,0,0,""]
[{"$f":"+A550+1","v":"2021-10-01"},10,"1900-01-06",1,0,null,null,":",null,":",null," "," ","",null,null,0,"",null,null,"",{"$f":"IF(+Radelkal!F551>0,+Radelkal!F551,\"\")","v":""},null,{"$f":"IF(W552<>\"\",SUM($AI$6:AI552)/10,\"\")","v":""},null,{"$f":"IF(Y552>0,+Y552/Daten!$I$18^2,\"\")","v":""},null,null,0,{"$f":"IF(WEEKDAY(A552)=1,IF(E552=1,VLOOKUP(AE552,Daten!$C$49:$D$102,2),\" \"),\"\")","v":""},39,0,0,0,""]
[{"$f":"+A552","v":"2021-10-01"},10,"1900-01-06",2,2,null,null,":",null,":",null," "," ","",null,null,0,"",null,null,"",{"$f":"IF(+Radelkal!F552>0,+Radelkal!F552,\"\")","v":""},null,{"$f":"IF(W553<>\"\",SUM($AI$6:AI553)/10,\"\")","v":""},null,{"$f":"IF(Y553>0,+Y553/Daten!$I$18^2,\"\")","v":""},null,null,0,{"$f":"IF(WEEKDAY(A553)=1,IF(E553=1,VLOOKUP(AE553,Daten!$C$49:$D$102,2),\" \"),\"\")","v":""},39,0,0,0,""]
[{"$f":"+A552+1","v":"2021-10-02"},10,"1900-01-07",1,0,null,null,":",null,":",null," "," ","",null,null,0,"",null,null,"",{"$f":"IF(+Radelkal!F553>0,+Radelkal!F553,\"\")","v":""},null,{"$f":"IF(W554<>\"\",SUM($AI$6:AI554)/10,\"\")","v":""},null,{"$f":"IF(Y554>0,+Y554/Daten!$I$18^2,\"\")","v":""},null,null,0,{"$f":"IF(WEEKDAY(A554)=1,IF(E554=1,VLOOKUP(AE554,Daten!$C$49:$D$102,2),\" \"),\"\")","v":""},39,0,0,0,""]
[{"$f":"+A554","v":"2021-10-02"},10,"1900-01-07",2,2,null,null,":",null,":",null," "," ","",null,null,0,"",null,null,"",{"$f":"IF(+Radelkal!F554>0,+Radelkal!F554,\"\")","v":""},null,{"$f":"IF(W555<>\"\",SUM($AI$6:AI555)/10,\"\")","v":""},null,{"$f":"IF(Y555>0,+Y555/Daten!$I$18^2,\"\")","v":""},null,null,0,{"$f":"IF(WEEKDAY(A555)=1,IF(E555=1,VLOOKUP(AE555,Daten!$C$49:$D$102,2),\" \"),\"\")","v":""},39,0,0,0,""]
[{"$f":"+A554+1","v":"2021-10-03"},10,"1900-01-01",1,0,null,null,":",null,":",null," "," ","",null,null,0,"",null,null,"",{"$f":"IF(+Radelkal!F555>0,+Radelkal!F555,\"\")","v":""},null,{"$f":"IF(W556<>\"\",SUM($AI$6:AI556)/10,\"\")","v":""},null,{"$f":"IF(Y556>0,+Y556/Daten!$I$18^2,\"\")","v":""},null,null,0,{"$f":"IF(WEEKDAY(A556)=1,IF(E556=1,VLOOKUP(AE556,Daten!$C$49:$D$102,2),\" \"),\"\")","v":" "},39,0,0,0,""]
[{"$f":"+A556","v":"2021-10-03"},10,"1900-01-01",2,1,null,null,":",null,":",null," "," ","",null,null,0,"",null,null,"",{"$f":"IF(+Radelkal!F556>0,+Radelkal!F556,\"\")","v":""},null,{"$f":"IF(W557<>\"\",SUM($AI$6:AI557)/10,\"\")","v":""},null,{"$f":"IF(Y557>0,+Y557/Daten!$I$18^2,\"\")","v":""},null,null,0,{"$f":"IF(WEEKDAY(A557)=1,IF(E557=1,VLOOKUP(AE557,Daten!$C$49:$D$102,2),\" \"),\"\")","v":0},39,0,0,0,""]
[{"$f":"+A556+1","v":"2021-10-04"},10,"1900-01-02",1,0,null,null,":",null,":",null," "," ","",null,null,0,"",null,null,"",{"$f":"IF(+Radelkal!F557>0,+Radelkal!F557,\"\")","v":""},null,{"$f":"IF(W558<>\"\",SUM($AI$6:AI558)/10,\"\")","v":""},null,{"$f":"IF(Y558>0,+Y558/Daten!$I$18^2,\"\")","v":""},null,null,0,{"$f":"IF(WEEKDAY(A558)=1,IF(E558=1,VLOOKUP(AE558,Daten!$C$49:$D$102,2),\" \"),\"\")","v":""},40,0,0,0,""]
[{"$f":"+A558","v":"2021-10-04"},10,"1900-01-02",2,2,null,null,":",null,":",null," "," ","",null,null,0,"",null,null,"",{"$f":"IF(+Radelkal!F558>0,+Radelkal!F558,\"\")","v":""},null,{"$f":"IF(W559<>\"\",SUM($AI$6:AI559)/10,\"\")","v":""},null,{"$f":"IF(Y559>0,+Y559/Daten!$I$18^2,\"\")","v":""},null,null,0,{"$f":"IF(WEEKDAY(A559)=1,IF(E559=1,VLOOKUP(AE559,Daten!$C$49:$D$102,2),\" \"),\"\")","v":""},40,0,0,0,""]
[{"$f":"+A558+1","v":"2021-10-05"},10,"1900-01-03",1,0,null,null,":",null,":",null," "," ","",null,null,0,"",null,null,"",{"$f":"IF(+Radelkal!F559>0,+Radelkal!F559,\"\")","v":""},null,{"$f":"IF(W560<>\"\",SUM($AI$6:AI560)/10,\"\")","v":""},null,{"$f":"IF(Y560>0,+Y560/Daten!$I$18^2,\"\")","v":""},null,null,0,{"$f":"IF(WEEKDAY(A560)=1,IF(E560=1,VLOOKUP(AE560,Daten!$C$49:$D$102,2),\" \"),\"\")","v":""},40,0,0,0,""]
[{"$f":"+A560","v":"2021-10-05"},10,"1900-01-03",2,2,null,null,":",null,":",null," "," ","",null,null,0,"",null,null,"",{"$f":"IF(+Radelkal!F560>0,+Radelkal!F560,\"\")","v":""},null,{"$f":"IF(W561<>\"\",SUM($AI$6:AI561)/10,\"\")","v":""},null,{"$f":"IF(Y561>0,+Y561/Daten!$I$18^2,\"\")","v":""},null,null,0,{"$f":"IF(WEEKDAY(A561)=1,IF(E561=1,VLOOKUP(AE561,Daten!$C$49:$D$102,2),\" \"),\"\")","v":""},40,0,0,0,""]
[{"$f":"+A560+1","v":"2021-10-06"},10,"1900-01-04",1,0,null,null,":",null,":",null," "," ","",null,null,0,"",null,null,"",{"$f":"IF(+Radelkal!F561>0,+Radelkal!F561,\"\")","v":""},null,{"$f":"IF(W562<>\"\",SUM($AI$6:AI562)/10,\"\")","v":""},null,{"$f":"IF(Y562>0,+Y562/Daten!$I$18^2,\"\")","v":""},null,null,0,{"$f":"IF(WEEKDAY(A562)=1,IF(E562=1,VLOOKUP(AE562,Daten!$C$49:$D$102,2),\" \"),\"\")","v":""},40,0,0,0,""]
[{"$f":"+A562","v":"2021-10-06"},10,"1900-01-04",2,2,null,null,":",null,":",null," "," ","",null,null,0,"",null,null,"",{"$f":"IF(+Radelkal!F562>0,+Radelkal!F562,\"\")","v":""},null,{"$f":"IF(W563<>\"\",SUM($AI$6:AI563)/10,\"\")","v":""},null,{"$f":"IF(Y563>0,+Y563/Daten!$I$18^2,\"\")","v":""},null,null,0,{"$f":"IF(WEEKDAY(A563)=1,IF(E563=1,VLOOKUP(AE563,Daten!$C$49:$D$102,2),\" \"),\"\")","v":""},40,0,0,0,""]
[{"$f":"+A562+1","v":"2021-10-07"},10,"1900-01-05",1,0,null,null,":",null,":",null," "," ","",null,null,0,"",null,null,"",{"$f":"IF(+Radelkal!F563>0,+Radelkal!F563,\"\")","v":""},null,{"$f":"IF(W564<>\"\",SUM($AI$6:AI564)/10,\"\")","v":""},null,{"$f":"IF(Y564>0,+Y564/Daten!$I$18^2,\"\")","v":""},null,null,0,{"$f":"IF(WEEKDAY(A564)=1,IF(E564=1,VLOOKUP(AE564,Daten!$C$49:$D$102,2),\" \"),\"\")","v":""},40,0,0,0,""]
[{"$f":"+A564","v":"2021-10-07"},10,"1900-01-05",2,2,null,null,":",null,":",null," "," ","",null,null,0,"",null,null,"",{"$f":"IF(+Radelkal!F564>0,+Radelkal!F564,\"\")","v":""},null,{"$f":"IF(W565<>\"\",SUM($AI$6:AI565)/10,\"\")","v":""},null,{"$f":"IF(Y565>0,+Y565/Daten!$I$18^2,\"\")","v":""},null,null,0,{"$f":"IF(WEEKDAY(A565)=1,IF(E565=1,VLOOKUP(AE565,Daten!$C$49:$D$102,2),\" \"),\"\")","v":""},40,0,0,0,""]
[{"$f":"+A564+1","v":"2021-10-08"},10,"1900-01-06",1,0,null,null,":",null,":",null," "," ","",null,null,0,"",null,null,"",{"$f":"IF(+Radelkal!F565>0,+Radelkal!F565,\"\")","v":""},null,{"$f":"IF(W566<>\"\",SUM($AI$6:AI566)/10,\"\")","v":""},null,{"$f":"IF(Y566>0,+Y566/Daten!$I$18^2,\"\")","v":""},null,null,0,{"$f":"IF(WEEKDAY(A566)=1,IF(E566=1,VLOOKUP(AE566,Daten!$C$49:$D$102,2),\" \"),\"\")","v":""},40,0,0,0,""]
[{"$f":"+A566","v":"2021-10-08"},10,"1900-01-06",2,2,null,null,":",null,":",null," "," ","",null,null,0,"",null,null,"",{"$f":"IF(+Radelkal!F566>0,+Radelkal!F566,\"\")","v":""},null,{"$f":"IF(W567<>\"\",SUM($AI$6:AI567)/10,\"\")","v":""},null,{"$f":"IF(Y567>0,+Y567/Daten!$I$18^2,\"\")","v":""},null,null,0,{"$f":"IF(WEEKDAY(A567)=1,IF(E567=1,VLOOKUP(AE567,Daten!$C$49:$D$102,2),\" \"),\"\")","v":""},40,0,0,0,""]
[{"$f":"+A566+1","v":"2021-10-09"},10,"1900-01-07",1,0,null,null,":",null,":",null," "," ","",null,null,0,"",null,null,"",{"$f":"IF(+Radelkal!F567>0,+Radelkal!F567,\"\")","v":""},null,{"$f":"IF(W568<>\"\",SUM($AI$6:AI568)/10,\"\")","v":""},null,{"$f":"IF(Y568>0,+Y568/Daten!$I$18^2,\"\")","v":""},null,null,0,{"$f":"IF(WEEKDAY(A568)=1,IF(E568=1,VLOOKUP(AE568,Daten!$C$49:$D$102,2),\" \"),\"\")","v":""},40,0,0,0,""]
[{"$f":"+A568","v":"2021-10-09"},10,"1900-01-07",2,2,null,null,":",null,":",null," "," ","",null,null,0,"",null,null,"",{"$f":"IF(+Radelkal!F568>0,+Radelkal!F568,\"\")","v":""},null,{"$f":"IF(W569<>\"\",SUM($AI$6:AI569)/10,\"\")","v":""},null,{"$f":"IF(Y569>0,+Y569/Daten!$I$18^2,\"\")","v":""},null,null,0,{"$f":"IF(WEEKDAY(A569)=1,IF(E569=1,VLOOKUP(AE569,Daten!$C$49:$D$102,2),\" \"),\"\")","v":""},40,0,0,0,""]
[{"$f":"+A568+1","v":"2021-10-10"},10,"1900-01-01",1,0,null,null,":",null,":",null," "," ","",null,null,0,"",null,null,"",{"$f":"IF(+Radelkal!F569>0,+Radelkal!F569,\"\")","v":""},null,{"$f":"IF(W570<>\"\",SUM($AI$6:AI570)/10,\"\")","v":""},null,{"$f":"IF(Y570>0,+Y570/Daten!$I$18^2,\"\")","v":""},null,null,0,{"$f":"IF(WEEKDAY(A570)=1,IF(E570=1,VLOOKUP(AE570,Daten!$C$49:$D$102,2),\" \"),\"\")","v":" "},40,0,0,0,""]
[{"$f":"+A570","v":"2021-10-10"},10,"1900-01-01",2,1,null,null,":",null,":",null," "," ","",null,null,0,"",null,null,"",{"$f":"IF(+Radelkal!F570>0,+Radelkal!F570,\"\")","v":""},null,{"$f":"IF(W571<>\"\",SUM($AI$6:AI571)/10,\"\")","v":""},null,{"$f":"IF(Y571>0,+Y571/Daten!$I$18^2,\"\")","v":""},null,null,0,{"$f":"IF(WEEKDAY(A571)=1,IF(E571=1,VLOOKUP(AE571,Daten!$C$49:$D$102,2),\" \"),\"\")","v":0},40,0,0,0,""]
[{"$f":"+A570+1","v":"2021-10-11"},10,"1900-01-02",1,0,null,null,":",null,":",null," "," ","",null,null,0,"",null,null,"",{"$f":"IF(+Radelkal!F571>0,+Radelkal!F571,\"\")","v":""},null,{"$f":"IF(W572<>\"\",SUM($AI$6:AI572)/10,\"\")","v":""},null,{"$f":"IF(Y572>0,+Y572/Daten!$I$18^2,\"\")","v":""},null,null,0,{"$f":"IF(WEEKDAY(A572)=1,IF(E572=1,VLOOKUP(AE572,Daten!$C$49:$D$102,2),\" \"),\"\")","v":""},41,0,0,0,""]
[{"$f":"+A572","v":"2021-10-11"},10,"1900-01-02",2,2,null,null,":",null,":",null," "," ","",null,null,0,"",null,null,"",{"$f":"IF(+Radelkal!F572>0,+Radelkal!F572,\"\")","v":""},null,{"$f":"IF(W573<>\"\",SUM($AI$6:AI573)/10,\"\")","v":""},null,{"$f":"IF(Y573>0,+Y573/Daten!$I$18^2,\"\")","v":""},null,null,0,{"$f":"IF(WEEKDAY(A573)=1,IF(E573=1,VLOOKUP(AE573,Daten!$C$49:$D$102,2),\" \"),\"\")","v":""},41,0,0,0,""]
[{"$f":"+A572+1","v":"2021-10-12"},10,"1900-01-03",1,0,null,null,":",null,":",null," "," ","",null,null,0,"",null,null,"",{"$f":"IF(+Radelkal!F573>0,+Radelkal!F573,\"\")","v":""},null,{"$f":"IF(W574<>\"\",SUM($AI$6:AI574)/10,\"\")","v":""},null,{"$f":"IF(Y574>0,+Y574/Daten!$I$18^2,\"\")","v":""},null,null,0,{"$f":"IF(WEEKDAY(A574)=1,IF(E574=1,VLOOKUP(AE574,Daten!$C$49:$D$102,2),\" \"),\"\")","v":""},41,0,0,0,""]
[{"$f":"+A574","v":"2021-10-12"},10,"1900-01-03",2,2,null,null,":",null,":",null," "," ","",null,null,0,"",null,null,"",{"$f":"IF(+Radelkal!F574>0,+Radelkal!F574,\"\")","v":""},null,{"$f":"IF(W575<>\"\",SUM($AI$6:AI575)/10,\"\")","v":""},null,{"$f":"IF(Y575>0,+Y575/Daten!$I$18^2,\"\")","v":""},null,null,0,{"$f":"IF(WEEKDAY(A575)=1,IF(E575=1,VLOOKUP(AE575,Daten!$C$49:$D$102,2),\" \"),\"\")","v":""},41,0,0,0,""]
[{"$f":"+A574+1","v":"2021-10-13"},10,"1900-01-04",1,0,null,null,":",null,":",null," "," ","",null,null,0,"",null,null,"",{"$f":"IF(+Radelkal!F575>0,+Radelkal!F575,\"\")","v":""},null,{"$f":"IF(W576<>\"\",SUM($AI$6:AI576)/10,\"\")","v":""},null,{"$f":"IF(Y576>0,+Y576/Daten!$I$18^2,\"\")","v":""},null,null,0,{"$f":"IF(WEEKDAY(A576)=1,IF(E576=1,VLOOKUP(AE576,Daten!$C$49:$D$102,2),\" \"),\"\")","v":""},41,0,0,0,""]
[{"$f":"+A576","v":"2021-10-13"},10,"1900-01-04",2,2,null,null,":",null,":",null," "," ","",null,null,0,"",null,null,"",{"$f":"IF(+Radelkal!F576>0,+Radelkal!F576,\"\")","v":""},null,{"$f":"IF(W577<>\"\",SUM($AI$6:AI577)/10,\"\")","v":""},null,{"$f":"IF(Y577>0,+Y577/Daten!$I$18^2,\"\")","v":""},null,null,0,{"$f":"IF(WEEKDAY(A577)=1,IF(E577=1,VLOOKUP(AE577,Daten!$C$49:$D$102,2),\" \"),\"\")","v":""},41,0,0,0,""]
[{"$f":"+A576+1","v":"2021-10-14"},10,"1900-01-05",1,0,null,null,":",null,":",null," "," ","",null,null,0,"",null,null,"",{"$f":"IF(+Radelkal!F577>0,+Radelkal!F577,\"\")","v":""},null,{"$f":"IF(W578<>\"\",SUM($AI$6:AI578)/10,\"\")","v":""},null,{"$f":"IF(Y578>0,+Y578/Daten!$I$18^2,\"\")","v":""},null,null,0,{"$f":"IF(WEEKDAY(A578)=1,IF(E578=1,VLOOKUP(AE578,Daten!$C$49:$D$102,2),\" \"),\"\")","v":""},41,0,0,0,""]
[{"$f":"+A578","v":"2021-10-14"},10,"1900-01-05",2,2,null,null,":",null,":",null," "," ","",null,null,0,"",null,null,"",{"$f":"IF(+Radelkal!F578>0,+Radelkal!F578,\"\")","v":""},null,{"$f":"IF(W579<>\"\",SUM($AI$6:AI579)/10,\"\")","v":""},null,{"$f":"IF(Y579>0,+Y579/Daten!$I$18^2,\"\")","v":""},null,null,0,{"$f":"IF(WEEKDAY(A579)=1,IF(E579=1,VLOOKUP(AE579,Daten!$C$49:$D$102,2),\" \"),\"\")","v":""},41,0,0,0,""]
[{"$f":"+A578+1","v":"2021-10-15"},10,"1900-01-06",1,0,null,null,":",null,":",null," "," ","",null,null,0,"",null,null,"",{"$f":"IF(+Radelkal!F579>0,+Radelkal!F579,\"\")","v":""},null,{"$f":"IF(W580<>\"\",SUM($AI$6:AI580)/10,\"\")","v":""},null,{"$f":"IF(Y580>0,+Y580/Daten!$I$18^2,\"\")","v":""},null,null,0,{"$f":"IF(WEEKDAY(A580)=1,IF(E580=1,VLOOKUP(AE580,Daten!$C$49:$D$102,2),\" \"),\"\")","v":""},41,0,0,0,""]
[{"$f":"+A580","v":"2021-10-15"},10,"1900-01-06",2,2,null,null,":",null,":",null," "," ","",null,null,0,"",null,null,{"$f":"IF(COUNTBLANK(T581)=1,\"\",IF(T581=\"10\",\"0\",10-T581))","v":""},{"$f":"IF(+Radelkal!F580>0,+Radelkal!F580,\"\")","v":""},null,{"$f":"IF(W581<>\"\",SUM($AI$6:AI581)/10,\"\")","v":""},null,{"$f":"IF(Y581>0,+Y581/Daten!$I$18^2,\"\")","v":""},null,null,0,{"$f":"IF(WEEKDAY(A581)=1,IF(E581=1,VLOOKUP(AE581,Daten!$C$49:$D$102,2),\" \"),\"\")","v":""},41,0,0,0,""]
[{"$f":"+A580+1","v":"2021-10-16"},10,"1900-01-07",1,0,null,null,":",null,":",null," "," ","",null,null,{"$f":"IF(maxhf<100,0,IF(ISBLANK(P582)=\"WAHR\",P582,P582/maxhf)*100)","v":0},{"$f":"IF(F582>0,IF(P582>0,+F582*(F582*1000/(G582*60+I582+K582/60))/(maxhf-P582)*(maxhf/220),\"\"),\"\")","v":""},null,null,"",{"$f":"IF(+Radelkal!F581>0,+Radelkal!F581,\"\")","v":""},null,{"$f":"IF(W582<>\"\",SUM($AI$6:AI582)/10,\"\")","v":""},null,{"$f":"IF(Y582>0,+Y582/Daten!$I$18^2,\"\")","v":""},null,null,0,{"$f":"IF(WEEKDAY(A582)=1,IF(E582=1,VLOOKUP(AE582,Daten!$C$49:$D$102,2),\" \"),\"\")","v":""},41,0,0,0,""]
[{"$f":"+A582","v":"2021-10-16"},{"$f":"MONTH(A583)","v":10},{"$f":"WEEKDAY(A583)","v":"1900-01-07"},2,{"$f":"IF(D583=2,IF(C583=1,1,2),0)","v":2},null,null,":",null,":",null,{"$f":"IF((+G583*60+I583+K583/60)>0,G583*60+I583+K583/60,\" \")","v":" "},{"$f":"IF(+F583>0,+L583/F583/24/60,\" \")","v":" "},{"$f":"IF(F583>0,+F583/(L583/60),\"\")","v":""},null,null,0,"",null,null,"",{"$f":"IF(+Radelkal!F582>0,+Radelkal!F582,\"\")","v":""},null,{"$f":"IF(W583<>\"\",SUM($AI$6:AI583)/10,\"\")","v":""},null,{"$f":"IF(Y583>0,+Y583/Daten!$I$18^2,\"\")","v":""},null,null,0,{"$f":"IF(WEEKDAY(A583)=1,IF(E583=1,VLOOKUP(AE583,Daten!$C$49:$D$102,2),\" \"),\"\")","v":""},41,{"$f":"IF(F583>0,IF(D583=2,IF((AB582+AB583)>0,1,0),0),0)","v":0},{"$f":"+T583/10*F583","v":0},{"$f":"IF(COUNTBLANK(T583)=1,0,+U583/10*F583)","v":0},{"$f":"IF(W583<>\"\",10,\"\")","v":""}]
[{"$f":"+A582+1","v":"2021-10-17"},10,"1900-01-01",1,0,null,null,":",null,":",null," "," ","",null,null,0,"",null,null,"",{"$f":"IF(+Radelkal!F583>0,+Radelkal!F583,\"\")","v":""},null,{"$f":"IF(W584<>\"\",SUM($AI$6:AI584)/10,\"\")","v":""},null,{"$f":"IF(Y584>0,+Y584/Daten!$I$18^2,\"\")","v":""},null,null,{"$f":"IF(D584=2,+F584+F583,0)","v":0},{"$f":"IF(WEEKDAY(A584)=1,IF(E584=1,VLOOKUP(AE584,Daten!$C$49:$D$102,2),\" \"),\"\")","v":" "},{"$f":"IF(WEEKDAY(A584)=2,IF(D584=1,AE583+1,AE583),AE583)","v":41},0,0,0,""]
[{"$f":"+A584","v":"2021-10-17"},10,"1900-01-01",2,1,null,null,":",null,":",null," "," ","",null,null,0,"",null,null,"",{"$f":"IF(+Radelkal!F584>0,+Radelkal!F584,\"\")","v":""},null,{"$f":"IF(W585<>\"\",SUM($AI$6:AI585)/10,\"\")","v":""},null,{"$f":"IF(Y585>0,+Y585/Daten!$I$18^2,\"\")","v":""},null,null,0,{"$f":"IF(WEEKDAY(A585)=1,IF(E585=1,VLOOKUP(AE585,Daten!$C$49:$D$102,2),\" \"),\"\")","v":0},41,0,0,0,""]
[{"$f":"+A584+1","v":"2021-10-18"},10,"1900-01-02",1,0,null,null,":",null,":",null," "," ","",null,null,0,"",null,null,"",{"$f":"IF(+Radelkal!F585>0,+Radelkal!F585,\"\")","v":""},null,{"$f":"IF(W586<>\"\",SUM($AI$6:AI586)/10,\"\")","v":""},null,{"$f":"IF(Y586>0,+Y586/Daten!$I$18^2,\"\")","v":""},null,null,0,{"$f":"IF(WEEKDAY(A586)=1,IF(E586=1,VLOOKUP(AE586,Daten!$C$49:$D$102,2),\" \"),\"\")","v":""},42,0,0,0,""]
[{"$f":"+A586","v":"2021-10-18"},10,"1900-01-02",2,2,null,null,":",null,":",null," "," ","",null,null,0,"",null,null,"",{"$f":"IF(+Radelkal!F586>0,+Radelkal!F586,\"\")","v":""},null,{"$f":"IF(W587<>\"\",SUM($AI$6:AI587)/10,\"\")","v":""},null,{"$f":"IF(Y587>0,+Y587/Daten!$I$18^2,\"\")","v":""},null,null,0,{"$f":"IF(WEEKDAY(A587)=1,IF(E587=1,VLOOKUP(AE587,Daten!$C$49:$D$102,2),\" \"),\"\")","v":""},42,0,0,0,""]
[{"$f":"+A586+1","v":"2021-10-19"},10,"1900-01-03",1,0,null,null,":",null,":",null," "," ","",null,null,0,"",null,null,"",{"$f":"IF(+Radelkal!F587>0,+Radelkal!F587,\"\")","v":""},null,{"$f":"IF(W588<>\"\",SUM($AI$6:AI588)/10,\"\")","v":""},null,{"$f":"IF(Y588>0,+Y588/Daten!$I$18^2,\"\")","v":""},null,null,0,{"$f":"IF(WEEKDAY(A588)=1,IF(E588=1,VLOOKUP(AE588,Daten!$C$49:$D$102,2),\" \"),\"\")","v":""},42,0,0,0,""]
[{"$f":"+A588","v":"2021-10-19"},10,"1900-01-03",2,2,null,null,":",null,":",null," "," ","",null,null,0,"",null,null,"",{"$f":"IF(+Radelkal!F588>0,+Radelkal!F588,\"\")","v":""},null,{"$f":"IF(W589<>\"\",SUM($AI$6:AI589)/10,\"\")","v":""},null,{"$f":"IF(Y589>0,+Y589/Daten!$I$18^2,\"\")","v":""},null,null,0,{"$f":"IF(WEEKDAY(A589)=1,IF(E589=1,VLOOKUP(AE589,Daten!$C$49:$D$102,2),\" \"),\"\")","v":""},42,0,0,0,""]
[{"$f":"+A588+1","v":"2021-10-20"},10,"1900-01-04",1,0,null,null,":",null,":",null," "," ","",null,null,0,"",null,null,"",{"$f":"IF(+Radelkal!F589>0,+Radelkal!F589,\"\")","v":""},null,{"$f":"IF(W590<>\"\",SUM($AI$6:AI590)/10,\"\")","v":""},null,{"$f":"IF(Y590>0,+Y590/Daten!$I$18^2,\"\")","v":""},null,null,0,{"$f":"IF(WEEKDAY(A590)=1,IF(E590=1,VLOOKUP(AE590,Daten!$C$49:$D$102,2),\" \"),\"\")","v":""},42,0,0,0,""]
[{"$f":"+A590","v":"2021-10-20"},10,"1900-01-04",2,2,null,null,":",null,":",null," "," ","",null,null,0,"",null,null,"",{"$f":"IF(+Radelkal!F590>0,+Radelkal!F590,\"\")","v":""},null,{"$f":"IF(W591<>\"\",SUM($AI$6:AI591)/10,\"\")","v":""},null,{"$f":"IF(Y591>0,+Y591/Daten!$I$18^2,\"\")","v":""},null,null,0,{"$f":"IF(WEEKDAY(A591)=1,IF(E591=1,VLOOKUP(AE591,Daten!$C$49:$D$102,2),\" \"),\"\")","v":""},42,0,0,0,""]
[{"$f":"+A590+1","v":"2021-10-21"},10,"1900-01-05",1,0,null,null,":",null,":",null," "," ","",null,null,0,"",null,null,"",{"$f":"IF(+Radelkal!F591>0,+Radelkal!F591,\"\")","v":""},null,{"$f":"IF(W592<>\"\",SUM($AI$6:AI592)/10,\"\")","v":""},null,{"$f":"IF(Y592>0,+Y592/Daten!$I$18^2,\"\")","v":""},null,null,0,{"$f":"IF(WEEKDAY(A592)=1,IF(E592=1,VLOOKUP(AE592,Daten!$C$49:$D$102,2),\" \"),\"\")","v":""},42,0,0,0,""]
[{"$f":"+A592","v":"2021-10-21"},10,"1900-01-05",2,2,null,null,":",null,":",null," "," ","",null,null,0,"",null,null,"",{"$f":"IF(+Radelkal!F592>0,+Radelkal!F592,\"\")","v":""},null,{"$f":"IF(W593<>\"\",SUM($AI$6:AI593)/10,\"\")","v":""},null,{"$f":"IF(Y593>0,+Y593/Daten!$I$18^2,\"\")","v":""},null,null,0,{"$f":"IF(WEEKDAY(A593)=1,IF(E593=1,VLOOKUP(AE593,Daten!$C$49:$D$102,2),\" \"),\"\")","v":""},42,0,0,0,""]
[{"$f":"+A592+1","v":"2021-10-22"},10,"1900-01-06",1,0,null,null,":",null,":",null," "," ","",null,null,0,"",null,null,"",{"$f":"IF(+Radelkal!F593>0,+Radelkal!F593,\"\")","v":""},null,{"$f":"IF(W594<>\"\",SUM($AI$6:AI594)/10,\"\")","v":""},null,{"$f":"IF(Y594>0,+Y594/Daten!$I$18^2,\"\")","v":""},null,null,0,{"$f":"IF(WEEKDAY(A594)=1,IF(E594=1,VLOOKUP(AE594,Daten!$C$49:$D$102,2),\" \"),\"\")","v":""},42,0,0,0,""]
[{"$f":"+A594","v":"2021-10-22"},10,"1900-01-06",2,2,null,null,":",null,":",null," "," ","",null,null,0,"",null,null,"",{"$f":"IF(+Radelkal!F594>0,+Radelkal!F594,\"\")","v":""},null,{"$f":"IF(W595<>\"\",SUM($AI$6:AI595)/10,\"\")","v":""},null,{"$f":"IF(Y595>0,+Y595/Daten!$I$18^2,\"\")","v":""},null,null,0,{"$f":"IF(WEEKDAY(A595)=1,IF(E595=1,VLOOKUP(AE595,Daten!$C$49:$D$102,2),\" \"),\"\")","v":""},42,0,0,0,""]
[{"$f":"+A594+1","v":"2021-10-23"},10,"1900-01-07",1,0,null,null,":",null,":",null," "," ","",null,null,0,"",null,null,"",{"$f":"IF(+Radelkal!F595>0,+Radelkal!F595,\"\")","v":""},null,{"$f":"IF(W596<>\"\",SUM($AI$6:AI596)/10,\"\")","v":""},null,{"$f":"IF(Y596>0,+Y596/Daten!$I$18^2,\"\")","v":""},null,null,0,{"$f":"IF(WEEKDAY(A596)=1,IF(E596=1,VLOOKUP(AE596,Daten!$C$49:$D$102,2),\" \"),\"\")","v":""},42,0,0,0,""]
[{"$f":"+A596","v":"2021-10-23"},10,"1900-01-07",2,2,null,null,":",null,":",null," "," ","",null,null,0,"",null,null,"",{"$f":"IF(+Radelkal!F596>0,+Radelkal!F596,\"\")","v":""},null,{"$f":"IF(W597<>\"\",SUM($AI$6:AI597)/10,\"\")","v":""},null,{"$f":"IF(Y597>0,+Y597/Daten!$I$18^2,\"\")","v":""},null,null,0,{"$f":"IF(WEEKDAY(A597)=1,IF(E597=1,VLOOKUP(AE597,Daten!$C$49:$D$102,2),\" \"),\"\")","v":""},42,0,0,0,""]
[{"$f":"+A596+1","v":"2021-10-24"},10,"1900-01-01",1,0,null,null,":",null,":",null," "," ","",null,null,0,"",null,null,"",{"$f":"IF(+Radelkal!F597>0,+Radelkal!F597,\"\")","v":""},null,{"$f":"IF(W598<>\"\",SUM($AI$6:AI598)/10,\"\")","v":""},null,{"$f":"IF(Y598>0,+Y598/Daten!$I$18^2,\"\")","v":""},null,null,0,{"$f":"IF(WEEKDAY(A598)=1,IF(E598=1,VLOOKUP(AE598,Daten!$C$49:$D$102,2),\" \"),\"\")","v":" "},42,0,0,0,""]
[{"$f":"+A598","v":"2021-10-24"},10,"1900-01-01",2,1,null,null,":",null,":",null," "," ","",null,null,0,"",null,null,"",{"$f":"IF(+Radelkal!F598>0,+Radelkal!F598,\"\")","v":""},null,{"$f":"IF(W599<>\"\",SUM($AI$6:AI599)/10,\"\")","v":""},null,{"$f":"IF(Y599>0,+Y599/Daten!$I$18^2,\"\")","v":""},null,null,0,{"$f":"IF(WEEKDAY(A599)=1,IF(E599=1,VLOOKUP(AE599,Daten!$C$49:$D$102,2),\" \"),\"\")","v":0},42,0,0,0,""]
[{"$f":"+A598+1","v":"2021-10-25"},10,"1900-01-02",1,0,null,null,":",null,":",null," "," ","",null,null,0,"",null,null,"",{"$f":"IF(+Radelkal!F599>0,+Radelkal!F599,\"\")","v":""},null,{"$f":"IF(W600<>\"\",SUM($AI$6:AI600)/10,\"\")","v":""},null,{"$f":"IF(Y600>0,+Y600/Daten!$I$18^2,\"\")","v":""},null,null,0,{"$f":"IF(WEEKDAY(A600)=1,IF(E600=1,VLOOKUP(AE600,Daten!$C$49:$D$102,2),\" \"),\"\")","v":""},43,0,0,0,""]
[{"$f":"+A600","v":"2021-10-25"},10,"1900-01-02",2,2,null,null,":",null,":",null," "," ","",null,null,0,"",null,null,"",{"$f":"IF(+Radelkal!F600>0,+Radelkal!F600,\"\")","v":""},null,{"$f":"IF(W601<>\"\",SUM($AI$6:AI601)/10,\"\")","v":""},null,{"$f":"IF(Y601>0,+Y601/Daten!$I$18^2,\"\")","v":""},null,null,0,{"$f":"IF(WEEKDAY(A601)=1,IF(E601=1,VLOOKUP(AE601,Daten!$C$49:$D$102,2),\" \"),\"\")","v":""},43,0,0,0,""]
[{"$f":"+A600+1","v":"2021-10-26"},10,"1900-01-03",1,0,null,null,":",null,":",null," "," ","",null,null,0,"",null,null,"",{"$f":"IF(+Radelkal!F601>0,+Radelkal!F601,\"\")","v":""},null,{"$f":"IF(W602<>\"\",SUM($AI$6:AI602)/10,\"\")","v":""},null,{"$f":"IF(Y602>0,+Y602/Daten!$I$18^2,\"\")","v":""},null,null,0,{"$f":"IF(WEEKDAY(A602)=1,IF(E602=1,VLOOKUP(AE602,Daten!$C$49:$D$102,2),\" \"),\"\")","v":""},43,0,0,0,""]
[{"$f":"+A602","v":"2021-10-26"},10,"1900-01-03",2,2,null,null,":",null,":",null," "," ","",null,null,0,"",null,null,"",{"$f":"IF(+Radelkal!F602>0,+Radelkal!F602,\"\")","v":""},null,{"$f":"IF(W603<>\"\",SUM($AI$6:AI603)/10,\"\")","v":""},null,{"$f":"IF(Y603>0,+Y603/Daten!$I$18^2,\"\")","v":""},null,null,0,{"$f":"IF(WEEKDAY(A603)=1,IF(E603=1,VLOOKUP(AE603,Daten!$C$49:$D$102,2),\" \"),\"\")","v":""},43,0,0,0,""]
[{"$f":"+A602+1","v":"2021-10-27"},10,"1900-01-04",1,0,null,null,":",null,":",null," "," ","",null,null,0,"",null,null,"",{"$f":"IF(+Radelkal!F603>0,+Radelkal!F603,\"\")","v":""},null,{"$f":"IF(W604<>\"\",SUM($AI$6:AI604)/10,\"\")","v":""},null,{"$f":"IF(Y604>0,+Y604/Daten!$I$18^2,\"\")","v":""},null,null,0,{"$f":"IF(WEEKDAY(A604)=1,IF(E604=1,VLOOKUP(AE604,Daten!$C$49:$D$102,2),\" \"),\"\")","v":""},43,0,0,0,""]
[{"$f":"+A604","v":"2021-10-27"},10,"1900-01-04",2,2,null,null,":",null,":",null," "," ","",null,null,0,"",null,null,"",{"$f":"IF(+Radelkal!F604>0,+Radelkal!F604,\"\")","v":""},null,{"$f":"IF(W605<>\"\",SUM($AI$6:AI605)/10,\"\")","v":""},null,{"$f":"IF(Y605>0,+Y605/Daten!$I$18^2,\"\")","v":""},null,null,0,{"$f":"IF(WEEKDAY(A605)=1,IF(E605=1,VLOOKUP(AE605,Daten!$C$49:$D$102,2),\" \"),\"\")","v":""},43,0,0,0,""]
[{"$f":"+A604+1","v":"2021-10-28"},10,"1900-01-05",1,0,null,null,":",null,":",null," "," ","",null,null,0,"",null,null,"",{"$f":"IF(+Radelkal!F605>0,+Radelkal!F605,\"\")","v":""},null,{"$f":"IF(W606<>\"\",SUM($AI$6:AI606)/10,\"\")","v":""},null,{"$f":"IF(Y606>0,+Y606/Daten!$I$18^2,\"\")","v":""},null,null,0,{"$f":"IF(WEEKDAY(A606)=1,IF(E606=1,VLOOKUP(AE606,Daten!$C$49:$D$102,2),\" \"),\"\")","v":""},43,0,0,0,""]
[{"$f":"+A606","v":"2021-10-28"},10,"1900-01-05",2,2,null,null,":",null,":",null," "," ","",null,null,0,"",null,null,"",{"$f":"IF(+Radelkal!F606>0,+Radelkal!F606,\"\")","v":""},null,{"$f":"IF(W607<>\"\",SUM($AI$6:AI607)/10,\"\")","v":""},null,{"$f":"IF(Y607>0,+Y607/Daten!$I$18^2,\"\")","v":""},null,null,0,{"$f":"IF(WEEKDAY(A607)=1,IF(E607=1,VLOOKUP(AE607,Daten!$C$49:$D$102,2),\" \"),\"\")","v":""},43,0,0,0,""]
[{"$f":"+A606+1","v":"2021-10-29"},10,"1900-01-06",1,0,null,null,":",null,":",null," "," ","",null,null,0,"",null,null,"",{"$f":"IF(+Radelkal!F607>0,+Radelkal!F607,\"\")","v":""},null,{"$f":"IF(W608<>\"\",SUM($AI$6:AI608)/10,\"\")","v":""},null,{"$f":"IF(Y608>0,+Y608/Daten!$I$18^2,\"\")","v":""},null,null,0,{"$f":"IF(WEEKDAY(A608)=1,IF(E608=1,VLOOKUP(AE608,Daten!$C$49:$D$102,2),\" \"),\"\")","v":""},43,0,0,0,""]
[{"$f":"+A608","v":"2021-10-29"},10,"1900-01-06",2,2,null,null,":",null,":",null," "," ","",null,null,0,"",null,null,"",{"$f":"IF(+Radelkal!F608>0,+Radelkal!F608,\"\")","v":""},null,{"$f":"IF(W609<>\"\",SUM($AI$6:AI609)/10,\"\")","v":""},null,{"$f":"IF(Y609>0,+Y609/Daten!$I$18^2,\"\")","v":""},null,null,0,{"$f":"IF(WEEKDAY(A609)=1,IF(E609=1,VLOOKUP(AE609,Daten!$C$49:$D$102,2),\" \"),\"\")","v":""},43,0,0,0,""]
[{"$f":"+A608+1","v":"2021-10-30"},10,"1900-01-07",1,0,null,null,":",null,":",null," "," ","",null,null,0,"",null,null,"",{"$f":"IF(+Radelkal!F609>0,+Radelkal!F609,\"\")","v":""},null,{"$f":"IF(W610<>\"\",SUM($AI$6:AI610)/10,\"\")","v":""},null,{"$f":"IF(Y610>0,+Y610/Daten!$I$18^2,\"\")","v":""},null,null,0,{"$f":"IF(WEEKDAY(A610)=1,IF(E610=1,VLOOKUP(AE610,Daten!$C$49:$D$102,2),\" \"),\"\")","v":""},43,0,0,0,""]
[{"$f":"+A610","v":"2021-10-30"},10,"1900-01-07",2,2,null,null,":",null,":",null," "," ","",null,null,0,"",null,null,"",{"$f":"IF(+Radelkal!F610>0,+Radelkal!F610,\"\")","v":""},null,{"$f":"IF(W611<>\"\",SUM($AI$6:AI611)/10,\"\")","v":""},null,{"$f":"IF(Y611>0,+Y611/Daten!$I$18^2,\"\")","v":""},null,null,0,{"$f":"IF(WEEKDAY(A611)=1,IF(E611=1,VLOOKUP(AE611,Daten!$C$49:$D$102,2),\" \"),\"\")","v":""},43,0,0,0,""]
[{"$f":"+A610+1","v":"2021-10-31"},10,"1900-01-01",1,0,null,null,":",null,":",null," "," ","",null,null,0,"",null,null,"",{"$f":"IF(+Radelkal!F611>0,+Radelkal!F611,\"\")","v":""},null,{"$f":"IF(W612<>\"\",SUM($AI$6:AI612)/10,\"\")","v":""},null,{"$f":"IF(Y612>0,+Y612/Daten!$I$18^2,\"\")","v":""},null,null,0,{"$f":"IF(WEEKDAY(A612)=1,IF(E612=1,VLOOKUP(AE612,Daten!$C$49:$D$102,2),\" \"),\"\")","v":" "},43,0,0,0,""]
[{"$f":"+A612","v":"2021-10-31"},10,"1900-01-01",2,1,null,null,":",null,":",null," "," ","",null,null,0,"",null,null,"",{"$f":"IF(+Radelkal!F612>0,+Radelkal!F612,\"\")","v":""},null,{"$f":"IF(W613<>\"\",SUM($AI$6:AI613)/10,\"\")","v":""},null,{"$f":"IF(Y613>0,+Y613/Daten!$I$18^2,\"\")","v":""},null,null,0,{"$f":"IF(WEEKDAY(A613)=1,IF(E613=1,VLOOKUP(AE613,Daten!$C$49:$D$102,2),\" \"),\"\")","v":0},43,0,0,0,""]
[{"$f":"+A612+1","v":"2021-11-01"},11,"1900-01-02",1,0,null,null,":",null,":",null," "," ","",null,null,0,"",null,null,"",{"$f":"IF(+Radelkal!F613>0,+Radelkal!F613,\"\")","v":""},null,{"$f":"IF(W614<>\"\",SUM($AI$6:AI614)/10,\"\")","v":""},null,{"$f":"IF(Y614>0,+Y614/Daten!$I$18^2,\"\")","v":""},null,null,0,{"$f":"IF(WEEKDAY(A614)=1,IF(E614=1,VLOOKUP(AE614,Daten!$C$49:$D$102,2),\" \"),\"\")","v":""},44,0,0,0,""]
[{"$f":"+A614","v":"2021-11-01"},11,"1900-01-02",2,2,null,null,":",null,":",null," "," ","",null,null,0,"",null,null,"",{"$f":"IF(+Radelkal!F614>0,+Radelkal!F614,\"\")","v":""},null,{"$f":"IF(W615<>\"\",SUM($AI$6:AI615)/10,\"\")","v":""},null,{"$f":"IF(Y615>0,+Y615/Daten!$I$18^2,\"\")","v":""},null,null,0,{"$f":"IF(WEEKDAY(A615)=1,IF(E615=1,VLOOKUP(AE615,Daten!$C$49:$D$102,2),\" \"),\"\")","v":""},44,0,0,0,""]
[{"$f":"+A614+1","v":"2021-11-02"},11,"1900-01-03",1,0,null,null,":",null,":",null," "," ","",null,null,0,"",null,null,"",{"$f":"IF(+Radelkal!F615>0,+Radelkal!F615,\"\")","v":""},null,{"$f":"IF(W616<>\"\",SUM($AI$6:AI616)/10,\"\")","v":""},null,{"$f":"IF(Y616>0,+Y616/Daten!$I$18^2,\"\")","v":""},null,null,0,{"$f":"IF(WEEKDAY(A616)=1,IF(E616=1,VLOOKUP(AE616,Daten!$C$49:$D$102,2),\" \"),\"\")","v":""},44,0,0,0,""]
[{"$f":"+A616","v":"2021-11-02"},11,"1900-01-03",2,2,null,null,":",null,":",null," "," ","",null,null,0,"",null,null,"",{"$f":"IF(+Radelkal!F616>0,+Radelkal!F616,\"\")","v":""},null,{"$f":"IF(W617<>\"\",SUM($AI$6:AI617)/10,\"\")","v":""},null,{"$f":"IF(Y617>0,+Y617/Daten!$I$18^2,\"\")","v":""},null,null,0,{"$f":"IF(WEEKDAY(A617)=1,IF(E617=1,VLOOKUP(AE617,Daten!$C$49:$D$102,2),\" \"),\"\")","v":""},44,0,0,0,""]
[{"$f":"+A616+1","v":"2021-11-03"},11,"1900-01-04",1,0,null,null,":",null,":",null," "," ","",null,null,0,"",null,null,"",{"$f":"IF(+Radelkal!F617>0,+Radelkal!F617,\"\")","v":""},null,{"$f":"IF(W618<>\"\",SUM($AI$6:AI618)/10,\"\")","v":""},null,{"$f":"IF(Y618>0,+Y618/Daten!$I$18^2,\"\")","v":""},null,null,0,{"$f":"IF(WEEKDAY(A618)=1,IF(E618=1,VLOOKUP(AE618,Daten!$C$49:$D$102,2),\" \"),\"\")","v":""},44,0,0,0,""]
[{"$f":"+A618","v":"2021-11-03"},11,"1900-01-04",2,2,null,null,":",null,":",null," "," ","",null,null,0,"",null,null,"",{"$f":"IF(+Radelkal!F618>0,+Radelkal!F618,\"\")","v":""},null,{"$f":"IF(W619<>\"\",SUM($AI$6:AI619)/10,\"\")","v":""},null,{"$f":"IF(Y619>0,+Y619/Daten!$I$18^2,\"\")","v":""},null,null,0,{"$f":"IF(WEEKDAY(A619)=1,IF(E619=1,VLOOKUP(AE619,Daten!$C$49:$D$102,2),\" \"),\"\")","v":""},44,0,0,0,""]
[{"$f":"+A618+1","v":"2021-11-04"},11,"1900-01-05",1,0,null,null,":",null,":",null," "," ","",null,null,0,"",null,null,"",{"$f":"IF(+Radelkal!F619>0,+Radelkal!F619,\"\")","v":""},null,{"$f":"IF(W620<>\"\",SUM($AI$6:AI620)/10,\"\")","v":""},null,{"$f":"IF(Y620>0,+Y620/Daten!$I$18^2,\"\")","v":""},null,null,0,{"$f":"IF(WEEKDAY(A620)=1,IF(E620=1,VLOOKUP(AE620,Daten!$C$49:$D$102,2),\" \"),\"\")","v":""},44,0,0,0,""]
[{"$f":"+A620","v":"2021-11-04"},11,"1900-01-05",2,2,null,null,":",null,":",null," "," ","",null,null,0,"",null,null,"",{"$f":"IF(+Radelkal!F620>0,+Radelkal!F620,\"\")","v":""},null,{"$f":"IF(W621<>\"\",SUM($AI$6:AI621)/10,\"\")","v":""},null,{"$f":"IF(Y621>0,+Y621/Daten!$I$18^2,\"\")","v":""},null,null,0,{"$f":"IF(WEEKDAY(A621)=1,IF(E621=1,VLOOKUP(AE621,Daten!$C$49:$D$102,2),\" \"),\"\")","v":""},44,0,0,0,""]
[{"$f":"+A620+1","v":"2021-11-05"},11,"1900-01-06",1,0,null,null,":",null,":",null," "," ","",null,null,0,"",null,null,"",{"$f":"IF(+Radelkal!F621>0,+Radelkal!F621,\"\")","v":""},null,{"$f":"IF(W622<>\"\",SUM($AI$6:AI622)/10,\"\")","v":""},null,{"$f":"IF(Y622>0,+Y622/Daten!$I$18^2,\"\")","v":""},null,null,0,{"$f":"IF(WEEKDAY(A622)=1,IF(E622=1,VLOOKUP(AE622,Daten!$C$49:$D$102,2),\" \"),\"\")","v":""},44,0,0,0,""]
[{"$f":"+A622","v":"2021-11-05"},11,"1900-01-06",2,2,null,null,":",null,":",null," "," ","",null,null,0,"",null,null,"",{"$f":"IF(+Radelkal!F622>0,+Radelkal!F622,\"\")","v":""},null,{"$f":"IF(W623<>\"\",SUM($AI$6:AI623)/10,\"\")","v":""},null,{"$f":"IF(Y623>0,+Y623/Daten!$I$18^2,\"\")","v":""},null,null,0,{"$f":"IF(WEEKDAY(A623)=1,IF(E623=1,VLOOKUP(AE623,Daten!$C$49:$D$102,2),\" \"),\"\")","v":""},44,0,0,0,""]
[{"$f":"+A622+1","v":"2021-11-06"},11,"1900-01-07",1,0,null,null,":",null,":",null," "," ","",null,null,0,"",null,null,"",{"$f":"IF(+Radelkal!F623>0,+Radelkal!F623,\"\")","v":""},null,{"$f":"IF(W624<>\"\",SUM($AI$6:AI624)/10,\"\")","v":""},null,{"$f":"IF(Y624>0,+Y624/Daten!$I$18^2,\"\")","v":""},null,null,0,{"$f":"IF(WEEKDAY(A624)=1,IF(E624=1,VLOOKUP(AE624,Daten!$C$49:$D$102,2),\" \"),\"\")","v":""},44,0,0,0,""]
[{"$f":"+A624","v":"2021-11-06"},11,"1900-01-07",2,2,null,null,":",null,":",null," "," ","",null,null,0,"",null,null,"",{"$f":"IF(+Radelkal!F624>0,+Radelkal!F624,\"\")","v":""},null,{"$f":"IF(W625<>\"\",SUM($AI$6:AI625)/10,\"\")","v":""},null,{"$f":"IF(Y625>0,+Y625/Daten!$I$18^2,\"\")","v":""},null,null,0,{"$f":"IF(WEEKDAY(A625)=1,IF(E625=1,VLOOKUP(AE625,Daten!$C$49:$D$102,2),\" \"),\"\")","v":""},44,0,0,0,""]
[{"$f":"+A624+1","v":"2021-11-07"},11,"1900-01-01",1,0,null,null,":",null,":",null," "," ","",null,null,0,"",null,null,"",{"$f":"IF(+Radelkal!F625>0,+Radelkal!F625,\"\")","v":""},null,{"$f":"IF(W626<>\"\",SUM($AI$6:AI626)/10,\"\")","v":""},null,{"$f":"IF(Y626>0,+Y626/Daten!$I$18^2,\"\")","v":""},null,null,0,{"$f":"IF(WEEKDAY(A626)=1,IF(E626=1,VLOOKUP(AE626,Daten!$C$49:$D$102,2),\" \"),\"\")","v":" "},44,0,0,0,""]
[{"$f":"+A626","v":"2021-11-07"},11,"1900-01-01",2,1,null,null,":",null,":",null," "," ","",null,null,0,"",null,null,"",{"$f":"IF(+Radelkal!F626>0,+Radelkal!F626,\"\")","v":""},null,{"$f":"IF(W627<>\"\",SUM($AI$6:AI627)/10,\"\")","v":""},null,{"$f":"IF(Y627>0,+Y627/Daten!$I$18^2,\"\")","v":""},null,null,0,{"$f":"IF(WEEKDAY(A627)=1,IF(E627=1,VLOOKUP(AE627,Daten!$C$49:$D$102,2),\" \"),\"\")","v":0},44,0,0,0,""]
[{"$f":"+A626+1","v":"2021-11-08"},11,"1900-01-02",1,0,null,null,":",null,":",null," "," ","",null,null,0,"",null,null,"",{"$f":"IF(+Radelkal!F627>0,+Radelkal!F627,\"\")","v":""},null,{"$f":"IF(W628<>\"\",SUM($AI$6:AI628)/10,\"\")","v":""},null,{"$f":"IF(Y628>0,+Y628/Daten!$I$18^2,\"\")","v":""},null,null,0,{"$f":"IF(WEEKDAY(A628)=1,IF(E628=1,VLOOKUP(AE628,Daten!$C$49:$D$102,2),\" \"),\"\")","v":""},45,0,0,0,""]
[{"$f":"+A628","v":"2021-11-08"},11,"1900-01-02",2,2,null,null,":",null,":",null," "," ","",null,null,0,"",null,null,"",{"$f":"IF(+Radelkal!F628>0,+Radelkal!F628,\"\")","v":""},null,{"$f":"IF(W629<>\"\",SUM($AI$6:AI629)/10,\"\")","v":""},null,{"$f":"IF(Y629>0,+Y629/Daten!$I$18^2,\"\")","v":""},null,null,0,{"$f":"IF(WEEKDAY(A629)=1,IF(E629=1,VLOOKUP(AE629,Daten!$C$49:$D$102,2),\" \"),\"\")","v":""},45,0,0,0,""]
[{"$f":"+A628+1","v":"2021-11-09"},11,"1900-01-03",1,0,null,null,":",null,":",null," "," ","",null,null,0,"",null,null,"",{"$f":"IF(+Radelkal!F629>0,+Radelkal!F629,\"\")","v":""},null,{"$f":"IF(W630<>\"\",SUM($AI$6:AI630)/10,\"\")","v":""},null,{"$f":"IF(Y630>0,+Y630/Daten!$I$18^2,\"\")","v":""},null,null,0,{"$f":"IF(WEEKDAY(A630)=1,IF(E630=1,VLOOKUP(AE630,Daten!$C$49:$D$102,2),\" \"),\"\")","v":""},45,0,0,0,""]
[{"$f":"+A630","v":"2021-11-09"},11,"1900-01-03",2,2,null,null,":",null,":",null," "," ","",null,null,0,"",null,null,"",{"$f":"IF(+Radelkal!F630>0,+Radelkal!F630,\"\")","v":""},null,{"$f":"IF(W631<>\"\",SUM($AI$6:AI631)/10,\"\")","v":""},null,{"$f":"IF(Y631>0,+Y631/Daten!$I$18^2,\"\")","v":""},null,null,0,{"$f":"IF(WEEKDAY(A631)=1,IF(E631=1,VLOOKUP(AE631,Daten!$C$49:$D$102,2),\" \"),\"\")","v":""},45,0,0,0,""]
[{"$f":"+A630+1","v":"2021-11-10"},11,"1900-01-04",1,0,null,null,":",null,":",null," "," ","",null,null,0,"",null,null,"",{"$f":"IF(+Radelkal!F631>0,+Radelkal!F631,\"\")","v":""},null,{"$f":"IF(W632<>\"\",SUM($AI$6:AI632)/10,\"\")","v":""},null,{"$f":"IF(Y632>0,+Y632/Daten!$I$18^2,\"\")","v":""},null,null,0,{"$f":"IF(WEEKDAY(A632)=1,IF(E632=1,VLOOKUP(AE632,Daten!$C$49:$D$102,2),\" \"),\"\")","v":""},45,0,0,0,""]
[{"$f":"+A632","v":"2021-11-10"},11,"1900-01-04",2,2,null,null,":",null,":",null," "," ","",null,null,0,"",null,null,"",{"$f":"IF(+Radelkal!F632>0,+Radelkal!F632,\"\")","v":""},null,{"$f":"IF(W633<>\"\",SUM($AI$6:AI633)/10,\"\")","v":""},null,{"$f":"IF(Y633>0,+Y633/Daten!$I$18^2,\"\")","v":""},null,null,0,{"$f":"IF(WEEKDAY(A633)=1,IF(E633=1,VLOOKUP(AE633,Daten!$C$49:$D$102,2),\" \"),\"\")","v":""},45,0,0,0,""]
[{"$f":"+A632+1","v":"2021-11-11"},11,"1900-01-05",1,0,null,null,":",null,":",null," "," ","",null,null,0,"",null,null,"",{"$f":"IF(+Radelkal!F633>0,+Radelkal!F633,\"\")","v":""},null,{"$f":"IF(W634<>\"\",SUM($AI$6:AI634)/10,\"\")","v":""},null,{"$f":"IF(Y634>0,+Y634/Daten!$I$18^2,\"\")","v":""},null,null,0,{"$f":"IF(WEEKDAY(A634)=1,IF(E634=1,VLOOKUP(AE634,Daten!$C$49:$D$102,2),\" \"),\"\")","v":""},45,0,0,0,""]
[{"$f":"+A634","v":"2021-11-11"},11,"1900-01-05",2,2,null,null,":",null,":",null," "," ","",null,null,0,"",null,null,"",{"$f":"IF(+Radelkal!F634>0,+Radelkal!F634,\"\")","v":""},null,{"$f":"IF(W635<>\"\",SUM($AI$6:AI635)/10,\"\")","v":""},null,{"$f":"IF(Y635>0,+Y635/Daten!$I$18^2,\"\")","v":""},null,null,0,{"$f":"IF(WEEKDAY(A635)=1,IF(E635=1,VLOOKUP(AE635,Daten!$C$49:$D$102,2),\" \"),\"\")","v":""},45,0,0,0,""]
[{"$f":"+A634+1","v":"2021-11-12"},11,"1900-01-06",1,0,null,null,":",null,":",null," "," ","",null,null,0,"",null,null,"",{"$f":"IF(+Radelkal!F635>0,+Radelkal!F635,\"\")","v":""},null,{"$f":"IF(W636<>\"\",SUM($AI$6:AI636)/10,\"\")","v":""},null,{"$f":"IF(Y636>0,+Y636/Daten!$I$18^2,\"\")","v":""},null,null,0,{"$f":"IF(WEEKDAY(A636)=1,IF(E636=1,VLOOKUP(AE636,Daten!$C$49:$D$102,2),\" \"),\"\")","v":""},45,0,0,0,""]
[{"$f":"+A636","v":"2021-11-12"},11,"1900-01-06",2,2,null,null,":",null,":",null," "," ","",null,null,0,"",null,null,"",{"$f":"IF(+Radelkal!F636>0,+Radelkal!F636,\"\")","v":""},null,{"$f":"IF(W637<>\"\",SUM($AI$6:AI637)/10,\"\")","v":""},null,{"$f":"IF(Y637>0,+Y637/Daten!$I$18^2,\"\")","v":""},null,null,0,{"$f":"IF(WEEKDAY(A637)=1,IF(E637=1,VLOOKUP(AE637,Daten!$C$49:$D$102,2),\" \"),\"\")","v":""},45,0,0,0,""]
[{"$f":"+A636+1","v":"2021-11-13"},11,"1900-01-07",1,0,null,null,":",null,":",null," "," ","",null,null,0,"",null,null,"",{"$f":"IF(+Radelkal!F637>0,+Radelkal!F637,\"\")","v":""},null,{"$f":"IF(W638<>\"\",SUM($AI$6:AI638)/10,\"\")","v":""},null,{"$f":"IF(Y638>0,+Y638/Daten!$I$18^2,\"\")","v":""},null,null,0,{"$f":"IF(WEEKDAY(A638)=1,IF(E638=1,VLOOKUP(AE638,Daten!$C$49:$D$102,2),\" \"),\"\")","v":""},45,0,0,0,""]
[{"$f":"+A638","v":"2021-11-13"},11,"1900-01-07",2,2,null,null,":",null,":",null," "," ","",null,null,0,"",null,null,"",{"$f":"IF(+Radelkal!F638>0,+Radelkal!F638,\"\")","v":""},null,{"$f":"IF(W639<>\"\",SUM($AI$6:AI639)/10,\"\")","v":""},null,{"$f":"IF(Y639>0,+Y639/Daten!$I$18^2,\"\")","v":""},null,null,0,{"$f":"IF(WEEKDAY(A639)=1,IF(E639=1,VLOOKUP(AE639,Daten!$C$49:$D$102,2),\" \"),\"\")","v":""},45,0,0,0,""]
[{"$f":"+A638+1","v":"2021-11-14"},11,"1900-01-01",1,0,null,null,":",null,":",null," "," ","",null,null,0,"",null,null,"",{"$f":"IF(+Radelkal!F639>0,+Radelkal!F639,\"\")","v":""},null,{"$f":"IF(W640<>\"\",SUM($AI$6:AI640)/10,\"\")","v":""},null,{"$f":"IF(Y640>0,+Y640/Daten!$I$18^2,\"\")","v":""},null,null,0,{"$f":"IF(WEEKDAY(A640)=1,IF(E640=1,VLOOKUP(AE640,Daten!$C$49:$D$102,2),\" \"),\"\")","v":" "},45,0,0,0,""]
[{"$f":"+A640","v":"2021-11-14"},11,"1900-01-01",2,1,null,null,":",null,":",null," "," ","",null,null,0,"",null,null,"",{"$f":"IF(+Radelkal!F640>0,+Radelkal!F640,\"\")","v":""},null,{"$f":"IF(W641<>\"\",SUM($AI$6:AI641)/10,\"\")","v":""},null,{"$f":"IF(Y641>0,+Y641/Daten!$I$18^2,\"\")","v":""},null,null,0,{"$f":"IF(WEEKDAY(A641)=1,IF(E641=1,VLOOKUP(AE641,Daten!$C$49:$D$102,2),\" \"),\"\")","v":0},45,0,0,0,""]
[{"$f":"+A640+1","v":"2021-11-15"},11,"1900-01-02",1,0,null,null,":",null,":",null," "," ","",null,null,0,"",null,null,"",{"$f":"IF(+Radelkal!F641>0,+Radelkal!F641,\"\")","v":""},null,{"$f":"IF(W642<>\"\",SUM($AI$6:AI642)/10,\"\")","v":""},null,{"$f":"IF(Y642>0,+Y642/Daten!$I$18^2,\"\")","v":""},null,null,0,{"$f":"IF(WEEKDAY(A642)=1,IF(E642=1,VLOOKUP(AE642,Daten!$C$49:$D$102,2),\" \"),\"\")","v":""},46,0,0,0,""]
[{"$f":"+A642","v":"2021-11-15"},11,"1900-01-02",2,2,null,null,":",null,":",null," "," ","",null,null,0,"",null,null,"",{"$f":"IF(+Radelkal!F642>0,+Radelkal!F642,\"\")","v":""},null,{"$f":"IF(W643<>\"\",SUM($AI$6:AI643)/10,\"\")","v":""},null,{"$f":"IF(Y643>0,+Y643/Daten!$I$18^2,\"\")","v":""},null,null,0,{"$f":"IF(WEEKDAY(A643)=1,IF(E643=1,VLOOKUP(AE643,Daten!$C$49:$D$102,2),\" \"),\"\")","v":""},46,0,0,0,""]
[{"$f":"+A642+1","v":"2021-11-16"},11,"1900-01-03",1,0,null,null,":",null,":",null," "," ","",null,null,0,"",null,null,"",{"$f":"IF(+Radelkal!F643>0,+Radelkal!F643,\"\")","v":""},null,{"$f":"IF(W644<>\"\",SUM($AI$6:AI644)/10,\"\")","v":""},null,{"$f":"IF(Y644>0,+Y644/Daten!$I$18^2,\"\")","v":""},null,null,0,{"$f":"IF(WEEKDAY(A644)=1,IF(E644=1,VLOOKUP(AE644,Daten!$C$49:$D$102,2),\" \"),\"\")","v":""},46,0,0,0,""]
[{"$f":"+A644","v":"2021-11-16"},11,"1900-01-03",2,2,null,null,":",null,":",null," "," ","",null,null,0,"",null,null,{"$f":"IF(COUNTBLANK(T645)=1,\"\",IF(T645=\"10\",\"0\",10-T645))","v":""},{"$f":"IF(+Radelkal!F644>0,+Radelkal!F644,\"\")","v":""},null,{"$f":"IF(W645<>\"\",SUM($AI$6:AI645)/10,\"\")","v":""},null,{"$f":"IF(Y645>0,+Y645/Daten!$I$18^2,\"\")","v":""},null,null,0,{"$f":"IF(WEEKDAY(A645)=1,IF(E645=1,VLOOKUP(AE645,Daten!$C$49:$D$102,2),\" \"),\"\")","v":""},46,0,0,0,""]
[{"$f":"+A644+1","v":"2021-11-17"},11,"1900-01-04",1,0,null,null,":",null,":",null," "," ","",null,null,{"$f":"IF(maxhf<100,0,IF(ISBLANK(P646)=\"WAHR\",P646,P646/maxhf)*100)","v":0},{"$f":"IF(F646>0,IF(P646>0,+F646*(F646*1000/(G646*60+I646+K646/60))/(maxhf-P646)*(maxhf/220),\"\"),\"\")","v":""},null,null,"",{"$f":"IF(+Radelkal!F645>0,+Radelkal!F645,\"\")","v":""},null,{"$f":"IF(W646<>\"\",SUM($AI$6:AI646)/10,\"\")","v":""},null,{"$f":"IF(Y646>0,+Y646/Daten!$I$18^2,\"\")","v":""},null,null,0,{"$f":"IF(WEEKDAY(A646)=1,IF(E646=1,VLOOKUP(AE646,Daten!$C$49:$D$102,2),\" \"),\"\")","v":""},46,0,0,0,""]
[{"$f":"+A646","v":"2021-11-17"},{"$f":"MONTH(A647)","v":11},{"$f":"WEEKDAY(A647)","v":"1900-01-04"},2,{"$f":"IF(D647=2,IF(C647=1,1,2),0)","v":2},null,null,":",null,":",null,{"$f":"IF((+G647*60+I647+K647/60)>0,G647*60+I647+K647/60,\" \")","v":" "},{"$f":"IF(+F647>0,+L647/F647/24/60,\" \")","v":" "},{"$f":"IF(F647>0,+F647/(L647/60),\"\")","v":""},null,null,0,"",null,null,"",{"$f":"IF(+Radelkal!F646>0,+Radelkal!F646,\"\")","v":""},null,{"$f":"IF(W647<>\"\",SUM($AI$6:AI647)/10,\"\")","v":""},null,{"$f":"IF(Y647>0,+Y647/Daten!$I$18^2,\"\")","v":""},null,null,0,{"$f":"IF(WEEKDAY(A647)=1,IF(E647=1,VLOOKUP(AE647,Daten!$C$49:$D$102,2),\" \"),\"\")","v":""},46,{"$f":"IF(F647>0,IF(D647=2,IF((AB646+AB647)>0,1,0),0),0)","v":0},{"$f":"+T647/10*F647","v":0},{"$f":"IF(COUNTBLANK(T647)=1,0,+U647/10*F647)","v":0},{"$f":"IF(W647<>\"\",10,\"\")","v":""}]
[{"$f":"+A646+1","v":"2021-11-18"},11,"1900-01-05",1,0,null,null,":",null,":",null," "," ","",null,null,0,"",null,null,"",{"$f":"IF(+Radelkal!F647>0,+Radelkal!F647,\"\")","v":""},null,{"$f":"IF(W648<>\"\",SUM($AI$6:AI648)/10,\"\")","v":""},null,{"$f":"IF(Y648>0,+Y648/Daten!$I$18^2,\"\")","v":""},null,null,{"$f":"IF(D648=2,+F648+F647,0)","v":0},{"$f":"IF(WEEKDAY(A648)=1,IF(E648=1,VLOOKUP(AE648,Daten!$C$49:$D$102,2),\" \"),\"\")","v":""},{"$f":"IF(WEEKDAY(A648)=2,IF(D648=1,AE647+1,AE647),AE647)","v":46},0,0,0,""]
[{"$f":"+A648","v":"2021-11-18"},11,"1900-01-05",2,2,null,null,":",null,":",null," "," ","",null,null,0,"",null,null,"",{"$f":"IF(+Radelkal!F648>0,+Radelkal!F648,\"\")","v":""},null,{"$f":"IF(W649<>\"\",SUM($AI$6:AI649)/10,\"\")","v":""},null,{"$f":"IF(Y649>0,+Y649/Daten!$I$18^2,\"\")","v":""},null,null,0,{"$f":"IF(WEEKDAY(A649)=1,IF(E649=1,VLOOKUP(AE649,Daten!$C$49:$D$102,2),\" \"),\"\")","v":""},46,0,0,0,""]
[{"$f":"+A648+1","v":"2021-11-19"},11,"1900-01-06",1,0,null,null,":",null,":",null," "," ","",null,null,0,"",null,null,"",{"$f":"IF(+Radelkal!F649>0,+Radelkal!F649,\"\")","v":""},null,{"$f":"IF(W650<>\"\",SUM($AI$6:AI650)/10,\"\")","v":""},null,{"$f":"IF(Y650>0,+Y650/Daten!$I$18^2,\"\")","v":""},null,null,0,{"$f":"IF(WEEKDAY(A650)=1,IF(E650=1,VLOOKUP(AE650,Daten!$C$49:$D$102,2),\" \"),\"\")","v":""},46,0,0,0,""]
[{"$f":"+A650","v":"2021-11-19"},11,"1900-01-06",2,2,null,null,":",null,":",null," "," ","",null,null,0,"",null,null,"",{"$f":"IF(+Radelkal!F650>0,+Radelkal!F650,\"\")","v":""},null,{"$f":"IF(W651<>\"\",SUM($AI$6:AI651)/10,\"\")","v":""},null,{"$f":"IF(Y651>0,+Y651/Daten!$I$18^2,\"\")","v":""},null,null,0,{"$f":"IF(WEEKDAY(A651)=1,IF(E651=1,VLOOKUP(AE651,Daten!$C$49:$D$102,2),\" \"),\"\")","v":""},46,0,0,0,""]
[{"$f":"+A650+1","v":"2021-11-20"},11,"1900-01-07",1,0,null,null,":",null,":",null," "," ","",null,null,0,"",null,null,"",{"$f":"IF(+Radelkal!F651>0,+Radelkal!F651,\"\")","v":""},null,{"$f":"IF(W652<>\"\",SUM($AI$6:AI652)/10,\"\")","v":""},null,{"$f":"IF(Y652>0,+Y652/Daten!$I$18^2,\"\")","v":""},null,null,0,{"$f":"IF(WEEKDAY(A652)=1,IF(E652=1,VLOOKUP(AE652,Daten!$C$49:$D$102,2),\" \"),\"\")","v":""},46,0,0,0,""]
[{"$f":"+A652","v":"2021-11-20"},11,"1900-01-07",2,2,null,null,":",null,":",null," "," ","",null,null,0,"",null,null,"",{"$f":"IF(+Radelkal!F652>0,+Radelkal!F652,\"\")","v":""},null,{"$f":"IF(W653<>\"\",SUM($AI$6:AI653)/10,\"\")","v":""},null,{"$f":"IF(Y653>0,+Y653/Daten!$I$18^2,\"\")","v":""},null,null,0,{"$f":"IF(WEEKDAY(A653)=1,IF(E653=1,VLOOKUP(AE653,Daten!$C$49:$D$102,2),\" \"),\"\")","v":""},46,0,0,0,""]
[{"$f":"+A652+1","v":"2021-11-21"},11,"1900-01-01",1,0,null,null,":",null,":",null," "," ","",null,null,0,"",null,null,"",{"$f":"IF(+Radelkal!F653>0,+Radelkal!F653,\"\")","v":""},null,{"$f":"IF(W654<>\"\",SUM($AI$6:AI654)/10,\"\")","v":""},null,{"$f":"IF(Y654>0,+Y654/Daten!$I$18^2,\"\")","v":""},null,null,0,{"$f":"IF(WEEKDAY(A654)=1,IF(E654=1,VLOOKUP(AE654,Daten!$C$49:$D$102,2),\" \"),\"\")","v":" "},46,0,0,0,""]
[{"$f":"+A654","v":"2021-11-21"},11,"1900-01-01",2,1,null,null,":",null,":",null," "," ","",null,null,0,"",null,null,"",{"$f":"IF(+Radelkal!F654>0,+Radelkal!F654,\"\")","v":""},null,{"$f":"IF(W655<>\"\",SUM($AI$6:AI655)/10,\"\")","v":""},null,{"$f":"IF(Y655>0,+Y655/Daten!$I$18^2,\"\")","v":""},null,null,0,{"$f":"IF(WEEKDAY(A655)=1,IF(E655=1,VLOOKUP(AE655,Daten!$C$49:$D$102,2),\" \"),\"\")","v":0},46,0,0,0,""]
[{"$f":"+A654+1","v":"2021-11-22"},11,"1900-01-02",1,0,null,null,":",null,":",null," "," ","",null,null,0,"",null,null,"",{"$f":"IF(+Radelkal!F655>0,+Radelkal!F655,\"\")","v":""},null,{"$f":"IF(W656<>\"\",SUM($AI$6:AI656)/10,\"\")","v":""},null,{"$f":"IF(Y656>0,+Y656/Daten!$I$18^2,\"\")","v":""},null,null,0,{"$f":"IF(WEEKDAY(A656)=1,IF(E656=1,VLOOKUP(AE656,Daten!$C$49:$D$102,2),\" \"),\"\")","v":""},47,0,0,0,""]
[{"$f":"+A656","v":"2021-11-22"},11,"1900-01-02",2,2,null,null,":",null,":",null," "," ","",null,null,0,"",null,null,"",{"$f":"IF(+Radelkal!F656>0,+Radelkal!F656,\"\")","v":""},null,{"$f":"IF(W657<>\"\",SUM($AI$6:AI657)/10,\"\")","v":""},null,{"$f":"IF(Y657>0,+Y657/Daten!$I$18^2,\"\")","v":""},null,null,0,{"$f":"IF(WEEKDAY(A657)=1,IF(E657=1,VLOOKUP(AE657,Daten!$C$49:$D$102,2),\" \"),\"\")","v":""},47,0,0,0,""]
[{"$f":"+A656+1","v":"2021-11-23"},11,"1900-01-03",1,0,null,null,":",null,":",null," "," ","",null,null,0,"",null,null,"",{"$f":"IF(+Radelkal!F657>0,+Radelkal!F657,\"\")","v":""},null,{"$f":"IF(W658<>\"\",SUM($AI$6:AI658)/10,\"\")","v":""},null,{"$f":"IF(Y658>0,+Y658/Daten!$I$18^2,\"\")","v":""},null,null,0,{"$f":"IF(WEEKDAY(A658)=1,IF(E658=1,VLOOKUP(AE658,Daten!$C$49:$D$102,2),\" \"),\"\")","v":""},47,0,0,0,""]
[{"$f":"+A658","v":"2021-11-23"},11,"1900-01-03",2,2,null,null,":",null,":",null," "," ","",null,null,0,"",null,null,"",{"$f":"IF(+Radelkal!F658>0,+Radelkal!F658,\"\")","v":""},null,{"$f":"IF(W659<>\"\",SUM($AI$6:AI659)/10,\"\")","v":""},null,{"$f":"IF(Y659>0,+Y659/Daten!$I$18^2,\"\")","v":""},null,null,0,{"$f":"IF(WEEKDAY(A659)=1,IF(E659=1,VLOOKUP(AE659,Daten!$C$49:$D$102,2),\" \"),\"\")","v":""},47,0,0,0,""]
[{"$f":"+A658+1","v":"2021-11-24"},11,"1900-01-04",1,0,null,null,":",null,":",null," "," ","",null,null,0,"",null,null,"",{"$f":"IF(+Radelkal!F659>0,+Radelkal!F659,\"\")","v":""},null,{"$f":"IF(W660<>\"\",SUM($AI$6:AI660)/10,\"\")","v":""},null,{"$f":"IF(Y660>0,+Y660/Daten!$I$18^2,\"\")","v":""},null,null,0,{"$f":"IF(WEEKDAY(A660)=1,IF(E660=1,VLOOKUP(AE660,Daten!$C$49:$D$102,2),\" \"),\"\")","v":""},47,0,0,0,""]
[{"$f":"+A660","v":"2021-11-24"},11,"1900-01-04",2,2,null,null,":",null,":",null," "," ","",null,null,0,"",null,null,"",{"$f":"IF(+Radelkal!F660>0,+Radelkal!F660,\"\")","v":""},null,{"$f":"IF(W661<>\"\",SUM($AI$6:AI661)/10,\"\")","v":""},null,{"$f":"IF(Y661>0,+Y661/Daten!$I$18^2,\"\")","v":""},null,null,0,{"$f":"IF(WEEKDAY(A661)=1,IF(E661=1,VLOOKUP(AE661,Daten!$C$49:$D$102,2),\" \"),\"\")","v":""},47,0,0,0,""]
[{"$f":"+A660+1","v":"2021-11-25"},11,"1900-01-05",1,0,null,null,":",null,":",null," "," ","",null,null,0,"",null,null,"",{"$f":"IF(+Radelkal!F661>0,+Radelkal!F661,\"\")","v":""},null,{"$f":"IF(W662<>\"\",SUM($AI$6:AI662)/10,\"\")","v":""},null,{"$f":"IF(Y662>0,+Y662/Daten!$I$18^2,\"\")","v":""},null,null,0,{"$f":"IF(WEEKDAY(A662)=1,IF(E662=1,VLOOKUP(AE662,Daten!$C$49:$D$102,2),\" \"),\"\")","v":""},47,0,0,0,""]
[{"$f":"+A662","v":"2021-11-25"},11,"1900-01-05",2,2,null,null,":",null,":",null," "," ","",null,null,0,"",null,null,"",{"$f":"IF(+Radelkal!F662>0,+Radelkal!F662,\"\")","v":""},null,{"$f":"IF(W663<>\"\",SUM($AI$6:AI663)/10,\"\")","v":""},null,{"$f":"IF(Y663>0,+Y663/Daten!$I$18^2,\"\")","v":""},null,null,0,{"$f":"IF(WEEKDAY(A663)=1,IF(E663=1,VLOOKUP(AE663,Daten!$C$49:$D$102,2),\" \"),\"\")","v":""},47,0,0,0,""]
[{"$f":"+A662+1","v":"2021-11-26"},11,"1900-01-06",1,0,null,null,":",null,":",null," "," ","",null,null,0,"",null,null,"",{"$f":"IF(+Radelkal!F663>0,+Radelkal!F663,\"\")","v":""},null,{"$f":"IF(W664<>\"\",SUM($AI$6:AI664)/10,\"\")","v":""},null,{"$f":"IF(Y664>0,+Y664/Daten!$I$18^2,\"\")","v":""},null,null,0,{"$f":"IF(WEEKDAY(A664)=1,IF(E664=1,VLOOKUP(AE664,Daten!$C$49:$D$102,2),\" \"),\"\")","v":""},47,0,0,0,""]
[{"$f":"+A664","v":"2021-11-26"},11,"1900-01-06",2,2,null,null,":",null,":",null," "," ","",null,null,0,"",null,null,"",{"$f":"IF(+Radelkal!F664>0,+Radelkal!F664,\"\")","v":""},null,{"$f":"IF(W665<>\"\",SUM($AI$6:AI665)/10,\"\")","v":""},null,{"$f":"IF(Y665>0,+Y665/Daten!$I$18^2,\"\")","v":""},null,null,0,{"$f":"IF(WEEKDAY(A665)=1,IF(E665=1,VLOOKUP(AE665,Daten!$C$49:$D$102,2),\" \"),\"\")","v":""},47,0,0,0,""]
[{"$f":"+A664+1","v":"2021-11-27"},11,"1900-01-07",1,0,null,null,":",null,":",null," "," ","",null,null,0,"",null,null,"",{"$f":"IF(+Radelkal!F665>0,+Radelkal!F665,\"\")","v":""},null,{"$f":"IF(W666<>\"\",SUM($AI$6:AI666)/10,\"\")","v":""},null,{"$f":"IF(Y666>0,+Y666/Daten!$I$18^2,\"\")","v":""},null,null,0,{"$f":"IF(WEEKDAY(A666)=1,IF(E666=1,VLOOKUP(AE666,Daten!$C$49:$D$102,2),\" \"),\"\")","v":""},47,0,0,0,""]
[{"$f":"+A666","v":"2021-11-27"},11,"1900-01-07",2,2,null,null,":",null,":",null," "," ","",null,null,0,"",null,null,"",{"$f":"IF(+Radelkal!F666>0,+Radelkal!F666,\"\")","v":""},null,{"$f":"IF(W667<>\"\",SUM($AI$6:AI667)/10,\"\")","v":""},null,{"$f":"IF(Y667>0,+Y667/Daten!$I$18^2,\"\")","v":""},null,null,0,{"$f":"IF(WEEKDAY(A667)=1,IF(E667=1,VLOOKUP(AE667,Daten!$C$49:$D$102,2),\" \"),\"\")","v":""},47,0,0,0,""]
[{"$f":"+A666+1","v":"2021-11-28"},11,"1900-01-01",1,0,null,null,":",null,":",null," "," ","",null,null,0,"",null,null,"",{"$f":"IF(+Radelkal!F667>0,+Radelkal!F667,\"\")","v":""},null,{"$f":"IF(W668<>\"\",SUM($AI$6:AI668)/10,\"\")","v":""},null,{"$f":"IF(Y668>0,+Y668/Daten!$I$18^2,\"\")","v":""},null,null,0,{"$f":"IF(WEEKDAY(A668)=1,IF(E668=1,VLOOKUP(AE668,Daten!$C$49:$D$102,2),\" \"),\"\")","v":" "},47,0,0,0,""]
[{"$f":"+A668","v":"2021-11-28"},11,"1900-01-01",2,1,null,null,":",null,":",null," "," ","",null,null,0,"",null,null,"",{"$f":"IF(+Radelkal!F668>0,+Radelkal!F668,\"\")","v":""},null,{"$f":"IF(W669<>\"\",SUM($AI$6:AI669)/10,\"\")","v":""},null,{"$f":"IF(Y669>0,+Y669/Daten!$I$18^2,\"\")","v":""},null,null,0,{"$f":"IF(WEEKDAY(A669)=1,IF(E669=1,VLOOKUP(AE669,Daten!$C$49:$D$102,2),\" \"),\"\")","v":0},47,0,0,0,""]
[{"$f":"+A668+1","v":"2021-11-29"},11,"1900-01-02",1,0,null,null,":",null,":",null," "," ","",null,null,0,"",null,null,"",{"$f":"IF(+Radelkal!F669>0,+Radelkal!F669,\"\")","v":""},null,{"$f":"IF(W670<>\"\",SUM($AI$6:AI670)/10,\"\")","v":""},null,{"$f":"IF(Y670>0,+Y670/Daten!$I$18^2,\"\")","v":""},null,null,0,{"$f":"IF(WEEKDAY(A670)=1,IF(E670=1,VLOOKUP(AE670,Daten!$C$49:$D$102,2),\" \"),\"\")","v":""},48,0,0,0,""]
[{"$f":"+A670","v":"2021-11-29"},11,"1900-01-02",2,2,null,null,":",null,":",null," "," ","",null,null,0,"",null,null,"",{"$f":"IF(+Radelkal!F670>0,+Radelkal!F670,\"\")","v":""},null,{"$f":"IF(W671<>\"\",SUM($AI$6:AI671)/10,\"\")","v":""},null,{"$f":"IF(Y671>0,+Y671/Daten!$I$18^2,\"\")","v":""},null,null,0,{"$f":"IF(WEEKDAY(A671)=1,IF(E671=1,VLOOKUP(AE671,Daten!$C$49:$D$102,2),\" \"),\"\")","v":""},48,0,0,0,""]
[{"$f":"+A670+1","v":"2021-11-30"},11,"1900-01-03",1,0,null,null,":",null,":",null," "," ","",null,null,0,"",null,null,"",{"$f":"IF(+Radelkal!F671>0,+Radelkal!F671,\"\")","v":""},null,{"$f":"IF(W672<>\"\",SUM($AI$6:AI672)/10,\"\")","v":""},null,{"$f":"IF(Y672>0,+Y672/Daten!$I$18^2,\"\")","v":""},null,null,0,{"$f":"IF(WEEKDAY(A672)=1,IF(E672=1,VLOOKUP(AE672,Daten!$C$49:$D$102,2),\" \"),\"\")","v":""},48,0,0,0,""]
[{"$f":"+A672","v":"2021-11-30"},11,"1900-01-03",2,2,null,null,":",null,":",null," "," ","",null,null,0,"",null,null,"",{"$f":"IF(+Radelkal!F672>0,+Radelkal!F672,\"\")","v":""},null,{"$f":"IF(W673<>\"\",SUM($AI$6:AI673)/10,\"\")","v":""},null,{"$f":"IF(Y673>0,+Y673/Daten!$I$18^2,\"\")","v":""},null,null,0,{"$f":"IF(WEEKDAY(A673)=1,IF(E673=1,VLOOKUP(AE673,Daten!$C$49:$D$102,2),\" \"),\"\")","v":""},48,0,0,0,""]
[{"$f":"+A672+1","v":"2021-12-01"},12,"1900-01-04",1,0,null,null,":",null,":",null," "," ","",null,null,0,"",null,null,"",{"$f":"IF(+Radelkal!F673>0,+Radelkal!F673,\"\")","v":""},null,{"$f":"IF(W674<>\"\",SUM($AI$6:AI674)/10,\"\")","v":""},null,{"$f":"IF(Y674>0,+Y674/Daten!$I$18^2,\"\")","v":""},null,null,0,{"$f":"IF(WEEKDAY(A674)=1,IF(E674=1,VLOOKUP(AE674,Daten!$C$49:$D$102,2),\" \"),\"\")","v":""},48,0,0,0,""]
[{"$f":"+A674","v":"2021-12-01"},12,"1900-01-04",2,2,null,null,":",null,":",null," "," ","",null,null,0,"",null,null,"",{"$f":"IF(+Radelkal!F674>0,+Radelkal!F674,\"\")","v":""},null,{"$f":"IF(W675<>\"\",SUM($AI$6:AI675)/10,\"\")","v":""},null,{"$f":"IF(Y675>0,+Y675/Daten!$I$18^2,\"\")","v":""},null,null,0,{"$f":"IF(WEEKDAY(A675)=1,IF(E675=1,VLOOKUP(AE675,Daten!$C$49:$D$102,2),\" \"),\"\")","v":""},48,0,0,0,""]
[{"$f":"+A674+1","v":"2021-12-02"},12,"1900-01-05",1,0,null,null,":",null,":",null," "," ","",null,null,0,"",null,null,"",{"$f":"IF(+Radelkal!F675>0,+Radelkal!F675,\"\")","v":""},null,{"$f":"IF(W676<>\"\",SUM($AI$6:AI676)/10,\"\")","v":""},null,{"$f":"IF(Y676>0,+Y676/Daten!$I$18^2,\"\")","v":""},null,null,0,{"$f":"IF(WEEKDAY(A676)=1,IF(E676=1,VLOOKUP(AE676,Daten!$C$49:$D$102,2),\" \"),\"\")","v":""},48,0,0,0,""]
[{"$f":"+A676","v":"2021-12-02"},12,"1900-01-05",2,2,null,null,":",null,":",null," "," ","",null,null,0,"",null,null,"",{"$f":"IF(+Radelkal!F676>0,+Radelkal!F676,\"\")","v":""},null,{"$f":"IF(W677<>\"\",SUM($AI$6:AI677)/10,\"\")","v":""},null,{"$f":"IF(Y677>0,+Y677/Daten!$I$18^2,\"\")","v":""},null,null,0,{"$f":"IF(WEEKDAY(A677)=1,IF(E677=1,VLOOKUP(AE677,Daten!$C$49:$D$102,2),\" \"),\"\")","v":""},48,0,0,0,""]
[{"$f":"+A676+1","v":"2021-12-03"},12,"1900-01-06",1,0,null,null,":",null,":",null," "," ","",null,null,0,"",null,null,"",{"$f":"IF(+Radelkal!F677>0,+Radelkal!F677,\"\")","v":""},null,{"$f":"IF(W678<>\"\",SUM($AI$6:AI678)/10,\"\")","v":""},null,{"$f":"IF(Y678>0,+Y678/Daten!$I$18^2,\"\")","v":""},null,null,0,{"$f":"IF(WEEKDAY(A678)=1,IF(E678=1,VLOOKUP(AE678,Daten!$C$49:$D$102,2),\" \"),\"\")","v":""},48,0,0,0,""]
[{"$f":"+A678","v":"2021-12-03"},12,"1900-01-06",2,2,null,null,":",null,":",null," "," ","",null,null,0,"",null,null,"",{"$f":"IF(+Radelkal!F678>0,+Radelkal!F678,\"\")","v":""},null,{"$f":"IF(W679<>\"\",SUM($AI$6:AI679)/10,\"\")","v":""},null,{"$f":"IF(Y679>0,+Y679/Daten!$I$18^2,\"\")","v":""},null,null,0,{"$f":"IF(WEEKDAY(A679)=1,IF(E679=1,VLOOKUP(AE679,Daten!$C$49:$D$102,2),\" \"),\"\")","v":""},48,0,0,0,""]
[{"$f":"+A678+1","v":"2021-12-04"},12,"1900-01-07",1,0,null,null,":",null,":",null," "," ","",null,null,0,"",null,null,"",{"$f":"IF(+Radelkal!F679>0,+Radelkal!F679,\"\")","v":""},null,{"$f":"IF(W680<>\"\",SUM($AI$6:AI680)/10,\"\")","v":""},null,{"$f":"IF(Y680>0,+Y680/Daten!$I$18^2,\"\")","v":""},null,null,0,{"$f":"IF(WEEKDAY(A680)=1,IF(E680=1,VLOOKUP(AE680,Daten!$C$49:$D$102,2),\" \"),\"\")","v":""},48,0,0,0,""]
[{"$f":"+A680","v":"2021-12-04"},12,"1900-01-07",2,2,null,null,":",null,":",null," "," ","",null,null,0,"",null,null,"",{"$f":"IF(+Radelkal!F680>0,+Radelkal!F680,\"\")","v":""},null,{"$f":"IF(W681<>\"\",SUM($AI$6:AI681)/10,\"\")","v":""},null,{"$f":"IF(Y681>0,+Y681/Daten!$I$18^2,\"\")","v":""},null,null,0,{"$f":"IF(WEEKDAY(A681)=1,IF(E681=1,VLOOKUP(AE681,Daten!$C$49:$D$102,2),\" \"),\"\")","v":""},48,0,0,0,""]
[{"$f":"+A680+1","v":"2021-12-05"},12,"1900-01-01",1,0,null,null,":",null,":",null," "," ","",null,null,0,"",null,null,"",{"$f":"IF(+Radelkal!F681>0,+Radelkal!F681,\"\")","v":""},null,{"$f":"IF(W682<>\"\",SUM($AI$6:AI682)/10,\"\")","v":""},null,{"$f":"IF(Y682>0,+Y682/Daten!$I$18^2,\"\")","v":""},null,null,0,{"$f":"IF(WEEKDAY(A682)=1,IF(E682=1,VLOOKUP(AE682,Daten!$C$49:$D$102,2),\" \"),\"\")","v":" "},48,0,0,0,""]
[{"$f":"+A682","v":"2021-12-05"},12,"1900-01-01",2,1,null,null,":",null,":",null," "," ","",null,null,0,"",null,null,"",{"$f":"IF(+Radelkal!F682>0,+Radelkal!F682,\"\")","v":""},null,{"$f":"IF(W683<>\"\",SUM($AI$6:AI683)/10,\"\")","v":""},null,{"$f":"IF(Y683>0,+Y683/Daten!$I$18^2,\"\")","v":""},null,null,0,{"$f":"IF(WEEKDAY(A683)=1,IF(E683=1,VLOOKUP(AE683,Daten!$C$49:$D$102,2),\" \"),\"\")","v":0},48,0,0,0,""]
[{"$f":"+A682+1","v":"2021-12-06"},12,"1900-01-02",1,0,null,null,":",null,":",null," "," ","",null,null,0,"",null,null,"",{"$f":"IF(+Radelkal!F683>0,+Radelkal!F683,\"\")","v":""},null,{"$f":"IF(W684<>\"\",SUM($AI$6:AI684)/10,\"\")","v":""},null,{"$f":"IF(Y684>0,+Y684/Daten!$I$18^2,\"\")","v":""},null,null,0,{"$f":"IF(WEEKDAY(A684)=1,IF(E684=1,VLOOKUP(AE684,Daten!$C$49:$D$102,2),\" \"),\"\")","v":""},49,0,0,0,""]
[{"$f":"+A684","v":"2021-12-06"},12,"1900-01-02",2,2,null,null,":",null,":",null," "," ","",null,null,0,"",null,null,"",{"$f":"IF(+Radelkal!F684>0,+Radelkal!F684,\"\")","v":""},null,{"$f":"IF(W685<>\"\",SUM($AI$6:AI685)/10,\"\")","v":""},null,{"$f":"IF(Y685>0,+Y685/Daten!$I$18^2,\"\")","v":""},null,null,0,{"$f":"IF(WEEKDAY(A685)=1,IF(E685=1,VLOOKUP(AE685,Daten!$C$49:$D$102,2),\" \"),\"\")","v":""},49,0,0,0,""]
[{"$f":"+A684+1","v":"2021-12-07"},12,"1900-01-03",1,0,null,null,":",null,":",null," "," ","",null,null,0,"",null,null,"",{"$f":"IF(+Radelkal!F685>0,+Radelkal!F685,\"\")","v":""},null,{"$f":"IF(W686<>\"\",SUM($AI$6:AI686)/10,\"\")","v":""},null,{"$f":"IF(Y686>0,+Y686/Daten!$I$18^2,\"\")","v":""},null,null,0,{"$f":"IF(WEEKDAY(A686)=1,IF(E686=1,VLOOKUP(AE686,Daten!$C$49:$D$102,2),\" \"),\"\")","v":""},49,0,0,0,""]
[{"$f":"+A686","v":"2021-12-07"},12,"1900-01-03",2,2,null,null,":",null,":",null," "," ","",null,null,0,"",null,null,"",{"$f":"IF(+Radelkal!F686>0,+Radelkal!F686,\"\")","v":""},null,{"$f":"IF(W687<>\"\",SUM($AI$6:AI687)/10,\"\")","v":""},null,{"$f":"IF(Y687>0,+Y687/Daten!$I$18^2,\"\")","v":""},null,null,0,{"$f":"IF(WEEKDAY(A687)=1,IF(E687=1,VLOOKUP(AE687,Daten!$C$49:$D$102,2),\" \"),\"\")","v":""},49,0,0,0,""]
[{"$f":"+A686+1","v":"2021-12-08"},12,"1900-01-04",1,0,null,null,":",null,":",null," "," ","",null,null,0,"",null,null,"",{"$f":"IF(+Radelkal!F687>0,+Radelkal!F687,\"\")","v":""},null,{"$f":"IF(W688<>\"\",SUM($AI$6:AI688)/10,\"\")","v":""},null,{"$f":"IF(Y688>0,+Y688/Daten!$I$18^2,\"\")","v":""},null,null,0,{"$f":"IF(WEEKDAY(A688)=1,IF(E688=1,VLOOKUP(AE688,Daten!$C$49:$D$102,2),\" \"),\"\")","v":""},49,0,0,0,""]
[{"$f":"+A688","v":"2021-12-08"},12,"1900-01-04",2,2,null,null,":",null,":",null," "," ","",null,null,0,"",null,null,"",{"$f":"IF(+Radelkal!F688>0,+Radelkal!F688,\"\")","v":""},null,{"$f":"IF(W689<>\"\",SUM($AI$6:AI689)/10,\"\")","v":""},null,{"$f":"IF(Y689>0,+Y689/Daten!$I$18^2,\"\")","v":""},null,null,0,{"$f":"IF(WEEKDAY(A689)=1,IF(E689=1,VLOOKUP(AE689,Daten!$C$49:$D$102,2),\" \"),\"\")","v":""},49,0,0,0,""]
[{"$f":"+A688+1","v":"2021-12-09"},12,"1900-01-05",1,0,null,null,":",null,":",null," "," ","",null,null,0,"",null,null,"",{"$f":"IF(+Radelkal!F689>0,+Radelkal!F689,\"\")","v":""},null,{"$f":"IF(W690<>\"\",SUM($AI$6:AI690)/10,\"\")","v":""},null,{"$f":"IF(Y690>0,+Y690/Daten!$I$18^2,\"\")","v":""},null,null,0,{"$f":"IF(WEEKDAY(A690)=1,IF(E690=1,VLOOKUP(AE690,Daten!$C$49:$D$102,2),\" \"),\"\")","v":""},49,0,0,0,""]
[{"$f":"+A690","v":"2021-12-09"},12,"1900-01-05",2,2,null,null,":",null,":",null," "," ","",null,null,0,"",null,null,"",{"$f":"IF(+Radelkal!F690>0,+Radelkal!F690,\"\")","v":""},null,{"$f":"IF(W691<>\"\",SUM($AI$6:AI691)/10,\"\")","v":""},null,{"$f":"IF(Y691>0,+Y691/Daten!$I$18^2,\"\")","v":""},null,null,0,{"$f":"IF(WEEKDAY(A691)=1,IF(E691=1,VLOOKUP(AE691,Daten!$C$49:$D$102,2),\" \"),\"\")","v":""},49,0,0,0,""]
[{"$f":"+A690+1","v":"2021-12-10"},12,"1900-01-06",1,0,null,null,":",null,":",null," "," ","",null,null,0,"",null,null,"",{"$f":"IF(+Radelkal!F691>0,+Radelkal!F691,\"\")","v":""},null,{"$f":"IF(W692<>\"\",SUM($AI$6:AI692)/10,\"\")","v":""},null,{"$f":"IF(Y692>0,+Y692/Daten!$I$18^2,\"\")","v":""},null,null,0,{"$f":"IF(WEEKDAY(A692)=1,IF(E692=1,VLOOKUP(AE692,Daten!$C$49:$D$102,2),\" \"),\"\")","v":""},49,0,0,0,""]
[{"$f":"+A692","v":"2021-12-10"},12,"1900-01-06",2,2,null,null,":",null,":",null," "," ","",null,null,0,"",null,null,"",{"$f":"IF(+Radelkal!F692>0,+Radelkal!F692,\"\")","v":""},null,{"$f":"IF(W693<>\"\",SUM($AI$6:AI693)/10,\"\")","v":""},null,{"$f":"IF(Y693>0,+Y693/Daten!$I$18^2,\"\")","v":""},null,null,0,{"$f":"IF(WEEKDAY(A693)=1,IF(E693=1,VLOOKUP(AE693,Daten!$C$49:$D$102,2),\" \"),\"\")","v":""},49,0,0,0,""]
[{"$f":"+A692+1","v":"2021-12-11"},12,"1900-01-07",1,0,null,null,":",null,":",null," "," ","",null,null,0,"",null,null,"",{"$f":"IF(+Radelkal!F693>0,+Radelkal!F693,\"\")","v":""},null,{"$f":"IF(W694<>\"\",SUM($AI$6:AI694)/10,\"\")","v":""},null,{"$f":"IF(Y694>0,+Y694/Daten!$I$18^2,\"\")","v":""},null,null,0,{"$f":"IF(WEEKDAY(A694)=1,IF(E694=1,VLOOKUP(AE694,Daten!$C$49:$D$102,2),\" \"),\"\")","v":""},49,0,0,0,""]
[{"$f":"+A694","v":"2021-12-11"},12,"1900-01-07",2,2,null,null,":",null,":",null," "," ","",null,null,0,"",null,null,"",{"$f":"IF(+Radelkal!F694>0,+Radelkal!F694,\"\")","v":""},null,{"$f":"IF(W695<>\"\",SUM($AI$6:AI695)/10,\"\")","v":""},null,{"$f":"IF(Y695>0,+Y695/Daten!$I$18^2,\"\")","v":""},null,null,0,{"$f":"IF(WEEKDAY(A695)=1,IF(E695=1,VLOOKUP(AE695,Daten!$C$49:$D$102,2),\" \"),\"\")","v":""},49,0,0,0,""]
[{"$f":"+A694+1","v":"2021-12-12"},12,"1900-01-01",1,0,null,null,":",null,":",null," "," ","",null,null,0,"",null,null,"",{"$f":"IF(+Radelkal!F695>0,+Radelkal!F695,\"\")","v":""},null,{"$f":"IF(W696<>\"\",SUM($AI$6:AI696)/10,\"\")","v":""},null,{"$f":"IF(Y696>0,+Y696/Daten!$I$18^2,\"\")","v":""},null,null,0,{"$f":"IF(WEEKDAY(A696)=1,IF(E696=1,VLOOKUP(AE696,Daten!$C$49:$D$102,2),\" \"),\"\")","v":" "},49,0,0,0,""]
[{"$f":"+A696","v":"2021-12-12"},12,"1900-01-01",2,1,null,null,":",null,":",null," "," ","",null,null,0,"",null,null,"",{"$f":"IF(+Radelkal!F696>0,+Radelkal!F696,\"\")","v":""},null,{"$f":"IF(W697<>\"\",SUM($AI$6:AI697)/10,\"\")","v":""},null,{"$f":"IF(Y697>0,+Y697/Daten!$I$18^2,\"\")","v":""},null,null,0,{"$f":"IF(WEEKDAY(A697)=1,IF(E697=1,VLOOKUP(AE697,Daten!$C$49:$D$102,2),\" \"),\"\")","v":0},49,0,0,0,""]
[{"$f":"+A696+1","v":"2021-12-13"},12,"1900-01-02",1,0,null,null,":",null,":",null," "," ","",null,null,0,"",null,null,"",{"$f":"IF(+Radelkal!F697>0,+Radelkal!F697,\"\")","v":""},null,{"$f":"IF(W698<>\"\",SUM($AI$6:AI698)/10,\"\")","v":""},null,{"$f":"IF(Y698>0,+Y698/Daten!$I$18^2,\"\")","v":""},null,null,0,{"$f":"IF(WEEKDAY(A698)=1,IF(E698=1,VLOOKUP(AE698,Daten!$C$49:$D$102,2),\" \"),\"\")","v":""},50,0,0,0,""]
[{"$f":"+A698","v":"2021-12-13"},12,"1900-01-02",2,2,null,null,":",null,":",null," "," ","",null,null,0,"",null,null,"",{"$f":"IF(+Radelkal!F698>0,+Radelkal!F698,\"\")","v":""},null,{"$f":"IF(W699<>\"\",SUM($AI$6:AI699)/10,\"\")","v":""},null,{"$f":"IF(Y699>0,+Y699/Daten!$I$18^2,\"\")","v":""},null,null,0,{"$f":"IF(WEEKDAY(A699)=1,IF(E699=1,VLOOKUP(AE699,Daten!$C$49:$D$102,2),\" \"),\"\")","v":""},50,0,0,0,""]
[{"$f":"+A698+1","v":"2021-12-14"},12,"1900-01-03",1,0,null,null,":",null,":",null," "," ","",null,null,0,"",null,null,"",{"$f":"IF(+Radelkal!F699>0,+Radelkal!F699,\"\")","v":""},null,{"$f":"IF(W700<>\"\",SUM($AI$6:AI700)/10,\"\")","v":""},null,{"$f":"IF(Y700>0,+Y700/Daten!$I$18^2,\"\")","v":""},null,null,0,{"$f":"IF(WEEKDAY(A700)=1,IF(E700=1,VLOOKUP(AE700,Daten!$C$49:$D$102,2),\" \"),\"\")","v":""},50,0,0,0,""]
[{"$f":"+A700","v":"2021-12-14"},12,"1900-01-03",2,2,null,null,":",null,":",null," "," ","",null,null,0,"",null,null,"",{"$f":"IF(+Radelkal!F700>0,+Radelkal!F700,\"\")","v":""},null,{"$f":"IF(W701<>\"\",SUM($AI$6:AI701)/10,\"\")","v":""},null,{"$f":"IF(Y701>0,+Y701/Daten!$I$18^2,\"\")","v":""},null,null,0,{"$f":"IF(WEEKDAY(A701)=1,IF(E701=1,VLOOKUP(AE701,Daten!$C$49:$D$102,2),\" \"),\"\")","v":""},50,0,0,0,""]
[{"$f":"+A700+1","v":"2021-12-15"},12,"1900-01-04",1,0,null,null,":",null,":",null," "," ","",null,null,0,"",null,null,"",{"$f":"IF(+Radelkal!F701>0,+Radelkal!F701,\"\")","v":""},null,{"$f":"IF(W702<>\"\",SUM($AI$6:AI702)/10,\"\")","v":""},null,{"$f":"IF(Y702>0,+Y702/Daten!$I$18^2,\"\")","v":""},null,null,0,{"$f":"IF(WEEKDAY(A702)=1,IF(E702=1,VLOOKUP(AE702,Daten!$C$49:$D$102,2),\" \"),\"\")","v":""},50,0,0,0,""]
[{"$f":"+A702","v":"2021-12-15"},12,"1900-01-04",2,2,null,null,":",null,":",null," "," ","",null,null,0,"",null,null,"",{"$f":"IF(+Radelkal!F702>0,+Radelkal!F702,\"\")","v":""},null,{"$f":"IF(W703<>\"\",SUM($AI$6:AI703)/10,\"\")","v":""},null,{"$f":"IF(Y703>0,+Y703/Daten!$I$18^2,\"\")","v":""},null,null,0,{"$f":"IF(WEEKDAY(A703)=1,IF(E703=1,VLOOKUP(AE703,Daten!$C$49:$D$102,2),\" \"),\"\")","v":""},50,0,0,0,""]
[{"$f":"+A702+1","v":"2021-12-16"},12,"1900-01-05",1,0,null,null,":",null,":",null," "," ","",null,null,0,"",null,null,"",{"$f":"IF(+Radelkal!F703>0,+Radelkal!F703,\"\")","v":""},null,{"$f":"IF(W704<>\"\",SUM($AI$6:AI704)/10,\"\")","v":""},null,{"$f":"IF(Y704>0,+Y704/Daten!$I$18^2,\"\")","v":""},null,null,0,{"$f":"IF(WEEKDAY(A704)=1,IF(E704=1,VLOOKUP(AE704,Daten!$C$49:$D$102,2),\" \"),\"\")","v":""},50,0,0,0,""]
[{"$f":"+A704","v":"2021-12-16"},12,"1900-01-05",2,2,null,null,":",null,":",null," "," ","",null,null,0,"",null,null,"",{"$f":"IF(+Radelkal!F704>0,+Radelkal!F704,\"\")","v":""},null,{"$f":"IF(W705<>\"\",SUM($AI$6:AI705)/10,\"\")","v":""},null,{"$f":"IF(Y705>0,+Y705/Daten!$I$18^2,\"\")","v":""},null,null,0,{"$f":"IF(WEEKDAY(A705)=1,IF(E705=1,VLOOKUP(AE705,Daten!$C$49:$D$102,2),\" \"),\"\")","v":""},50,0,0,0,""]
[{"$f":"+A704+1","v":"2021-12-17"},12,"1900-01-06",1,0,null,null,":",null,":",null," "," ","",null,null,0,"",null,null,"",{"$f":"IF(+Radelkal!F705>0,+Radelkal!F705,\"\")","v":""},null,{"$f":"IF(W706<>\"\",SUM($AI$6:AI706)/10,\"\")","v":""},null,{"$f":"IF(Y706>0,+Y706/Daten!$I$18^2,\"\")","v":""},null,null,0,{"$f":"IF(WEEKDAY(A706)=1,IF(E706=1,VLOOKUP(AE706,Daten!$C$49:$D$102,2),\" \"),\"\")","v":""},50,0,0,0,""]
[{"$f":"+A706","v":"2021-12-17"},12,"1900-01-06",2,2,null,null,":",null,":",null," "," ","",null,null,0,"",null,null,"",{"$f":"IF(+Radelkal!F706>0,+Radelkal!F706,\"\")","v":""},null,{"$f":"IF(W707<>\"\",SUM($AI$6:AI707)/10,\"\")","v":""},null,{"$f":"IF(Y707>0,+Y707/Daten!$I$18^2,\"\")","v":""},null,null,0,{"$f":"IF(WEEKDAY(A707)=1,IF(E707=1,VLOOKUP(AE707,Daten!$C$49:$D$102,2),\" \"),\"\")","v":""},50,0,0,0,""]
[{"$f":"+A706+1","v":"2021-12-18"},12,"1900-01-07",1,0,null,null,":",null,":",null," "," ","",null,null,0,"",null,null,"",{"$f":"IF(+Radelkal!F707>0,+Radelkal!F707,\"\")","v":""},null,{"$f":"IF(W708<>\"\",SUM($AI$6:AI708)/10,\"\")","v":""},null,{"$f":"IF(Y708>0,+Y708/Daten!$I$18^2,\"\")","v":""},null,null,0,{"$f":"IF(WEEKDAY(A708)=1,IF(E708=1,VLOOKUP(AE708,Daten!$C$49:$D$102,2),\" \"),\"\")","v":""},50,0,0,0,""]
[{"$f":"+A708","v":"2021-12-18"},12,"1900-01-07",2,2,null,null,":",null,":",null," "," ","",null,null,0,"",null,null,{"$f":"IF(COUNTBLANK(T709)=1,\"\",IF(T709=\"10\",\"0\",10-T709))","v":""},{"$f":"IF(+Radelkal!F708>0,+Radelkal!F708,\"\")","v":""},null,{"$f":"IF(W709<>\"\",SUM($AI$6:AI709)/10,\"\")","v":""},null,{"$f":"IF(Y709>0,+Y709/Daten!$I$18^2,\"\")","v":""},null,null,0,{"$f":"IF(WEEKDAY(A709)=1,IF(E709=1,VLOOKUP(AE709,Daten!$C$49:$D$102,2),\" \"),\"\")","v":""},50,0,0,0,""]
[{"$f":"+A708+1","v":"2021-12-19"},12,"1900-01-01",1,0,null,null,":",null,":",null," "," ","",null,null,{"$f":"IF(maxhf<100,0,IF(ISBLANK(P710)=\"WAHR\",P710,P710/maxhf)*100)","v":0},{"$f":"IF(F710>0,IF(P710>0,+F710*(F710*1000/(G710*60+I710+K710/60))/(maxhf-P710)*(maxhf/220),\"\"),\"\")","v":""},null,null,"",{"$f":"IF(+Radelkal!F709>0,+Radelkal!F709,\"\")","v":""},null,{"$f":"IF(W710<>\"\",SUM($AI$6:AI710)/10,\"\")","v":""},null,{"$f":"IF(Y710>0,+Y710/Daten!$I$18^2,\"\")","v":""},null,null,0,{"$f":"IF(WEEKDAY(A710)=1,IF(E710=1,VLOOKUP(AE710,Daten!$C$49:$D$102,2),\" \"),\"\")","v":" "},50,0,0,0,""]
[{"$f":"+A710","v":"2021-12-19"},{"$f":"MONTH(A711)","v":12},{"$f":"WEEKDAY(A711)","v":"1900-01-01"},2,{"$f":"IF(D711=2,IF(C711=1,1,2),0)","v":1},null,null,":",null,":",null,{"$f":"IF((+G711*60+I711+K711/60)>0,G711*60+I711+K711/60,\" \")","v":" "},{"$f":"IF(+F711>0,+L711/F711/24/60,\" \")","v":" "},{"$f":"IF(F711>0,+F711/(L711/60),\"\")","v":""},null,null,0,"",null,null,"",{"$f":"IF(+Radelkal!F710>0,+Radelkal!F710,\"\")","v":""},null,{"$f":"IF(W711<>\"\",SUM($AI$6:AI711)/10,\"\")","v":""},null,{"$f":"IF(Y711>0,+Y711/Daten!$I$18^2,\"\")","v":""},null,null,0,{"$f":"IF(WEEKDAY(A711)=1,IF(E711=1,VLOOKUP(AE711,Daten!$C$49:$D$102,2),\" \"),\"\")","v":0},50,{"$f":"IF(F711>0,IF(D711=2,IF((AB710+AB711)>0,1,0),0),0)","v":0},{"$f":"+T711/10*F711","v":0},{"$f":"IF(COUNTBLANK(T711)=1,0,+U711/10*F711)","v":0},{"$f":"IF(W711<>\"\",10,\"\")","v":""}]
[{"$f":"+A710+1","v":"2021-12-20"},12,"1900-01-02",1,0,null,null,":",null,":",null," "," ","",null,null,0,"",null,null,"",{"$f":"IF(+Radelkal!F711>0,+Radelkal!F711,\"\")","v":""},null,{"$f":"IF(W712<>\"\",SUM($AI$6:AI712)/10,\"\")","v":""},null,{"$f":"IF(Y712>0,+Y712/Daten!$I$18^2,\"\")","v":""},null,null,{"$f":"IF(D712=2,+F712+F711,0)","v":0},{"$f":"IF(WEEKDAY(A712)=1,IF(E712=1,VLOOKUP(AE712,Daten!$C$49:$D$102,2),\" \"),\"\")","v":""},{"$f":"IF(WEEKDAY(A712)=2,IF(D712=1,AE711+1,AE711),AE711)","v":51},0,0,0,""]
[{"$f":"+A712","v":"2021-12-20"},12,"1900-01-02",2,2,null,null,":",null,":",null," "," ","",null,null,0,"",null,null,"",{"$f":"IF(+Radelkal!F712>0,+Radelkal!F712,\"\")","v":""},null,{"$f":"IF(W713<>\"\",SUM($AI$6:AI713)/10,\"\")","v":""},null,{"$f":"IF(Y713>0,+Y713/Daten!$I$18^2,\"\")","v":""},null,null,0,{"$f":"IF(WEEKDAY(A713)=1,IF(E713=1,VLOOKUP(AE713,Daten!$C$49:$D$102,2),\" \"),\"\")","v":""},51,0,0,0,""]
[{"$f":"+A712+1","v":"2021-12-21"},12,"1900-01-03",1,0,null,null,":",null,":",null," "," ","",null,null,0,"",null,null,"",{"$f":"IF(+Radelkal!F713>0,+Radelkal!F713,\"\")","v":""},null,{"$f":"IF(W714<>\"\",SUM($AI$6:AI714)/10,\"\")","v":""},null,{"$f":"IF(Y714>0,+Y714/Daten!$I$18^2,\"\")","v":""},null,null,0,{"$f":"IF(WEEKDAY(A714)=1,IF(E714=1,VLOOKUP(AE714,Daten!$C$49:$D$102,2),\" \"),\"\")","v":""},51,0,0,0,""]
[{"$f":"+A714","v":"2021-12-21"},12,"1900-01-03",2,2,null,null,":",null,":",null," "," ","",null,null,0,"",null,null,"",{"$f":"IF(+Radelkal!F714>0,+Radelkal!F714,\"\")","v":""},null,{"$f":"IF(W715<>\"\",SUM($AI$6:AI715)/10,\"\")","v":""},null,{"$f":"IF(Y715>0,+Y715/Daten!$I$18^2,\"\")","v":""},null,null,0,{"$f":"IF(WEEKDAY(A715)=1,IF(E715=1,VLOOKUP(AE715,Daten!$C$49:$D$102,2),\" \"),\"\")","v":""},51,0,0,0,""]
[{"$f":"+A714+1","v":"2021-12-22"},12,"1900-01-04",1,0,null,null,":",null,":",null," "," ","",null,null,0,"",null,null,"",{"$f":"IF(+Radelkal!F715>0,+Radelkal!F715,\"\")","v":""},null,{"$f":"IF(W716<>\"\",SUM($AI$6:AI716)/10,\"\")","v":""},null,{"$f":"IF(Y716>0,+Y716/Daten!$I$18^2,\"\")","v":""},null,null,0,{"$f":"IF(WEEKDAY(A716)=1,IF(E716=1,VLOOKUP(AE716,Daten!$C$49:$D$102,2),\" \"),\"\")","v":""},51,0,0,0,""]
[{"$f":"+A716","v":"2021-12-22"},12,"1900-01-04",2,2,null,null,":",null,":",null," "," ","",null,null,0,"",null,null,"",{"$f":"IF(+Radelkal!F716>0,+Radelkal!F716,\"\")","v":""},null,{"$f":"IF(W717<>\"\",SUM($AI$6:AI717)/10,\"\")","v":""},null,{"$f":"IF(Y717>0,+Y717/Daten!$I$18^2,\"\")","v":""},null,null,0,{"$f":"IF(WEEKDAY(A717)=1,IF(E717=1,VLOOKUP(AE717,Daten!$C$49:$D$102,2),\" \"),\"\")","v":""},51,0,0,0,""]
[{"$f":"+A716+1","v":"2021-12-23"},12,"1900-01-05",1,0,null,null,":",null,":",null," "," ","",null,null,0,"",null,null,"",{"$f":"IF(+Radelkal!F717>0,+Radelkal!F717,\"\")","v":""},null,{"$f":"IF(W718<>\"\",SUM($AI$6:AI718)/10,\"\")","v":""},null,{"$f":"IF(Y718>0,+Y718/Daten!$I$18^2,\"\")","v":""},null,null,0,{"$f":"IF(WEEKDAY(A718)=1,IF(E718=1,VLOOKUP(AE718,Daten!$C$49:$D$102,2),\" \"),\"\")","v":""},51,0,0,0,""]
[{"$f":"+A718","v":"2021-12-23"},12,"1900-01-05",2,2,null,null,":",null,":",null," "," ","",null,null,0,"",null,null,"",{"$f":"IF(+Radelkal!F718>0,+Radelkal!F718,\"\")","v":""},null,{"$f":"IF(W719<>\"\",SUM($AI$6:AI719)/10,\"\")","v":""},null,{"$f":"IF(Y719>0,+Y719/Daten!$I$18^2,\"\")","v":""},null,null,0,{"$f":"IF(WEEKDAY(A719)=1,IF(E719=1,VLOOKUP(AE719,Daten!$C$49:$D$102,2),\" \"),\"\")","v":""},51,0,0,0,""]
[{"$f":"+A718+1","v":"2021-12-24"},12,"1900-01-06",1,0,null,null,":",null,":",null," "," ","",null,null,0,"",null,null,"",{"$f":"IF(+Radelkal!F719>0,+Radelkal!F719,\"\")","v":""},null,{"$f":"IF(W720<>\"\",SUM($AI$6:AI720)/10,\"\")","v":""},null,{"$f":"IF(Y720>0,+Y720/Daten!$I$18^2,\"\")","v":""},null,null,0,{"$f":"IF(WEEKDAY(A720)=1,IF(E720=1,VLOOKUP(AE720,Daten!$C$49:$D$102,2),\" \"),\"\")","v":""},51,0,0,0,""]
[{"$f":"+A720","v":"2021-12-24"},12,"1900-01-06",2,2,null,null,":",null,":",null," "," ","",null,null,0,"",null,null,"",{"$f":"IF(+Radelkal!F720>0,+Radelkal!F720,\"\")","v":""},null,{"$f":"IF(W721<>\"\",SUM($AI$6:AI721)/10,\"\")","v":""},null,{"$f":"IF(Y721>0,+Y721/Daten!$I$18^2,\"\")","v":""},null,null,0,{"$f":"IF(WEEKDAY(A721)=1,IF(E721=1,VLOOKUP(AE721,Daten!$C$49:$D$102,2),\" \"),\"\")","v":""},51,0,0,0,""]
[{"$f":"+A720+1","v":"2021-12-25"},12,"1900-01-07",1,0,null,null,":",null,":",null," "," ","",null,null,0,"",null,null,"",{"$f":"IF(+Radelkal!F721>0,+Radelkal!F721,\"\")","v":""},null,{"$f":"IF(W722<>\"\",SUM($AI$6:AI722)/10,\"\")","v":""},null,{"$f":"IF(Y722>0,+Y722/Daten!$I$18^2,\"\")","v":""},null,null,0,{"$f":"IF(WEEKDAY(A722)=1,IF(E722=1,VLOOKUP(AE722,Daten!$C$49:$D$102,2),\" \"),\"\")","v":""},51,0,0,0,""]
[{"$f":"+A722","v":"2021-12-25"},12,"1900-01-07",2,2,null,null,":",null,":",null," "," ","",null,null,0,"",null,null,"",{"$f":"IF(+Radelkal!F722>0,+Radelkal!F722,\"\")","v":""},null,{"$f":"IF(W723<>\"\",SUM($AI$6:AI723)/10,\"\")","v":""},null,{"$f":"IF(Y723>0,+Y723/Daten!$I$18^2,\"\")","v":""},null,null,0,{"$f":"IF(WEEKDAY(A723)=1,IF(E723=1,VLOOKUP(AE723,Daten!$C$49:$D$102,2),\" \"),\"\")","v":""},51,0,0,0,""]
[{"$f":"+A722+1","v":"2021-12-26"},12,"1900-01-01",1,0,null,null,":",null,":",null," "," ","",null,null,0,"",null,null,"",{"$f":"IF(+Radelkal!F723>0,+Radelkal!F723,\"\")","v":""},null,{"$f":"IF(W724<>\"\",SUM($AI$6:AI724)/10,\"\")","v":""},null,{"$f":"IF(Y724>0,+Y724/Daten!$I$18^2,\"\")","v":""},null,null,0,{"$f":"IF(WEEKDAY(A724)=1,IF(E724=1,VLOOKUP(AE724,Daten!$C$49:$D$102,2),\" \"),\"\")","v":" "},51,0,0,0,""]
[{"$f":"+A724","v":"2021-12-26"},12,"1900-01-01",2,1,null,null,":",null,":",null," "," ","",null,null,0,"",null,null,"",{"$f":"IF(+Radelkal!F724>0,+Radelkal!F724,\"\")","v":""},null,{"$f":"IF(W725<>\"\",SUM($AI$6:AI725)/10,\"\")","v":""},null,{"$f":"IF(Y725>0,+Y725/Daten!$I$18^2,\"\")","v":""},null,null,0,{"$f":"IF(WEEKDAY(A725)=1,IF(E725=1,VLOOKUP(AE725,Daten!$C$49:$D$102,2),\" \"),\"\")","v":0},51,0,0,0,""]
[{"$f":"+A724+1","v":"2021-12-27"},12,"1900-01-02",1,0,null,null,":",null,":",null," "," ","",null,null,0,"",null,null,"",{"$f":"IF(+Radelkal!F725>0,+Radelkal!F725,\"\")","v":""},null,{"$f":"IF(W726<>\"\",SUM($AI$6:AI726)/10,\"\")","v":""},null,{"$f":"IF(Y726>0,+Y726/Daten!$I$18^2,\"\")","v":""},null,null,0,{"$f":"IF(WEEKDAY(A726)=1,IF(E726=1,VLOOKUP(AE726,Daten!$C$49:$D$102,2),\" \"),\"\")","v":""},52,0,0,0,""]
[{"$f":"+A726","v":"2021-12-27"},12,"1900-01-02",2,2,null,null,":",null,":",null," "," ","",null,null,0,"",null,null,"",{"$f":"IF(+Radelkal!F726>0,+Radelkal!F726,\"\")","v":""},null,{"$f":"IF(W727<>\"\",SUM($AI$6:AI727)/10,\"\")","v":""},null,{"$f":"IF(Y727>0,+Y727/Daten!$I$18^2,\"\")","v":""},null,null,0,{"$f":"IF(WEEKDAY(A727)=1,IF(E727=1,VLOOKUP(AE727,Daten!$C$49:$D$102,2),\" \"),\"\")","v":""},52,0,0,0,""]
[{"$f":"+A726+1","v":"2021-12-28"},12,"1900-01-03",1,0,null,null,":",null,":",null," "," ","",null,null,0,"",null,null,"",{"$f":"IF(+Radelkal!F727>0,+Radelkal!F727,\"\")","v":""},null,{"$f":"IF(W728<>\"\",SUM($AI$6:AI728)/10,\"\")","v":""},null,{"$f":"IF(Y728>0,+Y728/Daten!$I$18^2,\"\")","v":""},null,null,0,{"$f":"IF(WEEKDAY(A728)=1,IF(E728=1,VLOOKUP(AE728,Daten!$C$49:$D$102,2),\" \"),\"\")","v":""},52,0,0,0,""]
[{"$f":"+A728","v":"2021-12-28"},12,"1900-01-03",2,2,null,null,":",null,":",null," "," ","",null,null,0,"",null,null,"",{"$f":"IF(+Radelkal!F728>0,+Radelkal!F728,\"\")","v":""},null,{"$f":"IF(W729<>\"\",SUM($AI$6:AI729)/10,\"\")","v":""},null,{"$f":"IF(Y729>0,+Y729/Daten!$I$18^2,\"\")","v":""},null,null,0,{"$f":"IF(WEEKDAY(A729)=1,IF(E729=1,VLOOKUP(AE729,Daten!$C$49:$D$102,2),\" \"),\"\")","v":""},52,0,0,0,""]
[{"$f":"+A728+1","v":"2021-12-29"},12,"1900-01-04",1,0,null,null,":",null,":",null," "," ","",null,null,0,"",null,null,"",{"$f":"IF(+Radelkal!F729>0,+Radelkal!F729,\"\")","v":""},null,{"$f":"IF(W730<>\"\",SUM($AI$6:AI730)/10,\"\")","v":""},null,{"$f":"IF(Y730>0,+Y730/Daten!$I$18^2,\"\")","v":""},null,null,0,{"$f":"IF(WEEKDAY(A730)=1,IF(E730=1,VLOOKUP(AE730,Daten!$C$49:$D$102,2),\" \"),\"\")","v":""},52,0,0,0,""]
[{"$f":"+A730","v":"2021-12-29"},12,"1900-01-04",2,2,null,null,":",null,":",null," "," ","",null,null,0,"",null,null,"",{"$f":"IF(+Radelkal!F730>0,+Radelkal!F730,\"\")","v":""},null,{"$f":"IF(W731<>\"\",SUM($AI$6:AI731)/10,\"\")","v":""},null,{"$f":"IF(Y731>0,+Y731/Daten!$I$18^2,\"\")","v":""},null,null,0,{"$f":"IF(WEEKDAY(A731)=1,IF(E731=1,VLOOKUP(AE731,Daten!$C$49:$D$102,2),\" \"),\"\")","v":""},52,0,0,0,""]
[{"$f":"+A730+1","v":"2021-12-30"},12,"1900-01-05",1,0,null,null,":",null,":",null," "," ","",null,null,0,"",null,null,"",{"$f":"IF(+Radelkal!F731>0,+Radelkal!F731,\"\")","v":""},null,{"$f":"IF(W732<>\"\",SUM($AI$6:AI732)/10,\"\")","v":""},null,{"$f":"IF(Y732>0,+Y732/Daten!$I$18^2,\"\")","v":""},null,null,0,{"$f":"IF(WEEKDAY(A732)=1,IF(E732=1,VLOOKUP(AE732,Daten!$C$49:$D$102,2),\" \"),\"\")","v":""},52,0,0,0,""]
[{"$f":"+A732","v":"2021-12-30"},12,"1900-01-05",2,2,null,null,":",null,":",null," "," ","",null,null,0,"",null,null,"",{"$f":"IF(+Radelkal!F732>0,+Radelkal!F732,\"\")","v":""},null,{"$f":"IF(W733<>\"\",SUM($AI$6:AI733)/10,\"\")","v":""},null,{"$f":"IF(Y733>0,+Y733/Daten!$I$18^2,\"\")","v":""},null,null,0,{"$f":"IF(WEEKDAY(A733)=1,IF(E733=1,VLOOKUP(AE733,Daten!$C$49:$D$102,2),\" \"),\"\")","v":""},52,0,0,0,""]
[{"$f":"+A732+1","v":"2021-12-31"},12,"1900-01-06",1,0,null,null,":",null,":",null," "," ","",null,null,0,"",null,null,"",{"$f":"IF(+Radelkal!F733>0,+Radelkal!F733,\"\")","v":""},null,{"$f":"IF(W734<>\"\",SUM($AI$6:AI734)/10,\"\")","v":""},null,{"$f":"IF(Y734>0,+Y734/Daten!$I$18^2,\"\")","v":""},null,null,0,{"$f":"IF(WEEKDAY(A734)=1,IF(E734=1,VLOOKUP(AE734,Daten!$C$49:$D$102,2),\" \"),\"\")","v":""},52,0,0,0,""]
[{"$f":"+A734","v":"2021-12-31"},12,"1900-01-06",2,2,null,null,":",null,":",null," "," ","",null,null,0,"",null,null,"",{"$f":"IF(+Radelkal!F734>0,+Radelkal!F734,\"\")","v":""},null,{"$f":"IF(W735<>\"\",SUM($AI$6:AI735)/10,\"\")","v":""},null,{"$f":"IF(Y735>0,+Y735/Daten!$I$18^2,\"\")","v":""},null,null,0,{"$f":"IF(WEEKDAY(A735)=1,IF(E735=1,VLOOKUP(AE735,Daten!$C$49:$D$102,2),\" \"),\"\")","v":""},52,0,0,0,""]
[{"$f":"+A734+1","v":"2022-01-01"},1,"1900-01-07",1,0,null,null,":",null,":",null," "," ","",null,null,0,"",null,null,"",{"$f":"IF(+Radelkal!F735>0,+Radelkal!F735,\"\")","v":""},null,{"$f":"IF(W736<>\"\",SUM($AI$6:AI736)/10,\"\")","v":""},null,{"$f":"IF(Y736>0,+Y736/Daten!$I$18^2,\"\")","v":""},null,null,0,{"$f":"IF(WEEKDAY(A736)=1,IF(E736=1,VLOOKUP(AE736,Daten!$C$49:$D$102,2),\" \"),\"\")","v":""},52,0,0,0,""]
[{"$f":"+A736","v":"2022-01-01"},1,"1900-01-07",2,2,null,null,":",null,":",null," "," ","",null,null,0,"",null,null,"",{"$f":"IF(+Radelkal!F736>0,+Radelkal!F736,\"\")","v":""},null,{"$f":"IF(W737<>\"\",SUM($AI$6:AI737)/10,\"\")","v":""},null,{"$f":"IF(Y737>0,+Y737/Daten!$I$18^2,\"\")","v":""},null,null,0,{"$f":"IF(WEEKDAY(A737)=1,IF(E737=1,VLOOKUP(AE737,Daten!$C$49:$D$102,2),\" \"),\"\")","v":""},52,0,0,0,""]
[]
[null,null,null,null,null,{"$f":"SUM(F6:F738)","v":28.5},null,null,null,null,null,{"$f":"SUM(L6:L736)","v":156.08333333333334},null,null,null,null,null,null,null,null,null,{"$f":"SUM(V6:V738)","v":20},null,null,null,null,null,null,{"$f":"SUM(AC7:AC738)","v":28.5},{"$f":"SUM(AD7:AD738)","v":28.5},null,{"$f":"SUM(AF7:AF738)","v":1},{"$f":"SUM(AG6:AG738)","v":5},{"$f":"SUM(AH6:AH738)","v":23.5},{"$f":"SUM(AI6:AI738)/10","v":0}]
[null,null,null,null,null,null,null,null,null,null,null,null,null,null,null,null,null,null,null,null,null,null,null,null,null,null,null,null,{"$f":"+AC739","v":28.5},null,null,null,{"$f":"+AG739+AH739","v":28.5}]
[null,null,null,null,null,null,null,null,null,null,null,null,null,null,null,null,null,null,null,null,null,null,null,null,null,null,null,null,{"$f":"+AD739","v":28.5}]

{"sheet":"Radeln","index":4,"n_rows":20,"n_cols":10,"rows_kept":20,"cut":false,"hidden":false,"merged":[]}
[{"$f":"+\"Radeln \" &Daten!D3","v":"Radeln 2021"},null,null,"km","Anzahl","HM","hh:mm"]
["im Jahr insgesamt",null,null,{"$f":"DSUM(radelkalender,Radelkal!F4,Kriterien!$G$6:$H$7)","v":20},{"$f":"DCOUNT(radelkalender,Radelkal!F4,Kriterien!G6:H7)","v":1},{"$f":"DSUM(radelkalender,Radelkal!M4,Kriterien!G6:H7)","v":0},{"$f":"DSUM(radelkalender,Radelkal!J4,Kriterien!G6:H7)/24/60","v":4.1666666666666664E-2},null,null,"gesamt-km"]
[null,null,null,null,null,null,null,null,null,"seit 03/95"]
["Durchschnitt pro Monat",null,null,{"$f":"+D2/Daten!D11","v":{"$error":"#DIV/0!"}},{"$f":"+E2/Daten!D11","v":{"$error":"#DIV/0!"}},null,{"$f":"+G2/Daten!D11","v":{"$error":"#DIV/0!"}},null,null,{"$f":"+Daten!D27+D2","v":20}]
["Durchschnitt pro Woche",null,null,{"$f":"(+D2)/Daten!D10","v":{"$error":"#DIV/0!"}},{"$f":"+E2/Daten!D10","v":{"$error":"#DIV/0!"}},null,{"$f":"+G2/Daten!D10","v":{"$error":"#DIV/0!"}}]
["Durchschnitt pro Tag",null,null,{"$f":"+D2/Daten!D9","v":{"$error":"#DIV/0!"}},{"$f":"+E2/Anzahltage","v":{"$error":"#DIV/0!"}},null,{"$f":"+G2/Anzahltage","v":{"$error":"#DIV/0!"}},null,null,"Höchstkm/h"]
["Durchschnitt pro Radtour",null,null,{"$f":"+D2/E2","v":20},null,null,{"$f":"+G2/E2","v":4.1666666666666664E-2}]
["Durchschnitt km/Std",null,null,{"$f":"+D2/G2/24","v":20}]
["max. Durchschnitts-Km/h",null,null,{"$f":"DMAX(radelkalender,Radelkal!K4,Kriterien!G6:H7)","v":20}]
["längste Radtour",null,null,{"$f":"DMAX(radelkalender,Radelkal!F4,Kriterien!G6:H7)","v":20},null,null,{"$f":"DMAX(radelkalender,Radelkal!J4,Kriterien!G6:H7)/24/60","v":4.1666666666666664E-2}]
["kürzeste Radtour",null,null,{"$f":"DMIN(radelkalender,Radelkal!F4,Kriterien!G6:H7)","v":20},null,null,{"$f":"DMIN(radelkalender,Radelkal!J4,Kriterien!G6:H7)/24/60","v":4.1666666666666664E-2}]
[]
["Belastung","Anz.",null,"km","%",null,"Räder","Anz.","km"]
[]
[{"$f":"+Kriterien!A42","v":"RTF"},{"$f":"DCOUNT(radelkalender,Radelkal!$F$4,Kriterien!H57:H58)","v":0},null,{"$f":"DSUM(radelkalender,Radelkal!$F$4,Kriterien!H57:H58)","v":0},{"$f":"+D15/$D$20","v":0},null,{"$f":"+Kriterien!A34","v":"Rad 1"},{"$f":"DCOUNT(radelkalender,Radelkal!$F$4,Kriterien!G71:G72)","v":1},{"$f":"DSUM(radelkalender,Radelkal!$F$4,Kriterien!G71:G72)","v":20}]
[{"$f":"+Kriterien!A43","v":"hohe Belast."},{"$f":"DCOUNT(radelkalender,Radelkal!$F$4,Kriterien!H59:H60)","v":0},null,{"$f":"DSUM(radelkalender,Radelkal!$F$4,Kriterien!H59:H60)","v":0},{"$f":"+D16/$D$20","v":0},null,{"$f":"+Kriterien!A35","v":"Rad 2"},{"$f":"DCOUNT(radelkalender,Radelkal!$F$4,Kriterien!G79:G80)","v":0},{"$f":"DSUM(radelkalender,Radelkal!$F$4,Kriterien!G79:G80)","v":0}]
[{"$f":"+Kriterien!A44","v":"mittl. Belast."},{"$f":"DCOUNT(radelkalender,Radelkal!$F$4,Kriterien!H61:H62)","v":0},null,{"$f":"DSUM(radelkalender,Radelkal!$F$4,Kriterien!H61:H62)","v":0},{"$f":"+D17/$D$20","v":0},null,{"$f":"+Kriterien!A36","v":"Rad 3"},{"$f":"DCOUNT(radelkalender,Radelkal!$F$4,Kriterien!G73:G74)","v":0},{"$f":"DSUM(radelkalender,Radelkal!$F$4,Kriterien!G73:G74)","v":0}]
[{"$f":"+Kriterien!A45","v":"Bummeln"},{"$f":"DCOUNT(radelkalender,Radelkal!$F$4,Kriterien!H63:H64)","v":0},null,{"$f":"DSUM(radelkalender,Radelkal!$F$4,Kriterien!H63:H64)","v":0},{"$f":"+D18/$D$20","v":0},null,{"$f":"+Kriterien!A37","v":"Rad 4"},{"$f":"DCOUNT(radelkalender,Radelkal!$F$4,Kriterien!G75:G76)","v":0},{"$f":"DSUM(radelkalender,Radelkal!$F$4,Kriterien!G75:G76)","v":0}]
[{"$f":"+Kriterien!A46","v":"Regeneration"},{"$f":"DCOUNT(radelkalender,Radelkal!$F$4,Kriterien!H65:H66)","v":1},null,{"$f":"DSUM(radelkalender,Radelkal!$F$4,Kriterien!H65:H66)","v":20},{"$f":"+D19/$D$20","v":1},null,"Fremde",{"$f":"DCOUNT(radelkalender,Radelkal!$F$4,Kriterien!G77:G78)","v":0},{"$f":"DSUM(radelkalender,Radelkal!$F$4,Kriterien!G77:G78)","v":0}]
[null,{"$f":"SUM(B15:B19)","v":1},null,{"$f":"SUM(D15:D19)","v":20},{"$f":"+D20/D20","v":1},null,null,{"$f":"SUM(H15:H19)","v":1},{"$f":"SUM(I15:I19)","v":20}]

{"sheet":"Radelkal","index":5,"n_rows":738,"n_cols":18,"rows_kept":738,"cut":false,"hidden":false,"merged":[[0,6,0,8],[1,6,1,8]]}
["Datum","Mo","Tag",null,null,"km","Fahrt-",null,null,"min","Ø","Be-","HM","Rad",null,"Tag","Wo","Wo"]
[null,"nat",null,null,null,null,"zeit",null,null,null,"km/","las-","berg",null,null,"sum","sum","nr"]
[null,null,null,null,null,null,"h",":","mm",null,"Std","tung","auf",null,"Kommentar","Rad","Rad"]
["datum","mo",null,null,null,"km","h",null,"mm","min","km/Std","bel","hm","rad","Kommentar","tasu","wosum","wonr"]
[{"$f":"DATE(Daten!D3,1,1)","v":"2021-01-01"},{"$f":"MONTH(A5)","v":1},{"$f":"WEEKDAY(A5)","v":"1900-01-06"},1,{"$f":"IF(D5=2,IF(C5=1,1,2),0)","v":0},null,null,":",null,{"$f":"IF((+G5*60+I5)>0,G5*60+I5,\"\")","v":""},{"$f":"IF(+F5>0,F5/J5*60,\" \")","v":" "},null,null,null,null,null,{"$f":"IF(WEEKDAY(A5)=1,IF(D5=2,VLOOKUP(R5,Daten!$C$49:$E$102,3),\" \"),\"\")","v":""},{"$f":"erstewochennr","v":0}]
[{"$f":"+A5","v":"2021-01-01"},{"$f":"MONTH(A6)","v":1},{"$f":"WEEKDAY(A6)","v":"1900-01-06"},2,{"$f":"IF(D6=2,IF(C6=1,1,2),0)","v":2},20,1,":",0,60,20,5,0,"r1","Heimtrainer",{"$f":"IF(D6=2,+F6+F5,0)","v":20},{"$f":"IF(WEEKDAY(A6)=1,IF(D6=2,VLOOKUP(R6,Daten!$C$49:$E$102,3),\" \"),\"\")","v":""},{"$f":"erstewochennr","v":0}]
[{"$f":"+A5+1","v":"2021-01-02"},1,"1900-01-07",1,0,null,null,":",null,""," ",null,null,null,null,{"$f":"IF(D7=2,+F7+F6,0)","v":0},{"$f":"IF(WEEKDAY(A7)=1,IF(D7=2,VLOOKUP(R7,Daten!$C$49:$E$102,3),\" \"),\"\")","v":""},{"$f":"IF(WEEKDAY(A7)=2,IF(D7=1,R6+1,R6),R6)","v":0}]
[{"$f":"+A7","v":"2021-01-02"},1,"1900-01-07",2,2,null,null,":",null,""," ",null,null,null,null,0,{"$f":"IF(WEEKDAY(A8)=1,IF(D8=2,VLOOKUP(R8,Daten!$C$49:$E$102,3),\" \"),\"\")","v":""},0]
[{"$f":"+A7+1","v":"2021-01-03"},1,"1900-01-01",1,0,null,null,":",null,""," ",null,null,null,null,0,{"$f":"IF(WEEKDAY(A9)=1,IF(D9=2,VLOOKUP(R9,Daten!$C$49:$E$102,3),\" \"),\"\")","v":" "},0]
[{"$f":"+A9","v":"2021-01-03"},1,"1900-01-01",2,1,null,null,":",null,""," ",null,null,null,null,0,{"$f":"IF(WEEKDAY(A10)=1,IF(D10=2,VLOOKUP(R10,Daten!$C$49:$E$102,3),\" \"),\"\")","v":20},0]
[{"$f":"+A9+1","v":"2021-01-04"},1,"1900-01-02",1,0,null,null,":",null,""," ",null,null,null,null,0,{"$f":"IF(WEEKDAY(A11)=1,IF(D11=2,VLOOKUP(R11,Daten!$C$49:$E$102,3),\" \"),\"\")","v":""},1]
[{"$f":"+A11","v":"2021-01-04"},1,"1900-01-02",2,2,null,null,":",null,""," ",null,null,null,null,0,{"$f":"IF(WEEKDAY(A12)=1,IF(D12=2,VLOOKUP(R12,Daten!$C$49:$E$102,3),\" \"),\"\")","v":""},1]
[{"$f":"+A11+1","v":"2021-01-05"},1,"1900-01-03",1,0,null,null,":",null,""," ",null,null,null,null,0,{"$f":"IF(WEEKDAY(A13)=1,IF(D13=2,VLOOKUP(R13,Daten!$C$49:$E$102,3),\" \"),\"\")","v":""},1]
[{"$f":"+A13","v":"2021-01-05"},1,"1900-01-03",2,2,null,null,":",null,""," ",null,null,null,null,0,{"$f":"IF(WEEKDAY(A14)=1,IF(D14=2,VLOOKUP(R14,Daten!$C$49:$E$102,3),\" \"),\"\")","v":""},1]
[{"$f":"+A13+1","v":"2021-01-06"},1,"1900-01-04",1,0,null,null,":",null,""," ",null,null,null,null,0,{"$f":"IF(WEEKDAY(A15)=1,IF(D15=2,VLOOKUP(R15,Daten!$C$49:$E$102,3),\" \"),\"\")","v":""},1]
[{"$f":"+A15","v":"2021-01-06"},1,"1900-01-04",2,2,null,null,":",null,""," ",null,null,null,null,0,{"$f":"IF(WEEKDAY(A16)=1,IF(D16=2,VLOOKUP(R16,Daten!$C$49:$E$102,3),\" \"),\"\")","v":""},1]
[{"$f":"+A15+1","v":"2021-01-07"},1,"1900-01-05",1,0,null,null,":",null,""," ",null,null,null,null,0,{"$f":"IF(WEEKDAY(A17)=1,IF(D17=2,VLOOKUP(R17,Daten!$C$49:$E$102,3),\" \"),\"\")","v":""},1]
[{"$f":"+A17","v":"2021-01-07"},1,"1900-01-05",2,2,null,null,":",null,""," ",null,null,null,null,0,{"$f":"IF(WEEKDAY(A18)=1,IF(D18=2,VLOOKUP(R18,Daten!$C$49:$E$102,3),\" \"),\"\")","v":""},1]
[{"$f":"+A17+1","v":"2021-01-08"},1,"1900-01-06",1,0,null,null,":",null,""," ",null,null,null,null,0,{"$f":"IF(WEEKDAY(A19)=1,IF(D19=2,VLOOKUP(R19,Daten!$C$49:$E$102,3),\" \"),\"\")","v":""},1]
[{"$f":"+A19","v":"2021-01-08"},1,"1900-01-06",2,2,null,null,":",null,""," ",null,null,null,null,0,{"$f":"IF(WEEKDAY(A20)=1,IF(D20=2,VLOOKUP(R20,Daten!$C$49:$E$102,3),\" \"),\"\")","v":""},1]
[{"$f":"+A19+1","v":"2021-01-09"},1,"1900-01-07",1,0,null,null,":",null,""," ",null,null,null,null,0,{"$f":"IF(WEEKDAY(A21)=1,IF(D21=2,VLOOKUP(R21,Daten!$C$49:$E$102,3),\" \"),\"\")","v":""},1]
[{"$f":"+A21","v":"2021-01-09"},1,"1900-01-07",2,2,null,null,":",null,""," ",null,null,null,null,0,{"$f":"IF(WEEKDAY(A22)=1,IF(D22=2,VLOOKUP(R22,Daten!$C$49:$E$102,3),\" \"),\"\")","v":""},1]
[{"$f":"+A21+1","v":"2021-01-10"},1,"1900-01-01",1,0,null,null,":",null,""," ",null,null,null,null,0,{"$f":"IF(WEEKDAY(A23)=1,IF(D23=2,VLOOKUP(R23,Daten!$C$49:$E$102,3),\" \"),\"\")","v":" "},1]
[{"$f":"+A23","v":"2021-01-10"},1,"1900-01-01",2,1,null,null,":",null,""," ",null,null,null,null,0,{"$f":"IF(WEEKDAY(A24)=1,IF(D24=2,VLOOKUP(R24,Daten!$C$49:$E$102,3),\" \"),\"\")","v":0},1]
[{"$f":"+A23+1","v":"2021-01-11"},1,"1900-01-02",1,0,null,null,":",null,""," ",null,null,null,null,0,{"$f":"IF(WEEKDAY(A25)=1,IF(D25=2,VLOOKUP(R25,Daten!$C$49:$E$102,3),\" \"),\"\")","v":""},2]
[{"$f":"+A25","v":"2021-01-11"},1,"1900-01-02",2,2,null,null,":",null,""," ",null,null,null,null,0,{"$f":"IF(WEEKDAY(A26)=1,IF(D26=2,VLOOKUP(R26,Daten!$C$49:$E$102,3),\" \"),\"\")","v":""},2]
[{"$f":"+A25+1","v":"2021-01-12"},1,"1900-01-03",1,0,null,null,":",null,""," ",null,null,null,null,0,{"$f":"IF(WEEKDAY(A27)=1,IF(D27=2,VLOOKUP(R27,Daten!$C$49:$E$102,3),\" \"),\"\")","v":""},2]
[{"$f":"+A27","v":"2021-01-12"},1,"1900-01-03",2,2,null,null,":",null,""," ",null,null,null,null,0,{"$f":"IF(WEEKDAY(A28)=1,IF(D28=2,VLOOKUP(R28,Daten!$C$49:$E$102,3),\" \"),\"\")","v":""},2]
[{"$f":"+A27+1","v":"2021-01-13"},1,"1900-01-04",1,0,null,null,":",null,""," ",null,null,null,null,0,{"$f":"IF(WEEKDAY(A29)=1,IF(D29=2,VLOOKUP(R29,Daten!$C$49:$E$102,3),\" \"),\"\")","v":""},2]
[{"$f":"+A29","v":"2021-01-13"},1,"1900-01-04",2,2,null,null,":",null,""," ",null,null,null,null,0,{"$f":"IF(WEEKDAY(A30)=1,IF(D30=2,VLOOKUP(R30,Daten!$C$49:$E$102,3),\" \"),\"\")","v":""},2]
[{"$f":"+A29+1","v":"2021-01-14"},1,"1900-01-05",1,0,null,null,":",null,""," ",null,null,null,null,0,{"$f":"IF(WEEKDAY(A31)=1,IF(D31=2,VLOOKUP(R31,Daten!$C$49:$E$102,3),\" \"),\"\")","v":""},2]
[{"$f":"+A31","v":"2021-01-14"},1,"1900-01-05",2,2,null,null,":",null,""," ",null,null,null,null,0,{"$f":"IF(WEEKDAY(A32)=1,IF(D32=2,VLOOKUP(R32,Daten!$C$49:$E$102,3),\" \"),\"\")","v":""},2]
[{"$f":"+A31+1","v":"2021-01-15"},1,"1900-01-06",1,0,null,null,":",null,""," ",null,null,null,null,0,{"$f":"IF(WEEKDAY(A33)=1,IF(D33=2,VLOOKUP(R33,Daten!$C$49:$E$102,3),\" \"),\"\")","v":""},2]
[{"$f":"+A33","v":"2021-01-15"},1,"1900-01-06",2,2,null,null,":",null,""," ",null,null,null,null,0,{"$f":"IF(WEEKDAY(A34)=1,IF(D34=2,VLOOKUP(R34,Daten!$C$49:$E$102,3),\" \"),\"\")","v":""},2]
[{"$f":"+A33+1","v":"2021-01-16"},1,"1900-01-07",1,0,null,null,":",null,""," ",null,null,null,null,0,{"$f":"IF(WEEKDAY(A35)=1,IF(D35=2,VLOOKUP(R35,Daten!$C$49:$E$102,3),\" \"),\"\")","v":""},2]
[{"$f":"+A35","v":"2021-01-16"},1,"1900-01-07",2,2,null,null,":",null,""," ",null,null,null,null,0,{"$f":"IF(WEEKDAY(A36)=1,IF(D36=2,VLOOKUP(R36,Daten!$C$49:$E$102,3),\" \"),\"\")","v":""},2]
[{"$f":"+A35+1","v":"2021-01-17"},1,"1900-01-01",1,0,null,null,":",null,""," ",null,null,null,null,0,{"$f":"IF(WEEKDAY(A37)=1,IF(D37=2,VLOOKUP(R37,Daten!$C$49:$E$102,3),\" \"),\"\")","v":" "},2]
[{"$f":"+A37","v":"2021-01-17"},1,"1900-01-01",2,1,null,null,":",null,""," ",null,null,null,null,0,{"$f":"IF(WEEKDAY(A38)=1,IF(D38=2,VLOOKUP(R38,Daten!$C$49:$E$102,3),\" \"),\"\")","v":0},2]
[{"$f":"+A37+1","v":"2021-01-18"},1,"1900-01-02",1,0,null,null,":",null,""," ",null,null,null,null,0,{"$f":"IF(WEEKDAY(A39)=1,IF(D39=2,VLOOKUP(R39,Daten!$C$49:$E$102,3),\" \"),\"\")","v":""},3]
[{"$f":"+A39","v":"2021-01-18"},1,"1900-01-02",2,2,null,null,":",null,""," ",null,null,null,null,0,{"$f":"IF(WEEKDAY(A40)=1,IF(D40=2,VLOOKUP(R40,Daten!$C$49:$E$102,3),\" \"),\"\")","v":""},3]
[{"$f":"+A39+1","v":"2021-01-19"},1,"1900-01-03",1,0,null,null,":",null,""," ",null,null,null,null,0,{"$f":"IF(WEEKDAY(A41)=1,IF(D41=2,VLOOKUP(R41,Daten!$C$49:$E$102,3),\" \"),\"\")","v":""},3]
[{"$f":"+A41","v":"2021-01-19"},1,"1900-01-03",2,2,null,null,":",null,""," ",null,null,null,null,0,{"$f":"IF(WEEKDAY(A42)=1,IF(D42=2,VLOOKUP(R42,Daten!$C$49:$E$102,3),\" \"),\"\")","v":""},3]
[{"$f":"+A41+1","v":"2021-01-20"},1,"1900-01-04",1,0,null,null,":",null,""," ",null,null,null,null,0,{"$f":"IF(WEEKDAY(A43)=1,IF(D43=2,VLOOKUP(R43,Daten!$C$49:$E$102,3),\" \"),\"\")","v":""},3]
[{"$f":"+A43","v":"2021-01-20"},1,"1900-01-04",2,2,null,null,":",null,""," ",null,null,null,null,0,{"$f":"IF(WEEKDAY(A44)=1,IF(D44=2,VLOOKUP(R44,Daten!$C$49:$E$102,3),\" \"),\"\")","v":""},3]
[{"$f":"+A43+1","v":"2021-01-21"},1,"1900-01-05",1,0,null,null,":",null,""," ",null,null,null,null,0,{"$f":"IF(WEEKDAY(A45)=1,IF(D45=2,VLOOKUP(R45,Daten!$C$49:$E$102,3),\" \"),\"\")","v":""},3]
[{"$f":"+A45","v":"2021-01-21"},1,"1900-01-05",2,2,null,null,":",null,""," ",null,null,null,null,0,{"$f":"IF(WEEKDAY(A46)=1,IF(D46=2,VLOOKUP(R46,Daten!$C$49:$E$102,3),\" \"),\"\")","v":""},3]
[{"$f":"+A45+1","v":"2021-01-22"},1,"1900-01-06",1,0,null,null,":",null,""," ",null,null,null,null,0,{"$f":"IF(WEEKDAY(A47)=1,IF(D47=2,VLOOKUP(R47,Daten!$C$49:$E$102,3),\" \"),\"\")","v":""},3]
[{"$f":"+A47","v":"2021-01-22"},1,"1900-01-06",2,2,null,null,":",null,""," ",null,null,null,null,0,{"$f":"IF(WEEKDAY(A48)=1,IF(D48=2,VLOOKUP(R48,Daten!$C$49:$E$102,3),\" \"),\"\")","v":""},3]
[{"$f":"+A47+1","v":"2021-01-23"},1,"1900-01-07",1,0,null,null,":",null,""," ",null,null,null,null,0,{"$f":"IF(WEEKDAY(A49)=1,IF(D49=2,VLOOKUP(R49,Daten!$C$49:$E$102,3),\" \"),\"\")","v":""},3]
[{"$f":"+A49","v":"2021-01-23"},1,"1900-01-07",2,2,null,null,":",null,""," ",null,null,null,null,0,{"$f":"IF(WEEKDAY(A50)=1,IF(D50=2,VLOOKUP(R50,Daten!$C$49:$E$102,3),\" \"),\"\")","v":""},3]
[{"$f":"+A49+1","v":"2021-01-24"},1,"1900-01-01",1,0,null,null,":",null,""," ",null,null,null,null,0,{"$f":"IF(WEEKDAY(A51)=1,IF(D51=2,VLOOKUP(R51,Daten!$C$49:$E$102,3),\" \"),\"\")","v":" "},3]
[{"$f":"+A51","v":"2021-01-24"},1,"1900-01-01",2,1,null,null,":",null,""," ",null,null,null,null,0,{"$f":"IF(WEEKDAY(A52)=1,IF(D52=2,VLOOKUP(R52,Daten!$C$49:$E$102,3),\" \"),\"\")","v":0},3]
[{"$f":"+A51+1","v":"2021-01-25"},1,"1900-01-02",1,0,null,null,":",null,""," ",null,null,null,null,0,{"$f":"IF(WEEKDAY(A53)=1,IF(D53=2,VLOOKUP(R53,Daten!$C$49:$E$102,3),\" \"),\"\")","v":""},4]
[{"$f":"+A53","v":"2021-01-25"},1,"1900-01-02",2,2,null,null,":",null,""," ",null,null,null,null,0,{"$f":"IF(WEEKDAY(A54)=1,IF(D54=2,VLOOKUP(R54,Daten!$C$49:$E$102,3),\" \"),\"\")","v":""},4]
[{"$f":"+A53+1","v":"2021-01-26"},1,"1900-01-03",1,0,null,null,":",null,""," ",null,null,null,null,0,{"$f":"IF(WEEKDAY(A55)=1,IF(D55=2,VLOOKUP(R55,Daten!$C$49:$E$102,3),\" \"),\"\")","v":""},4]
[{"$f":"+A55","v":"2021-01-26"},1,"1900-01-03",2,2,null,null,":",null,""," ",null,null,null,null,0,{"$f":"IF(WEEKDAY(A56)=1,IF(D56=2,VLOOKUP(R56,Daten!$C$49:$E$102,3),\" \"),\"\")","v":""},4]
[{"$f":"+A55+1","v":"2021-01-27"},1,"1900-01-04",1,0,null,null,":",null,""," ",null,null,null,null,0,{"$f":"IF(WEEKDAY(A57)=1,IF(D57=2,VLOOKUP(R57,Daten!$C$49:$E$102,3),\" \"),\"\")","v":""},4]
[{"$f":"+A57","v":"2021-01-27"},1,"1900-01-04",2,2,null,null,":",null,""," ",null,null,null,null,0,{"$f":"IF(WEEKDAY(A58)=1,IF(D58=2,VLOOKUP(R58,Daten!$C$49:$E$102,3),\" \"),\"\")","v":""},4]
[{"$f":"+A57+1","v":"2021-01-28"},1,"1900-01-05",1,0,null,null,":",null,""," ",null,null,null,null,0,{"$f":"IF(WEEKDAY(A59)=1,IF(D59=2,VLOOKUP(R59,Daten!$C$49:$E$102,3),\" \"),\"\")","v":""},4]
[{"$f":"+A59","v":"2021-01-28"},1,"1900-01-05",2,2,null,null,":",null,""," ",null,null,null,null,0,{"$f":"IF(WEEKDAY(A60)=1,IF(D60=2,VLOOKUP(R60,Daten!$C$49:$E$102,3),\" \"),\"\")","v":""},4]
[{"$f":"+A59+1","v":"2021-01-29"},1,"1900-01-06",1,0,null,null,":",null,""," ",null,null,null,null,0,{"$f":"IF(WEEKDAY(A61)=1,IF(D61=2,VLOOKUP(R61,Daten!$C$49:$E$102,3),\" \"),\"\")","v":""},4]
[{"$f":"+A61","v":"2021-01-29"},1,"1900-01-06",2,2,null,null,":",null,""," ",null,null,null,null,0,{"$f":"IF(WEEKDAY(A62)=1,IF(D62=2,VLOOKUP(R62,Daten!$C$49:$E$102,3),\" \"),\"\")","v":""},4]
[{"$f":"+A61+1","v":"2021-01-30"},1,"1900-01-07",1,0,null,null,":",null,""," ",null,null,null,null,0,{"$f":"IF(WEEKDAY(A63)=1,IF(D63=2,VLOOKUP(R63,Daten!$C$49:$E$102,3),\" \"),\"\")","v":""},4]
[{"$f":"+A63","v":"2021-01-30"},1,"1900-01-07",2,2,null,null,":",null,""," ",null,null,null,null,0,{"$f":"IF(WEEKDAY(A64)=1,IF(D64=2,VLOOKUP(R64,Daten!$C$49:$E$102,3),\" \"),\"\")","v":""},4]
[{"$f":"+A63+1","v":"2021-01-31"},1,"1900-01-01",1,0,null,null,":",null,""," ",null,null,null,null,0,{"$f":"IF(WEEKDAY(A65)=1,IF(D65=2,VLOOKUP(R65,Daten!$C$49:$E$102,3),\" \"),\"\")","v":" "},4]
[{"$f":"+A65","v":"2021-01-31"},1,"1900-01-01",2,1,null,null,":",null,""," ",null,null,null,null,0,{"$f":"IF(WEEKDAY(A66)=1,IF(D66=2,VLOOKUP(R66,Daten!$C$49:$E$102,3),\" \"),\"\")","v":0},4]
[{"$f":"+A65+1","v":"2021-02-01"},2,"1900-01-02",1,0,null,null,":",null,""," ",null,null,null,null,0,{"$f":"IF(WEEKDAY(A67)=1,IF(D67=2,VLOOKUP(R67,Daten!$C$49:$E$102,3),\" \"),\"\")","v":""},5]
[{"$f":"+A67","v":"2021-02-01"},2,"1900-01-02",2,2,null,null,":",null,""," ",null,null,null,null,0,{"$f":"IF(WEEKDAY(A68)=1,IF(D68=2,VLOOKUP(R68,Daten!$C$49:$E$102,3),\" \"),\"\")","v":""},5]
[{"$f":"+A67+1","v":"2021-02-02"},2,"1900-01-03",1,0,null,null,":",null,""," ",null,null,null,null,0,{"$f":"IF(WEEKDAY(A69)=1,IF(D69=2,VLOOKUP(R69,Daten!$C$49:$E$102,3),\" \"),\"\")","v":""},5]
[{"$f":"+A69","v":"2021-02-02"},{"$f":"MONTH(A70)","v":2},{"$f":"WEEKDAY(A70)","v":"1900-01-03"},2,{"$f":"IF(D70=2,IF(C70=1,1,2),0)","v":2},null,null,":",null,""," ",null,null,null,null,0,{"$f":"IF(WEEKDAY(A70)=1,IF(D70=2,VLOOKUP(R70,Daten!$C$49:$E$102,3),\" \"),\"\")","v":""},5]
[{"$f":"+A69+1","v":"2021-02-03"},2,"1900-01-04",1,0,null,null,":",null,""," ",null,null,null,null,{"$f":"IF(D71=2,+F71+F70,0)","v":0},{"$f":"IF(WEEKDAY(A71)=1,IF(D71=2,VLOOKUP(R71,Daten!$C$49:$E$102,3),\" \"),\"\")","v":""},{"$f":"IF(WEEKDAY(A71)=2,IF(D71=1,R70+1,R70),R70)","v":5}]
[{"$f":"+A71","v":"2021-02-03"},2,"1900-01-04",2,2,null,null,":",null,""," ",null,null,null,null,0,{"$f":"IF(WEEKDAY(A72)=1,IF(D72=2,VLOOKUP(R72,Daten!$C$49:$E$102,3),\" \"),\"\")","v":""},5]
[{"$f":"+A71+1","v":"2021-02-04"},2,"1900-01-05",1,0,null,null,":",null,""," ",null,null,null,null,0,{"$f":"IF(WEEKDAY(A73)=1,IF(D73=2,VLOOKUP(R73,Daten!$C$49:$E$102,3),\" \"),\"\")","v":""},5]
[{"$f":"+A73","v":"2021-02-04"},2,"1900-01-05",2,2,null,null,":",null,""," ",null,null,null,null,0,{"$f":"IF(WEEKDAY(A74)=1,IF(D74=2,VLOOKUP(R74,Daten!$C$49:$E$102,3),\" \"),\"\")","v":""},5]
[{"$f":"+A73+1","v":"2021-02-05"},2,"1900-01-06",1,0,null,null,":",null,""," ",null,null,null,null,0,{"$f":"IF(WEEKDAY(A75)=1,IF(D75=2,VLOOKUP(R75,Daten!$C$49:$E$102,3),\" \"),\"\")","v":""},5]
[{"$f":"+A75","v":"2021-02-05"},2,"1900-01-06",2,2,null,null,":",null,""," ",null,null,null,null,0,{"$f":"IF(WEEKDAY(A76)=1,IF(D76=2,VLOOKUP(R76,Daten!$C$49:$E$102,3),\" \"),\"\")","v":""},5]
[{"$f":"+A75+1","v":"2021-02-06"},2,"1900-01-07",1,0,null,null,":",null,""," ",null,null,null,null,0,{"$f":"IF(WEEKDAY(A77)=1,IF(D77=2,VLOOKUP(R77,Daten!$C$49:$E$102,3),\" \"),\"\")","v":""},5]
[{"$f":"+A77","v":"2021-02-06"},2,"1900-01-07",2,2,null,null,":",null,""," ",null,null,null,null,0,{"$f":"IF(WEEKDAY(A78)=1,IF(D78=2,VLOOKUP(R78,Daten!$C$49:$E$102,3),\" \"),\"\")","v":""},5]
[{"$f":"+A77+1","v":"2021-02-07"},2,"1900-01-01",1,0,null,null,":",null,""," ",null,null,null,null,0,{"$f":"IF(WEEKDAY(A79)=1,IF(D79=2,VLOOKUP(R79,Daten!$C$49:$E$102,3),\" \"),\"\")","v":" "},5]
[{"$f":"+A79","v":"2021-02-07"},2,"1900-01-01",2,1,null,null,":",null,""," ",null,null,null,null,0,{"$f":"IF(WEEKDAY(A80)=1,IF(D80=2,VLOOKUP(R80,Daten!$C$49:$E$102,3),\" \"),\"\")","v":0},5]
[{"$f":"+A79+1","v":"2021-02-08"},2,"1900-01-02",1,0,null,null,":",null,""," ",null,null,null,null,0,{"$f":"IF(WEEKDAY(A81)=1,IF(D81=2,VLOOKUP(R81,Daten!$C$49:$E$102,3),\" \"),\"\")","v":""},6]
[{"$f":"+A81","v":"2021-02-08"},2,"1900-01-02",2,2,null,null,":",null,""," ",null,null,null,null,0,{"$f":"IF(WEEKDAY(A82)=1,IF(D82=2,VLOOKUP(R82,Daten!$C$49:$E$102,3),\" \"),\"\")","v":""},6]
[{"$f":"+A81+1","v":"2021-02-09"},2,"1900-01-03",1,0,null,null,":",null,""," ",null,null,null,null,0,{"$f":"IF(WEEKDAY(A83)=1,IF(D83=2,VLOOKUP(R83,Daten!$C$49:$E$102,3),\" \"),\"\")","v":""},6]
[{"$f":"+A83","v":"2021-02-09"},2,"1900-01-03",2,2,null,null,":",null,""," ",null,null,null,null,0,{"$f":"IF(WEEKDAY(A84)=1,IF(D84=2,VLOOKUP(R84,Daten!$C$49:$E$102,3),\" \"),\"\")","v":""},6]
[{"$f":"+A83+1","v":"2021-02-10"},2,"1900-01-04",1,0,null,null,":",null,""," ",null,null,null,null,0,{"$f":"IF(WEEKDAY(A85)=1,IF(D85=2,VLOOKUP(R85,Daten!$C$49:$E$102,3),\" \"),\"\")","v":""},6]
[{"$f":"+A85","v":"2021-02-10"},2,"1900-01-04",2,2,null,null,":",null,""," ",null,null,null,null,0,{"$f":"IF(WEEKDAY(A86)=1,IF(D86=2,VLOOKUP(R86,Daten!$C$49:$E$102,3),\" \"),\"\")","v":""},6]
[{"$f":"+A85+1","v":"2021-02-11"},2,"1900-01-05",1,0,null,null,":",null,""," ",null,null,null,null,0,{"$f":"IF(WEEKDAY(A87)=1,IF(D87=2,VLOOKUP(R87,Daten!$C$49:$E$102,3),\" \"),\"\")","v":""},6]
[{"$f":"+A87","v":"2021-02-11"},2,"1900-01-05",2,2,null,null,":",null,""," ",null,null,null,null,0,{"$f":"IF(WEEKDAY(A88)=1,IF(D88=2,VLOOKUP(R88,Daten!$C$49:$E$102,3),\" \"),\"\")","v":""},6]
[{"$f":"+A87+1","v":"2021-02-12"},2,"1900-01-06",1,0,null,null,":",null,""," ",null,null,null,null,0,{"$f":"IF(WEEKDAY(A89)=1,IF(D89=2,VLOOKUP(R89,Daten!$C$49:$E$102,3),\" \"),\"\")","v":""},6]
[{"$f":"+A89","v":"2021-02-12"},2,"1900-01-06",2,2,null,null,":",null,""," ",null,null,null,null,0,{"$f":"IF(WEEKDAY(A90)=1,IF(D90=2,VLOOKUP(R90,Daten!$C$49:$E$102,3),\" \"),\"\")","v":""},6]
[{"$f":"+A89+1","v":"2021-02-13"},2,"1900-01-07",1,0,null,null,":",null,""," ",null,null,null,null,0,{"$f":"IF(WEEKDAY(A91)=1,IF(D91=2,VLOOKUP(R91,Daten!$C$49:$E$102,3),\" \"),\"\")","v":""},6]
[{"$f":"+A91","v":"2021-02-13"},2,"1900-01-07",2,2,null,null,":",null,""," ",null,null,null,null,0,{"$f":"IF(WEEKDAY(A92)=1,IF(D92=2,VLOOKUP(R92,Daten!$C$49:$E$102,3),\" \"),\"\")","v":""},6]
[{"$f":"+A91+1","v":"2021-02-14"},2,"1900-01-01",1,0,null,null,":",null,""," ",null,null,null,null,0,{"$f":"IF(WEEKDAY(A93)=1,IF(D93=2,VLOOKUP(R93,Daten!$C$49:$E$102,3),\" \"),\"\")","v":" "},6]
[{"$f":"+A93","v":"2021-02-14"},2,"1900-01-01",2,1,null,null,":",null,""," ",null,null,null,null,0,{"$f":"IF(WEEKDAY(A94)=1,IF(D94=2,VLOOKUP(R94,Daten!$C$49:$E$102,3),\" \"),\"\")","v":0},6]
[{"$f":"+A93+1","v":"2021-02-15"},2,"1900-01-02",1,0,null,null,":",null,""," ",null,null,null,null,0,{"$f":"IF(WEEKDAY(A95)=1,IF(D95=2,VLOOKUP(R95,Daten!$C$49:$E$102,3),\" \"),\"\")","v":""},7]
[{"$f":"+A95","v":"2021-02-15"},2,"1900-01-02",2,2,null,null,":",null,""," ",null,null,null,null,0,{"$f":"IF(WEEKDAY(A96)=1,IF(D96=2,VLOOKUP(R96,Daten!$C$49:$E$102,3),\" \"),\"\")","v":""},7]
[{"$f":"+A95+1","v":"2021-02-16"},2,"1900-01-03",1,0,null,null,":",null,""," ",null,null,null,null,0,{"$f":"IF(WEEKDAY(A97)=1,IF(D97=2,VLOOKUP(R97,Daten!$C$49:$E$102,3),\" \"),\"\")","v":""},7]
[{"$f":"+A97","v":"2021-02-16"},2,"1900-01-03",2,2,null,null,":",null,""," ",null,null,null,null,0,{"$f":"IF(WEEKDAY(A98)=1,IF(D98=2,VLOOKUP(R98,Daten!$C$49:$E$102,3),\" \"),\"\")","v":""},7]
[{"$f":"+A97+1","v":"2021-02-17"},2,"1900-01-04",1,0,null,null,":",null,""," ",null,null,null,null,0,{"$f":"IF(WEEKDAY(A99)=1,IF(D99=2,VLOOKUP(R99,Daten!$C$49:$E$102,3),\" \"),\"\")","v":""},7]
[{"$f":"+A99","v":"2021-02-17"},2,"1900-01-04",2,2,null,null,":",null,""," ",null,null,null,null,0,{"$f":"IF(WEEKDAY(A100)=1,IF(D100=2,VLOOKUP(R100,Daten!$C$49:$E$102,3),\" \"),\"\")","v":""},7]
[{"$f":"+A99+1","v":"2021-02-18"},2,"1900-01-05",1,0,null,null,":",null,""," ",null,null,null,null,0,{"$f":"IF(WEEKDAY(A101)=1,IF(D101=2,VLOOKUP(R101,Daten!$C$49:$E$102,3),\" \"),\"\")","v":""},7]
[{"$f":"+A101","v":"2021-02-18"},2,"1900-01-05",2,2,null,null,":",null,""," ",null,null,null,null,0,{"$f":"IF(WEEKDAY(A102)=1,IF(D102=2,VLOOKUP(R102,Daten!$C$49:$E$102,3),\" \"),\"\")","v":""},7]
[{"$f":"+A101+1","v":"2021-02-19"},2,"1900-01-06",1,0,null,null,":",null,""," ",null,null,null,null,0,{"$f":"IF(WEEKDAY(A103)=1,IF(D103=2,VLOOKUP(R103,Daten!$C$49:$E$102,3),\" \"),\"\")","v":""},7]
[{"$f":"+A103","v":"2021-02-19"},2,"1900-01-06",2,2,null,null,":",null,""," ",null,null,null,null,0,{"$f":"IF(WEEKDAY(A104)=1,IF(D104=2,VLOOKUP(R104,Daten!$C$49:$E$102,3),\" \"),\"\")","v":""},7]
[{"$f":"+A103+1","v":"2021-02-20"},2,"1900-01-07",1,0,null,null,":",null,""," ",null,null,null,null,0,{"$f":"IF(WEEKDAY(A105)=1,IF(D105=2,VLOOKUP(R105,Daten!$C$49:$E$102,3),\" \"),\"\")","v":""},7]
[{"$f":"+A105","v":"2021-02-20"},2,"1900-01-07",2,2,null,null,":",null,""," ",null,null,null,null,0,{"$f":"IF(WEEKDAY(A106)=1,IF(D106=2,VLOOKUP(R106,Daten!$C$49:$E$102,3),\" \"),\"\")","v":""},7]
[{"$f":"+A105+1","v":"2021-02-21"},2,"1900-01-01",1,0,null,null,":",null,""," ",null,null,null,null,0,{"$f":"IF(WEEKDAY(A107)=1,IF(D107=2,VLOOKUP(R107,Daten!$C$49:$E$102,3),\" \"),\"\")","v":" "},7]
[{"$f":"+A107","v":"2021-02-21"},2,"1900-01-01",2,1,null,null,":",null,""," ",null,null,null,null,0,{"$f":"IF(WEEKDAY(A108)=1,IF(D108=2,VLOOKUP(R108,Daten!$C$49:$E$102,3),\" \"),\"\")","v":0},7]
[{"$f":"+A107+1","v":"2021-02-22"},2,"1900-01-02",1,0,null,null,":",null,""," ",null,null,null,null,0,{"$f":"IF(WEEKDAY(A109)=1,IF(D109=2,VLOOKUP(R109,Daten!$C$49:$E$102,3),\" \"),\"\")","v":""},8]
[{"$f":"+A109","v":"2021-02-22"},2,"1900-01-02",2,2,null,null,":",null,""," ",null,null,null,null,0,{"$f":"IF(WEEKDAY(A110)=1,IF(D110=2,VLOOKUP(R110,Daten!$C$49:$E$102,3),\" \"),\"\")","v":""},8]
[{"$f":"+A109+1","v":"2021-02-23"},2,"1900-01-03",1,0,null,null,":",null,""," ",null,null,null,null,0,{"$f":"IF(WEEKDAY(A111)=1,IF(D111=2,VLOOKUP(R111,Daten!$C$49:$E$102,3),\" \"),\"\")","v":""},8]
[{"$f":"+A111","v":"2021-02-23"},2,"1900-01-03",2,2,null,null,":",null,""," ",null,null,null,null,0,{"$f":"IF(WEEKDAY(A112)=1,IF(D112=2,VLOOKUP(R112,Daten!$C$49:$E$102,3),\" \"),\"\")","v":""},8]
[{"$f":"+A111+1","v":"2021-02-24"},2,"1900-01-04",1,0,null,null,":",null,""," ",null,null,null,null,0,{"$f":"IF(WEEKDAY(A113)=1,IF(D113=2,VLOOKUP(R113,Daten!$C$49:$E$102,3),\" \"),\"\")","v":""},8]
[{"$f":"+A113","v":"2021-02-24"},2,"1900-01-04",2,2,null,null,":",null,""," ",null,null,null,null,0,{"$f":"IF(WEEKDAY(A114)=1,IF(D114=2,VLOOKUP(R114,Daten!$C$49:$E$102,3),\" \"),\"\")","v":""},8]
[{"$f":"+A113+1","v":"2021-02-25"},2,"1900-01-05",1,0,null,null,":",null,""," ",null,null,null,null,0,{"$f":"IF(WEEKDAY(A115)=1,IF(D115=2,VLOOKUP(R115,Daten!$C$49:$E$102,3),\" \"),\"\")","v":""},8]
[{"$f":"+A115","v":"2021-02-25"},2,"1900-01-05",2,2,null,null,":",null,""," ",null,null,null,null,0,{"$f":"IF(WEEKDAY(A116)=1,IF(D116=2,VLOOKUP(R116,Daten!$C$49:$E$102,3),\" \"),\"\")","v":""},8]
[{"$f":"+A115+1","v":"2021-02-26"},2,"1900-01-06",1,0,null,null,":",null,""," ",null,null,null,null,0,{"$f":"IF(WEEKDAY(A117)=1,IF(D117=2,VLOOKUP(R117,Daten!$C$49:$E$102,3),\" \"),\"\")","v":""},8]
[{"$f":"+A117","v":"2021-02-26"},2,"1900-01-06",2,2,null,null,":",null,""," ",null,null,null,null,0,{"$f":"IF(WEEKDAY(A118)=1,IF(D118=2,VLOOKUP(R118,Daten!$C$49:$E$102,3),\" \"),\"\")","v":""},8]
[{"$f":"+A117+1","v":"2021-02-27"},2,"1900-01-07",1,0,null,null,":",null,""," ",null,null,null,null,0,{"$f":"IF(WEEKDAY(A119)=1,IF(D119=2,VLOOKUP(R119,Daten!$C$49:$E$102,3),\" \"),\"\")","v":""},8]
[{"$f":"+A119","v":"2021-02-27"},2,"1900-01-07",2,2,null,null,":",null,""," ",null,null,null,null,0,{"$f":"IF(WEEKDAY(A120)=1,IF(D120=2,VLOOKUP(R120,Daten!$C$49:$E$102,3),\" \"),\"\")","v":""},8]
[{"$f":"+A119+1","v":"2021-02-28"},2,"1900-01-01",1,0,null,null,":",null,""," ",null,null,null,null,0,{"$f":"IF(WEEKDAY(A121)=1,IF(D121=2,VLOOKUP(R121,Daten!$C$49:$E$102,3),\" \"),\"\")","v":" "},8]
[{"$f":"+A121","v":"2021-02-28"},2,"1900-01-01",2,1,null,null,":",null,""," ",null,null,null,null,0,{"$f":"IF(WEEKDAY(A122)=1,IF(D122=2,VLOOKUP(R122,Daten!$C$49:$E$102,3),\" \"),\"\")","v":0},8]
[{"$f":"+A121+1","v":"2021-03-01"},3,"1900-01-02",1,0,null,null,":",null,""," ",null,null,null,null,0,{"$f":"IF(WEEKDAY(A123)=1,IF(D123=2,VLOOKUP(R123,Daten!$C$49:$E$102,3),\" \"),\"\")","v":""},9]
[{"$f":"+A123","v":"2021-03-01"},3,"1900-01-02",2,2,null,null,":",null,""," ",null,null,null,null,0,{"$f":"IF(WEEKDAY(A124)=1,IF(D124=2,VLOOKUP(R124,Daten!$C$49:$E$102,3),\" \"),\"\")","v":""},9]
[{"$f":"+A123+1","v":"2021-03-02"},3,"1900-01-03",1,0,null,null,":",null,""," ",null,null,null,null,0,{"$f":"IF(WEEKDAY(A125)=1,IF(D125=2,VLOOKUP(R125,Daten!$C$49:$E$102,3),\" \"),\"\")","v":""},9]
[{"$f":"+A125","v":"2021-03-02"},3,"1900-01-03",2,2,null,null,":",null,""," ",null,null,null,null,0,{"$f":"IF(WEEKDAY(A126)=1,IF(D126=2,VLOOKUP(R126,Daten!$C$49:$E$102,3),\" \"),\"\")","v":""},9]
[{"$f":"+A125+1","v":"2021-03-03"},3,"1900-01-04",1,0,null,null,":",null,""," ",null,null,null,null,0,{"$f":"IF(WEEKDAY(A127)=1,IF(D127=2,VLOOKUP(R127,Daten!$C$49:$E$102,3),\" \"),\"\")","v":""},9]
[{"$f":"+A127","v":"2021-03-03"},3,"1900-01-04",2,2,null,null,":",null,""," ",null,null,null,null,0,{"$f":"IF(WEEKDAY(A128)=1,IF(D128=2,VLOOKUP(R128,Daten!$C$49:$E$102,3),\" \"),\"\")","v":""},9]
[{"$f":"+A127+1","v":"2021-03-04"},3,"1900-01-05",1,0,null,null,":",null,""," ",null,null,null,null,0,{"$f":"IF(WEEKDAY(A129)=1,IF(D129=2,VLOOKUP(R129,Daten!$C$49:$E$102,3),\" \"),\"\")","v":""},9]
[{"$f":"+A129","v":"2021-03-04"},3,"1900-01-05",2,2,null,null,":",null,""," ",null,null,null,null,0,{"$f":"IF(WEEKDAY(A130)=1,IF(D130=2,VLOOKUP(R130,Daten!$C$49:$E$102,3),\" \"),\"\")","v":""},9]
[{"$f":"+A129+1","v":"2021-03-05"},3,"1900-01-06",1,0,null,null,":",null,""," ",null,null,null,null,0,{"$f":"IF(WEEKDAY(A131)=1,IF(D131=2,VLOOKUP(R131,Daten!$C$49:$E$102,3),\" \"),\"\")","v":""},9]
[{"$f":"+A131","v":"2021-03-05"},3,"1900-01-06",2,2,null,null,":",null,{"$f":"IF((+G132*60+I132)>0,G132*60+I132,\"\")","v":""},{"$f":"IF(+F132>0,F132/J132*60,\" \")","v":" "},null,null,null,null,0,{"$f":"IF(WEEKDAY(A132)=1,IF(D132=2,VLOOKUP(R132,Daten!$C$49:$E$102,3),\" \"),\"\")","v":""},9]
[{"$f":"+A131+1","v":"2021-03-06"},3,"1900-01-07",1,0,null,null,":",null,""," ",null,null,null,null,0,{"$f":"IF(WEEKDAY(A133)=1,IF(D133=2,VLOOKUP(R133,Daten!$C$49:$E$102,3),\" \"),\"\")","v":""},9]
[{"$f":"+A133","v":"2021-03-06"},{"$f":"MONTH(A134)","v":3},{"$f":"WEEKDAY(A134)","v":"1900-01-07"},2,{"$f":"IF(D134=2,IF(C134=1,1,2),0)","v":2},null,null,":",null,""," ",null,null,null,null,0,{"$f":"IF(WEEKDAY(A134)=1,IF(D134=2,VLOOKUP(R134,Daten!$C$49:$E$102,3),\" \"),\"\")","v":""},9]
[{"$f":"+A133+1","v":"2021-03-07"},3,"1900-01-01",1,0,null,null,":",null,""," ",null,null,null,null,{"$f":"IF(D135=2,+F135+F134,0)","v":0},{"$f":"IF(WEEKDAY(A135)=1,IF(D135=2,VLOOKUP(R135,Daten!$C$49:$E$102,3),\" \"),\"\")","v":" "},{"$f":"IF(WEEKDAY(A135)=2,IF(D135=1,R134+1,R134),R134)","v":9}]
[{"$f":"+A135","v":"2021-03-07"},3,"1900-01-01",2,1,null,null,":",null,""," ",null,null,null,null,0,{"$f":"IF(WEEKDAY(A136)=1,IF(D136=2,VLOOKUP(R136,Daten!$C$49:$E$102,3),\" \"),\"\")","v":0},9]
[{"$f":"+A135+1","v":"2021-03-08"},3,"1900-01-02",1,0,null,null,":",null,""," ",null,null,null,null,0,{"$f":"IF(WEEKDAY(A137)=1,IF(D137=2,VLOOKUP(R137,Daten!$C$49:$E$102,3),\" \"),\"\")","v":""},10]
[{"$f":"+A137","v":"2021-03-08"},3,"1900-01-02",2,2,null,null,":",null,""," ",null,null,null,null,0,{"$f":"IF(WEEKDAY(A138)=1,IF(D138=2,VLOOKUP(R138,Daten!$C$49:$E$102,3),\" \"),\"\")","v":""},10]
[{"$f":"+A137+1","v":"2021-03-09"},3,"1900-01-03",1,0,null,null,":",null,""," ",null,null,null,null,0,{"$f":"IF(WEEKDAY(A139)=1,IF(D139=2,VLOOKUP(R139,Daten!$C$49:$E$102,3),\" \"),\"\")","v":""},10]
[{"$f":"+A139","v":"2021-03-09"},3,"1900-01-03",2,2,null,null,":",null,""," ",null,null,null,null,0,{"$f":"IF(WEEKDAY(A140)=1,IF(D140=2,VLOOKUP(R140,Daten!$C$49:$E$102,3),\" \"),\"\")","v":""},10]
[{"$f":"+A139+1","v":"2021-03-10"},3,"1900-01-04",1,0,null,null,":",null,""," ",null,null,null,null,0,{"$f":"IF(WEEKDAY(A141)=1,IF(D141=2,VLOOKUP(R141,Daten!$C$49:$E$102,3),\" \"),\"\")","v":""},10]
[{"$f":"+A141","v":"2021-03-10"},3,"1900-01-04",2,2,null,null,":",null,""," ",null,null,null,null,0,{"$f":"IF(WEEKDAY(A142)=1,IF(D142=2,VLOOKUP(R142,Daten!$C$49:$E$102,3),\" \"),\"\")","v":""},10]
[{"$f":"+A141+1","v":"2021-03-11"},3,"1900-01-05",1,0,null,null,":",null,""," ",null,null,null,null,0,{"$f":"IF(WEEKDAY(A143)=1,IF(D143=2,VLOOKUP(R143,Daten!$C$49:$E$102,3),\" \"),\"\")","v":""},10]
[{"$f":"+A143","v":"2021-03-11"},3,"1900-01-05",2,2,null,null,":",null,""," ",null,null,null,null,0,{"$f":"IF(WEEKDAY(A144)=1,IF(D144=2,VLOOKUP(R144,Daten!$C$49:$E$102,3),\" \"),\"\")","v":""},10]
[{"$f":"+A143+1","v":"2021-03-12"},3,"1900-01-06",1,0,null,null,":",null,""," ",null,null,null,null,0,{"$f":"IF(WEEKDAY(A145)=1,IF(D145=2,VLOOKUP(R145,Daten!$C$49:$E$102,3),\" \"),\"\")","v":""},10]
[{"$f":"+A145","v":"2021-03-12"},3,"1900-01-06",2,2,null,null,":",null,""," ",null,null,null,null,0,{"$f":"IF(WEEKDAY(A146)=1,IF(D146=2,VLOOKUP(R146,Daten!$C$49:$E$102,3),\" \"),\"\")","v":""},10]
[{"$f":"+A145+1","v":"2021-03-13"},3,"1900-01-07",1,0,null,null,":",null,""," ",null,null,null,null,0,{"$f":"IF(WEEKDAY(A147)=1,IF(D147=2,VLOOKUP(R147,Daten!$C$49:$E$102,3),\" \"),\"\")","v":""},10]
[{"$f":"+A147","v":"2021-03-13"},3,"1900-01-07",2,2,null,null,":",null,""," ",null,null,null,null,0,{"$f":"IF(WEEKDAY(A148)=1,IF(D148=2,VLOOKUP(R148,Daten!$C$49:$E$102,3),\" \"),\"\")","v":""},10]
[{"$f":"+A147+1","v":"2021-03-14"},3,"1900-01-01",1,0,null,null,":",null,""," ",null,null,null,null,0,{"$f":"IF(WEEKDAY(A149)=1,IF(D149=2,VLOOKUP(R149,Daten!$C$49:$E$102,3),\" \"),\"\")","v":" "},10]
[{"$f":"+A149","v":"2021-03-14"},3,"1900-01-01",2,1,null,null,":",null,""," ",null,null,null,null,0,{"$f":"IF(WEEKDAY(A150)=1,IF(D150=2,VLOOKUP(R150,Daten!$C$49:$E$102,3),\" \"),\"\")","v":0},10]
[{"$f":"+A149+1","v":"2021-03-15"},3,"1900-01-02",1,0,null,null,":",null,""," ",null,null,null,null,0,{"$f":"IF(WEEKDAY(A151)=1,IF(D151=2,VLOOKUP(R151,Daten!$C$49:$E$102,3),\" \"),\"\")","v":""},11]
[{"$f":"+A151","v":"2021-03-15"},3,"1900-01-02",2,2,null,null,":",null,""," ",null,null,null,null,0,{"$f":"IF(WEEKDAY(A152)=1,IF(D152=2,VLOOKUP(R152,Daten!$C$49:$E$102,3),\" \"),\"\")","v":""},11]
[{"$f":"+A151+1","v":"2021-03-16"},3,"1900-01-03",1,0,null,null,":",null,""," ",null,null,null,null,0,{"$f":"IF(WEEKDAY(A153)=1,IF(D153=2,VLOOKUP(R153,Daten!$C$49:$E$102,3),\" \"),\"\")","v":""},11]
[{"$f":"+A153","v":"2021-03-16"},3,"1900-01-03",2,2,null,null,":",null,""," ",null,null,null,null,0,{"$f":"IF(WEEKDAY(A154)=1,IF(D154=2,VLOOKUP(R154,Daten!$C$49:$E$102,3),\" \"),\"\")","v":""},11]
[{"$f":"+A153+1","v":"2021-03-17"},3,"1900-01-04",1,0,null,null,":",null,""," ",null,null,null,null,0,{"$f":"IF(WEEKDAY(A155)=1,IF(D155=2,VLOOKUP(R155,Daten!$C$49:$E$102,3),\" \"),\"\")","v":""},11]
[{"$f":"+A155","v":"2021-03-17"},3,"1900-01-04",2,2,null,null,":",null,""," ",null,null,null,null,0,{"$f":"IF(WEEKDAY(A156)=1,IF(D156=2,VLOOKUP(R156,Daten!$C$49:$E$102,3),\" \"),\"\")","v":""},11]
[{"$f":"+A155+1","v":"2021-03-18"},3,"1900-01-05",1,0,null,null,":",null,""," ",null,null,null,null,0,{"$f":"IF(WEEKDAY(A157)=1,IF(D157=2,VLOOKUP(R157,Daten!$C$49:$E$102,3),\" \"),\"\")","v":""},11]
[{"$f":"+A157","v":"2021-03-18"},3,"1900-01-05",2,2,null,null,":",null,""," ",null,null,null,null,0,{"$f":"IF(WEEKDAY(A158)=1,IF(D158=2,VLOOKUP(R158,Daten!$C$49:$E$102,3),\" \"),\"\")","v":""},11]
[{"$f":"+A157+1","v":"2021-03-19"},3,"1900-01-06",1,0,null,null,":",null,""," ",null,null,null,null,0,{"$f":"IF(WEEKDAY(A159)=1,IF(D159=2,VLOOKUP(R159,Daten!$C$49:$E$102,3),\" \"),\"\")","v":""},11]
[{"$f":"+A159","v":"2021-03-19"},3,"1900-01-06",2,2,null,null,":",null,""," ",null,null,null,null,0,{"$f":"IF(WEEKDAY(A160)=1,IF(D160=2,VLOOKUP(R160,Daten!$C$49:$E$102,3),\" \"),\"\")","v":""},11]
[{"$f":"+A159+1","v":"2021-03-20"},3,"1900-01-07",1,0,null,null,":",null,""," ",null,null,null,null,0,{"$f":"IF(WEEKDAY(A161)=1,IF(D161=2,VLOOKUP(R161,Daten!$C$49:$E$102,3),\" \"),\"\")","v":""},11]
[{"$f":"+A161","v":"2021-03-20"},3,"1900-01-07",2,2,null,null,":",null,""," ",null,null,null,null,0,{"$f":"IF(WEEKDAY(A162)=1,IF(D162=2,VLOOKUP(R162,Daten!$C$49:$E$102,3),\" \"),\"\")","v":""},11]
[{"$f":"+A161+1","v":"2021-03-21"},3,"1900-01-01",1,0,null,null,":",null,""," ",null,null,null,null,0,{"$f":"IF(WEEKDAY(A163)=1,IF(D163=2,VLOOKUP(R163,Daten!$C$49:$E$102,3),\" \"),\"\")","v":" "},11]
[{"$f":"+A163","v":"2021-03-21"},3,"1900-01-01",2,1,null,null,":",null,""," ",null,null,null,null,0,{"$f":"IF(WEEKDAY(A164)=1,IF(D164=2,VLOOKUP(R164,Daten!$C$49:$E$102,3),\" \"),\"\")","v":0},11]
[{"$f":"+A163+1","v":"2021-03-22"},3,"1900-01-02",1,0,null,null,":",null,""," ",null,null,null,null,0,{"$f":"IF(WEEKDAY(A165)=1,IF(D165=2,VLOOKUP(R165,Daten!$C$49:$E$102,3),\" \"),\"\")","v":""},12]
[{"$f":"+A165","v":"2021-03-22"},3,"1900-01-02",2,2,null,null,":",null,""," ",null,null,null,null,0,{"$f":"IF(WEEKDAY(A166)=1,IF(D166=2,VLOOKUP(R166,Daten!$C$49:$E$102,3),\" \"),\"\")","v":""},12]
[{"$f":"+A165+1","v":"2021-03-23"},3,"1900-01-03",1,0,null,null,":",null,""," ",null,null,null,null,0,{"$f":"IF(WEEKDAY(A167)=1,IF(D167=2,VLOOKUP(R167,Daten!$C$49:$E$102,3),\" \"),\"\")","v":""},12]
[{"$f":"+A167","v":"2021-03-23"},3,"1900-01-03",2,2,null,null,":",null,""," ",null,null,null,null,0,{"$f":"IF(WEEKDAY(A168)=1,IF(D168=2,VLOOKUP(R168,Daten!$C$49:$E$102,3),\" \"),\"\")","v":""},12]
[{"$f":"+A167+1","v":"2021-03-24"},3,"1900-01-04",1,0,null,null,":",null,""," ",null,null,null,null,0,{"$f":"IF(WEEKDAY(A169)=1,IF(D169=2,VLOOKUP(R169,Daten!$C$49:$E$102,3),\" \"),\"\")","v":""},12]
[{"$f":"+A169","v":"2021-03-24"},3,"1900-01-04",2,2,null,null,":",null,""," ",null,null,null,null,0,{"$f":"IF(WEEKDAY(A170)=1,IF(D170=2,VLOOKUP(R170,Daten!$C$49:$E$102,3),\" \"),\"\")","v":""},12]
[{"$f":"+A169+1","v":"2021-03-25"},3,"1900-01-05",1,0,null,null,":",null,""," ",null,null,null,null,0,{"$f":"IF(WEEKDAY(A171)=1,IF(D171=2,VLOOKUP(R171,Daten!$C$49:$E$102,3),\" \"),\"\")","v":""},12]
[{"$f":"+A171","v":"2021-03-25"},3,"1900-01-05",2,2,null,null,":",null,""," ",null,null,null,null,0,{"$f":"IF(WEEKDAY(A172)=1,IF(D172=2,VLOOKUP(R172,Daten!$C$49:$E$102,3),\" \"),\"\")","v":""},12]
[{"$f":"+A171+1","v":"2021-03-26"},3,"1900-01-06",1,0,null,null,":",null,""," ",null,null,null,null,0,{"$f":"IF(WEEKDAY(A173)=1,IF(D173=2,VLOOKUP(R173,Daten!$C$49:$E$102,3),\" \"),\"\")","v":""},12]
[{"$f":"+A173","v":"2021-03-26"},3,"1900-01-06",2,2,null,null,":",null,""," ",null,null,null,null,0,{"$f":"IF(WEEKDAY(A174)=1,IF(D174=2,VLOOKUP(R174,Daten!$C$49:$E$102,3),\" \"),\"\")","v":""},12]
[{"$f":"+A173+1","v":"2021-03-27"},3,"1900-01-07",1,0,null,null,":",null,""," ",null,null,null,null,0,{"$f":"IF(WEEKDAY(A175)=1,IF(D175=2,VLOOKUP(R175,Daten!$C$49:$E$102,3),\" \"),\"\")","v":""},12]
[{"$f":"+A175","v":"2021-03-27"},3,"1900-01-07",2,2,null,null,":",null,""," ",null,null,null,null,0,{"$f":"IF(WEEKDAY(A176)=1,IF(D176=2,VLOOKUP(R176,Daten!$C$49:$E$102,3),\" \"),\"\")","v":""},12]
[{"$f":"+A175+1","v":"2021-03-28"},3,"1900-01-01",1,0,null,null,":",null,""," ",null,null,null,null,0,{"$f":"IF(WEEKDAY(A177)=1,IF(D177=2,VLOOKUP(R177,Daten!$C$49:$E$102,3),\" \"),\"\")","v":" "},12]
[{"$f":"+A177","v":"2021-03-28"},3,"1900-01-01",2,1,null,null,":",null,""," ",null,null,null,null,0,{"$f":"IF(WEEKDAY(A178)=1,IF(D178=2,VLOOKUP(R178,Daten!$C$49:$E$102,3),\" \"),\"\")","v":0},12]
[{"$f":"+A177+1","v":"2021-03-29"},3,"1900-01-02",1,0,null,null,":",null,""," ",null,null,null,null,0,{"$f":"IF(WEEKDAY(A179)=1,IF(D179=2,VLOOKUP(R179,Daten!$C$49:$E$102,3),\" \"),\"\")","v":""},13]
[{"$f":"+A179","v":"2021-03-29"},3,"1900-01-02",2,2,null,null,":",null,""," ",null,null,null,null,0,{"$f":"IF(WEEKDAY(A180)=1,IF(D180=2,VLOOKUP(R180,Daten!$C$49:$E$102,3),\" \"),\"\")","v":""},13]
[{"$f":"+A179+1","v":"2021-03-30"},3,"1900-01-03",1,0,null,null,":",null,""," ",null,null,null,null,0,{"$f":"IF(WEEKDAY(A181)=1,IF(D181=2,VLOOKUP(R181,Daten!$C$49:$E$102,3),\" \"),\"\")","v":""},13]
[{"$f":"+A181","v":"2021-03-30"},3,"1900-01-03",2,2,null,null,":",null,""," ",null,null,null,null,0,{"$f":"IF(WEEKDAY(A182)=1,IF(D182=2,VLOOKUP(R182,Daten!$C$49:$E$102,3),\" \"),\"\")","v":""},13]
[{"$f":"+A181+1","v":"2021-03-31"},3,"1900-01-04",1,0,null,null,":",null,""," ",null,null,null,null,0,{"$f":"IF(WEEKDAY(A183)=1,IF(D183=2,VLOOKUP(R183,Daten!$C$49:$E$102,3),\" \"),\"\")","v":""},13]
[{"$f":"+A183","v":"2021-03-31"},3,"1900-01-04",2,2,null,null,":",null,""," ",null,null,null,null,0,{"$f":"IF(WEEKDAY(A184)=1,IF(D184=2,VLOOKUP(R184,Daten!$C$49:$E$102,3),\" \"),\"\")","v":""},13]
[{"$f":"+A183+1","v":"2021-04-01"},4,"1900-01-05",1,0,null,null,":",null,""," ",null,null,null,null,0,{"$f":"IF(WEEKDAY(A185)=1,IF(D185=2,VLOOKUP(R185,Daten!$C$49:$E$102,3),\" \"),\"\")","v":""},13]
[{"$f":"+A185","v":"2021-04-01"},4,"1900-01-05",2,2,null,null,":",null,""," ",null,null,null,null,0,{"$f":"IF(WEEKDAY(A186)=1,IF(D186=2,VLOOKUP(R186,Daten!$C$49:$E$102,3),\" \"),\"\")","v":""},13]
[{"$f":"+A185+1","v":"2021-04-02"},4,"1900-01-06",1,0,null,null,":",null,""," ",null,null,null,null,0,{"$f":"IF(WEEKDAY(A187)=1,IF(D187=2,VLOOKUP(R187,Daten!$C$49:$E$102,3),\" \"),\"\")","v":""},13]
[{"$f":"+A187","v":"2021-04-02"},4,"1900-01-06",2,2,null,null,":",null,""," ",null,null,null,null,0,{"$f":"IF(WEEKDAY(A188)=1,IF(D188=2,VLOOKUP(R188,Daten!$C$49:$E$102,3),\" \"),\"\")","v":""},13]
[{"$f":"+A187+1","v":"2021-04-03"},4,"1900-01-07",1,0,null,null,":",null,""," ",null,null,null,null,0,{"$f":"IF(WEEKDAY(A189)=1,IF(D189=2,VLOOKUP(R189,Daten!$C$49:$E$102,3),\" \"),\"\")","v":""},13]
[{"$f":"+A189","v":"2021-04-03"},4,"1900-01-07",2,2,null,null,":",null,""," ",null,null,null,null,0,{"$f":"IF(WEEKDAY(A190)=1,IF(D190=2,VLOOKUP(R190,Daten!$C$49:$E$102,3),\" \"),\"\")","v":""},13]
[{"$f":"+A189+1","v":"2021-04-04"},4,"1900-01-01",1,0,null,null,":",null,""," ",null,null,null,null,0,{"$f":"IF(WEEKDAY(A191)=1,IF(D191=2,VLOOKUP(R191,Daten!$C$49:$E$102,3),\" \"),\"\")","v":" "},13]
[{"$f":"+A191","v":"2021-04-04"},4,"1900-01-01",2,1,null,null,":",null,""," ",null,null,null,null,0,{"$f":"IF(WEEKDAY(A192)=1,IF(D192=2,VLOOKUP(R192,Daten!$C$49:$E$102,3),\" \"),\"\")","v":0},13]
[{"$f":"+A191+1","v":"2021-04-05"},4,"1900-01-02",1,0,null,null,":",null,""," ",null,null,null,null,0,{"$f":"IF(WEEKDAY(A193)=1,IF(D193=2,VLOOKUP(R193,Daten!$C$49:$E$102,3),\" \"),\"\")","v":""},14]
[{"$f":"+A193","v":"2021-04-05"},4,"1900-01-02",2,2,null,null,":",null,""," ",null,null,null,null,0,{"$f":"IF(WEEKDAY(A194)=1,IF(D194=2,VLOOKUP(R194,Daten!$C$49:$E$102,3),\" \"),\"\")","v":""},14]
[{"$f":"+A193+1","v":"2021-04-06"},4,"1900-01-03",1,0,null,null,":",null,""," ",null,null,null,null,0,{"$f":"IF(WEEKDAY(A195)=1,IF(D195=2,VLOOKUP(R195,Daten!$C$49:$E$102,3),\" \"),\"\")","v":""},14]
[{"$f":"+A195","v":"2021-04-06"},4,"1900-01-03",2,2,null,null,":",null,{"$f":"IF((+G196*60+I196)>0,G196*60+I196,\"\")","v":""},{"$f":"IF(+F196>0,F196/J196*60,\" \")","v":" "},null,null,null,null,0,{"$f":"IF(WEEKDAY(A196)=1,IF(D196=2,VLOOKUP(R196,Daten!$C$49:$E$102,3),\" \"),\"\")","v":""},14]
[{"$f":"+A195+1","v":"2021-04-07"},4,"1900-01-04",1,0,null,null,":",null,""," ",null,null,null,null,0,{"$f":"IF(WEEKDAY(A197)=1,IF(D197=2,VLOOKUP(R197,Daten!$C$49:$E$102,3),\" \"),\"\")","v":""},14]
[{"$f":"+A197","v":"2021-04-07"},{"$f":"MONTH(A198)","v":4},{"$f":"WEEKDAY(A198)","v":"1900-01-04"},2,{"$f":"IF(D198=2,IF(C198=1,1,2),0)","v":2},null,null,":",null,""," ",null,null,null,null,0,{"$f":"IF(WEEKDAY(A198)=1,IF(D198=2,VLOOKUP(R198,Daten!$C$49:$E$102,3),\" \"),\"\")","v":""},14]
[{"$f":"+A197+1","v":"2021-04-08"},4,"1900-01-05",1,0,null,null,":",null,""," ",null,null,null,null,{"$f":"IF(D199=2,+F199+F198,0)","v":0},{"$f":"IF(WEEKDAY(A199)=1,IF(D199=2,VLOOKUP(R199,Daten!$C$49:$E$102,3),\" \"),\"\")","v":""},{"$f":"IF(WEEKDAY(A199)=2,IF(D199=1,R198+1,R198),R198)","v":14}]
[{"$f":"+A199","v":"2021-04-08"},4,"1900-01-05",2,2,null,null,":",null,""," ",null,null,null,null,0,{"$f":"IF(WEEKDAY(A200)=1,IF(D200=2,VLOOKUP(R200,Daten!$C$49:$E$102,3),\" \"),\"\")","v":""},14]
[{"$f":"+A199+1","v":"2021-04-09"},4,"1900-01-06",1,0,null,null,":",null,""," ",null,null,null,null,0,{"$f":"IF(WEEKDAY(A201)=1,IF(D201=2,VLOOKUP(R201,Daten!$C$49:$E$102,3),\" \"),\"\")","v":""},14]
[{"$f":"+A201","v":"2021-04-09"},4,"1900-01-06",2,2,null,null,":",null,""," ",null,null,null,null,0,{"$f":"IF(WEEKDAY(A202)=1,IF(D202=2,VLOOKUP(R202,Daten!$C$49:$E$102,3),\" \"),\"\")","v":""},14]
[{"$f":"+A201+1","v":"2021-04-10"},4,"1900-01-07",1,0,null,null,":",null,""," ",null,null,null,null,0,{"$f":"IF(WEEKDAY(A203)=1,IF(D203=2,VLOOKUP(R203,Daten!$C$49:$E$102,3),\" \"),\"\")","v":""},14]
[{"$f":"+A203","v":"2021-04-10"},4,"1900-01-07",2,2,null,null,":",null,""," ",null,null,null,null,0,{"$f":"IF(WEEKDAY(A204)=1,IF(D204=2,VLOOKUP(R204,Daten!$C$49:$E$102,3),\" \"),\"\")","v":""},14]
[{"$f":"+A203+1","v":"2021-04-11"},4,"1900-01-01",1,0,null,null,":",null,""," ",null,null,null,null,0,{"$f":"IF(WEEKDAY(A205)=1,IF(D205=2,VLOOKUP(R205,Daten!$C$49:$E$102,3),\" \"),\"\")","v":" "},14]
[{"$f":"+A205","v":"2021-04-11"},4,"1900-01-01",2,1,null,null,":",null,""," ",null,null,null,null,0,{"$f":"IF(WEEKDAY(A206)=1,IF(D206=2,VLOOKUP(R206,Daten!$C$49:$E$102,3),\" \"),\"\")","v":0},14]
[{"$f":"+A205+1","v":"2021-04-12"},4,"1900-01-02",1,0,null,null,":",null,""," ",null,null,null,null,0,{"$f":"IF(WEEKDAY(A207)=1,IF(D207=2,VLOOKUP(R207,Daten!$C$49:$E$102,3),\" \"),\"\")","v":""},15]
[{"$f":"+A207","v":"2021-04-12"},4,"1900-01-02",2,2,null,null,":",null,""," ",null,null,null,null,0,{"$f":"IF(WEEKDAY(A208)=1,IF(D208=2,VLOOKUP(R208,Daten!$C$49:$E$102,3),\" \"),\"\")","v":""},15]
[{"$f":"+A207+1","v":"2021-04-13"},4,"1900-01-03",1,0,null,null,":",null,""," ",null,null,null,null,0,{"$f":"IF(WEEKDAY(A209)=1,IF(D209=2,VLOOKUP(R209,Daten!$C$49:$E$102,3),\" \"),\"\")","v":""},15]
[{"$f":"+A209","v":"2021-04-13"},4,"1900-01-03",2,2,null,null,":",null,""," ",null,null,null,null,0,{"$f":"IF(WEEKDAY(A210)=1,IF(D210=2,VLOOKUP(R210,Daten!$C$49:$E$102,3),\" \"),\"\")","v":""},15]
[{"$f":"+A209+1","v":"2021-04-14"},4,"1900-01-04",1,0,null,null,":",null,""," ",null,null,null,null,0,{"$f":"IF(WEEKDAY(A211)=1,IF(D211=2,VLOOKUP(R211,Daten!$C$49:$E$102,3),\" \"),\"\")","v":""},15]
[{"$f":"+A211","v":"2021-04-14"},4,"1900-01-04",2,2,null,null,":",null,""," ",null,null,null,null,0,{"$f":"IF(WEEKDAY(A212)=1,IF(D212=2,VLOOKUP(R212,Daten!$C$49:$E$102,3),\" \"),\"\")","v":""},15]
[{"$f":"+A211+1","v":"2021-04-15"},4,"1900-01-05",1,0,null,null,":",null,""," ",null,null,null,null,0,{"$f":"IF(WEEKDAY(A213)=1,IF(D213=2,VLOOKUP(R213,Daten!$C$49:$E$102,3),\" \"),\"\")","v":""},15]
[{"$f":"+A213","v":"2021-04-15"},4,"1900-01-05",2,2,null,null,":",null,""," ",null,null,null,null,0,{"$f":"IF(WEEKDAY(A214)=1,IF(D214=2,VLOOKUP(R214,Daten!$C$49:$E$102,3),\" \"),\"\")","v":""},15]
[{"$f":"+A213+1","v":"2021-04-16"},4,"1900-01-06",1,0,null,null,":",null,""," ",null,null,null,null,0,{"$f":"IF(WEEKDAY(A215)=1,IF(D215=2,VLOOKUP(R215,Daten!$C$49:$E$102,3),\" \"),\"\")","v":""},15]
[{"$f":"+A215","v":"2021-04-16"},4,"1900-01-06",2,2,null,null,":",null,""," ",null,null,null,null,0,{"$f":"IF(WEEKDAY(A216)=1,IF(D216=2,VLOOKUP(R216,Daten!$C$49:$E$102,3),\" \"),\"\")","v":""},15]
[{"$f":"+A215+1","v":"2021-04-17"},4,"1900-01-07",1,0,null,null,":",null,""," ",null,null,null,null,0,{"$f":"IF(WEEKDAY(A217)=1,IF(D217=2,VLOOKUP(R217,Daten!$C$49:$E$102,3),\" \"),\"\")","v":""},15]
[{"$f":"+A217","v":"2021-04-17"},4,"1900-01-07",2,2,null,null,":",null,""," ",null,null,null,null,0,{"$f":"IF(WEEKDAY(A218)=1,IF(D218=2,VLOOKUP(R218,Daten!$C$49:$E$102,3),\" \"),\"\")","v":""},15]
[{"$f":"+A217+1","v":"2021-04-18"},4,"1900-01-01",1,0,null,null,":",null,""," ",null,null,null,null,0,{"$f":"IF(WEEKDAY(A219)=1,IF(D219=2,VLOOKUP(R219,Daten!$C$49:$E$102,3),\" \"),\"\")","v":" "},15]
[{"$f":"+A219","v":"2021-04-18"},4,"1900-01-01",2,1,null,null,":",null,""," ",null,null,null,null,0,{"$f":"IF(WEEKDAY(A220)=1,IF(D220=2,VLOOKUP(R220,Daten!$C$49:$E$102,3),\" \"),\"\")","v":0},15]
[{"$f":"+A219+1","v":"2021-04-19"},4,"1900-01-02",1,0,null,null,":",null,""," ",null,null,null,null,0,{"$f":"IF(WEEKDAY(A221)=1,IF(D221=2,VLOOKUP(R221,Daten!$C$49:$E$102,3),\" \"),\"\")","v":""},16]
[{"$f":"+A221","v":"2021-04-19"},4,"1900-01-02",2,2,null,null,":",null,""," ",null,null,null,null,0,{"$f":"IF(WEEKDAY(A222)=1,IF(D222=2,VLOOKUP(R222,Daten!$C$49:$E$102,3),\" \"),\"\")","v":""},16]
[{"$f":"+A221+1","v":"2021-04-20"},4,"1900-01-03",1,0,null,null,":",null,""," ",null,null,null,null,0,{"$f":"IF(WEEKDAY(A223)=1,IF(D223=2,VLOOKUP(R223,Daten!$C$49:$E$102,3),\" \"),\"\")","v":""},16]
[{"$f":"+A223","v":"2021-04-20"},4,"1900-01-03",2,2,null,null,":",null,""," ",null,null,null,null,0,{"$f":"IF(WEEKDAY(A224)=1,IF(D224=2,VLOOKUP(R224,Daten!$C$49:$E$102,3),\" \"),\"\")","v":""},16]
[{"$f":"+A223+1","v":"2021-04-21"},4,"1900-01-04",1,0,null,null,":",null,""," ",null,null,null,null,0,{"$f":"IF(WEEKDAY(A225)=1,IF(D225=2,VLOOKUP(R225,Daten!$C$49:$E$102,3),\" \"),\"\")","v":""},16]
[{"$f":"+A225","v":"2021-04-21"},4,"1900-01-04",2,2,null,null,":",null,""," ",null,null,null,null,0,{"$f":"IF(WEEKDAY(A226)=1,IF(D226=2,VLOOKUP(R226,Daten!$C$49:$E$102,3),\" \"),\"\")","v":""},16]
[{"$f":"+A225+1","v":"2021-04-22"},4,"1900-01-05",1,0,null,null,":",null,""," ",null,null,null,null,0,{"$f":"IF(WEEKDAY(A227)=1,IF(D227=2,VLOOKUP(R227,Daten!$C$49:$E$102,3),\" \"),\"\")","v":""},16]
[{"$f":"+A227","v":"2021-04-22"},4,"1900-01-05",2,2,null,null,":",null,""," ",null,null,null,null,0,{"$f":"IF(WEEKDAY(A228)=1,IF(D228=2,VLOOKUP(R228,Daten!$C$49:$E$102,3),\" \"),\"\")","v":""},16]
[{"$f":"+A227+1","v":"2021-04-23"},4,"1900-01-06",1,0,null,null,":",null,""," ",null,null,null,null,0,{"$f":"IF(WEEKDAY(A229)=1,IF(D229=2,VLOOKUP(R229,Daten!$C$49:$E$102,3),\" \"),\"\")","v":""},16]
[{"$f":"+A229","v":"2021-04-23"},4,"1900-01-06",2,2,null,null,":",null,""," ",null,null,null,null,0,{"$f":"IF(WEEKDAY(A230)=1,IF(D230=2,VLOOKUP(R230,Daten!$C$49:$E$102,3),\" \"),\"\")","v":""},16]
[{"$f":"+A229+1","v":"2021-04-24"},4,"1900-01-07",1,0,null,null,":",null,""," ",null,null,null,null,0,{"$f":"IF(WEEKDAY(A231)=1,IF(D231=2,VLOOKUP(R231,Daten!$C$49:$E$102,3),\" \"),\"\")","v":""},16]
[{"$f":"+A231","v":"2021-04-24"},4,"1900-01-07",2,2,null,null,":",null,""," ",null,null,null,null,0,{"$f":"IF(WEEKDAY(A232)=1,IF(D232=2,VLOOKUP(R232,Daten!$C$49:$E$102,3),\" \"),\"\")","v":""},16]
[{"$f":"+A231+1","v":"2021-04-25"},4,"1900-01-01",1,0,null,null,":",null,""," ",null,null,null,null,0,{"$f":"IF(WEEKDAY(A233)=1,IF(D233=2,VLOOKUP(R233,Daten!$C$49:$E$102,3),\" \"),\"\")","v":" "},16]
[{"$f":"+A233","v":"2021-04-25"},4,"1900-01-01",2,1,null,null,":",null,""," ",null,null,null,null,0,{"$f":"IF(WEEKDAY(A234)=1,IF(D234=2,VLOOKUP(R234,Daten!$C$49:$E$102,3),\" \"),\"\")","v":0},16]
[{"$f":"+A233+1","v":"2021-04-26"},4,"1900-01-02",1,0,null,null,":",null,""," ",null,null,null,null,0,{"$f":"IF(WEEKDAY(A235)=1,IF(D235=2,VLOOKUP(R235,Daten!$C$49:$E$102,3),\" \"),\"\")","v":""},17]
[{"$f":"+A235","v":"2021-04-26"},4,"1900-01-02",2,2,null,null,":",null,""," ",null,null,null,null,0,{"$f":"IF(WEEKDAY(A236)=1,IF(D236=2,VLOOKUP(R236,Daten!$C$49:$E$102,3),\" \"),\"\")","v":""},17]
[{"$f":"+A235+1","v":"2021-04-27"},4,"1900-01-03",1,0,null,null,":",null,""," ",null,null,null,null,0,{"$f":"IF(WEEKDAY(A237)=1,IF(D237=2,VLOOKUP(R237,Daten!$C$49:$E$102,3),\" \"),\"\")","v":""},17]
[{"$f":"+A237","v":"2021-04-27"},4,"1900-01-03",2,2,null,null,":",null,""," ",null,null,null,null,0,{"$f":"IF(WEEKDAY(A238)=1,IF(D238=2,VLOOKUP(R238,Daten!$C$49:$E$102,3),\" \"),\"\")","v":""},17]
[{"$f":"+A237+1","v":"2021-04-28"},4,"1900-01-04",1,0,null,null,":",null,""," ",null,null,null,null,0,{"$f":"IF(WEEKDAY(A239)=1,IF(D239=2,VLOOKUP(R239,Daten!$C$49:$E$102,3),\" \"),\"\")","v":""},17]
[{"$f":"+A239","v":"2021-04-28"},4,"1900-01-04",2,2,null,null,":",null,""," ",null,null,null,null,0,{"$f":"IF(WEEKDAY(A240)=1,IF(D240=2,VLOOKUP(R240,Daten!$C$49:$E$102,3),\" \"),\"\")","v":""},17]
[{"$f":"+A239+1","v":"2021-04-29"},4,"1900-01-05",1,0,null,null,":",null,""," ",null,null,null,null,0,{"$f":"IF(WEEKDAY(A241)=1,IF(D241=2,VLOOKUP(R241,Daten!$C$49:$E$102,3),\" \"),\"\")","v":""},17]
[{"$f":"+A241","v":"2021-04-29"},4,"1900-01-05",2,2,null,null,":",null,""," ",null,null,null,null,0,{"$f":"IF(WEEKDAY(A242)=1,IF(D242=2,VLOOKUP(R242,Daten!$C$49:$E$102,3),\" \"),\"\")","v":""},17]
[{"$f":"+A241+1","v":"2021-04-30"},4,"1900-01-06",1,0,null,null,":",null,""," ",null,null,null,null,0,{"$f":"IF(WEEKDAY(A243)=1,IF(D243=2,VLOOKUP(R243,Daten!$C$49:$E$102,3),\" \"),\"\")","v":""},17]
[{"$f":"+A243","v":"2021-04-30"},4,"1900-01-06",2,2,null,null,":",null,""," ",null,null,null,null,0,{"$f":"IF(WEEKDAY(A244)=1,IF(D244=2,VLOOKUP(R244,Daten!$C$49:$E$102,3),\" \"),\"\")","v":""},17]
[{"$f":"+A243+1","v":"2021-05-01"},5,"1900-01-07",1,0,null,null,":",null,""," ",null,null,null,null,0,{"$f":"IF(WEEKDAY(A245)=1,IF(D245=2,VLOOKUP(R245,Daten!$C$49:$E$102,3),\" \"),\"\")","v":""},17]
[{"$f":"+A245","v":"2021-05-01"},5,"1900-01-07",2,2,null,null,":",null,""," ",null,null,null,null,0,{"$f":"IF(WEEKDAY(A246)=1,IF(D246=2,VLOOKUP(R246,Daten!$C$49:$E$102,3),\" \"),\"\")","v":""},17]
[{"$f":"+A245+1","v":"2021-05-02"},5,"1900-01-01",1,0,null,null,":",null,""," ",null,null,null,null,0,{"$f":"IF(WEEKDAY(A247)=1,IF(D247=2,VLOOKUP(R247,Daten!$C$49:$E$102,3),\" \"),\"\")","v":" "},17]
[{"$f":"+A247","v":"2021-05-02"},5,"1900-01-01",2,1,null,null,":",null,""," ",null,null,null,null,0,{"$f":"IF(WEEKDAY(A248)=1,IF(D248=2,VLOOKUP(R248,Daten!$C$49:$E$102,3),\" \"),\"\")","v":0},17]
[{"$f":"+A247+1","v":"2021-05-03"},5,"1900-01-02",1,0,null,null,":",null,""," ",null,null,null,null,0,{"$f":"IF(WEEKDAY(A249)=1,IF(D249=2,VLOOKUP(R249,Daten!$C$49:$E$102,3),\" \"),\"\")","v":""},18]
[{"$f":"+A249","v":"2021-05-03"},5,"1900-01-02",2,2,null,null,":",null,""," ",null,null,null,null,0,{"$f":"IF(WEEKDAY(A250)=1,IF(D250=2,VLOOKUP(R250,Daten!$C$49:$E$102,3),\" \"),\"\")","v":""},18]
[{"$f":"+A249+1","v":"2021-05-04"},5,"1900-01-03",1,0,null,null,":",null,""," ",null,null,null,null,0,{"$f":"IF(WEEKDAY(A251)=1,IF(D251=2,VLOOKUP(R251,Daten!$C$49:$E$102,3),\" \"),\"\")","v":""},18]
[{"$f":"+A251","v":"2021-05-04"},5,"1900-01-03",2,2,null,null,":",null,""," ",null,null,null,null,0,{"$f":"IF(WEEKDAY(A252)=1,IF(D252=2,VLOOKUP(R252,Daten!$C$49:$E$102,3),\" \"),\"\")","v":""},18]
[{"$f":"+A251+1","v":"2021-05-05"},5,"1900-01-04",1,0,null,null,":",null,""," ",null,null,null,null,0,{"$f":"IF(WEEKDAY(A253)=1,IF(D253=2,VLOOKUP(R253,Daten!$C$49:$E$102,3),\" \"),\"\")","v":""},18]
[{"$f":"+A253","v":"2021-05-05"},5,"1900-01-04",2,2,null,null,":",null,""," ",null,null,null,null,0,{"$f":"IF(WEEKDAY(A254)=1,IF(D254=2,VLOOKUP(R254,Daten!$C$49:$E$102,3),\" \"),\"\")","v":""},18]
[{"$f":"+A253+1","v":"2021-05-06"},5,"1900-01-05",1,0,null,null,":",null,""," ",null,null,null,null,0,{"$f":"IF(WEEKDAY(A255)=1,IF(D255=2,VLOOKUP(R255,Daten!$C$49:$E$102,3),\" \"),\"\")","v":""},18]
[{"$f":"+A255","v":"2021-05-06"},5,"1900-01-05",2,2,null,null,":",null,""," ",null,null,null,null,0,{"$f":"IF(WEEKDAY(A256)=1,IF(D256=2,VLOOKUP(R256,Daten!$C$49:$E$102,3),\" \"),\"\")","v":""},18]
[{"$f":"+A255+1","v":"2021-05-07"},5,"1900-01-06",1,0,null,null,":",null,""," ",null,null,null,null,0,{"$f":"IF(WEEKDAY(A257)=1,IF(D257=2,VLOOKUP(R257,Daten!$C$49:$E$102,3),\" \"),\"\")","v":""},18]
[{"$f":"+A257","v":"2021-05-07"},5,"1900-01-06",2,2,null,null,":",null,""," ",null,null,null,null,0,{"$f":"IF(WEEKDAY(A258)=1,IF(D258=2,VLOOKUP(R258,Daten!$C$49:$E$102,3),\" \"),\"\")","v":""},18]
[{"$f":"+A257+1","v":"2021-05-08"},5,"1900-01-07",1,0,null,null,":",null,""," ",null,null,null,null,0,{"$f":"IF(WEEKDAY(A259)=1,IF(D259=2,VLOOKUP(R259,Daten!$C$49:$E$102,3),\" \"),\"\")","v":""},18]
[{"$f":"+A259","v":"2021-05-08"},5,"1900-01-07",2,2,null,null,":",null,{"$f":"IF((+G260*60+I260)>0,G260*60+I260,\"\")","v":""},{"$f":"IF(+F260>0,F260/J260*60,\" \")","v":" "},null,null,null,null,0,{"$f":"IF(WEEKDAY(A260)=1,IF(D260=2,VLOOKUP(R260,Daten!$C$49:$E$102,3),\" \"),\"\")","v":""},18]
[{"$f":"+A259+1","v":"2021-05-09"},5,"1900-01-01",1,0,null,null,":",null,""," ",null,null,null,null,0,{"$f":"IF(WEEKDAY(A261)=1,IF(D261=2,VLOOKUP(R261,Daten!$C$49:$E$102,3),\" \"),\"\")","v":" "},18]
[{"$f":"+A261","v":"2021-05-09"},{"$f":"MONTH(A262)","v":5},{"$f":"WEEKDAY(A262)","v":"1900-01-01"},2,{"$f":"IF(D262=2,IF(C262=1,1,2),0)","v":1},null,null,":",null,""," ",null,null,null,null,0,{"$f":"IF(WEEKDAY(A262)=1,IF(D262=2,VLOOKUP(R262,Daten!$C$49:$E$102,3),\" \"),\"\")","v":0},18]
[{"$f":"+A261+1","v":"2021-05-10"},5,"1900-01-02",1,0,null,null,":",null,""," ",null,null,null,null,{"$f":"IF(D263=2,+F263+F262,0)","v":0},{"$f":"IF(WEEKDAY(A263)=1,IF(D263=2,VLOOKUP(R263,Daten!$C$49:$E$102,3),\" \"),\"\")","v":""},{"$f":"IF(WEEKDAY(A263)=2,IF(D263=1,R262+1,R262),R262)","v":19}]
[{"$f":"+A263","v":"2021-05-10"},5,"1900-01-02",2,2,null,null,":",null,""," ",null,null,null,null,0,{"$f":"IF(WEEKDAY(A264)=1,IF(D264=2,VLOOKUP(R264,Daten!$C$49:$E$102,3),\" \"),\"\")","v":""},19]
[{"$f":"+A263+1","v":"2021-05-11"},5,"1900-01-03",1,0,null,null,":",null,""," ",null,null,null,null,0,{"$f":"IF(WEEKDAY(A265)=1,IF(D265=2,VLOOKUP(R265,Daten!$C$49:$E$102,3),\" \"),\"\")","v":""},19]
[{"$f":"+A265","v":"2021-05-11"},5,"1900-01-03",2,2,null,null,":",null,""," ",null,null,null,null,0,{"$f":"IF(WEEKDAY(A266)=1,IF(D266=2,VLOOKUP(R266,Daten!$C$49:$E$102,3),\" \"),\"\")","v":""},19]
[{"$f":"+A265+1","v":"2021-05-12"},5,"1900-01-04",1,0,null,null,":",null,""," ",null,null,null,null,0,{"$f":"IF(WEEKDAY(A267)=1,IF(D267=2,VLOOKUP(R267,Daten!$C$49:$E$102,3),\" \"),\"\")","v":""},19]
[{"$f":"+A267","v":"2021-05-12"},5,"1900-01-04",2,2,null,null,":",null,""," ",null,null,null,null,0,{"$f":"IF(WEEKDAY(A268)=1,IF(D268=2,VLOOKUP(R268,Daten!$C$49:$E$102,3),\" \"),\"\")","v":""},19]
[{"$f":"+A267+1","v":"2021-05-13"},5,"1900-01-05",1,0,null,null,":",null,""," ",null,null,null,null,0,{"$f":"IF(WEEKDAY(A269)=1,IF(D269=2,VLOOKUP(R269,Daten!$C$49:$E$102,3),\" \"),\"\")","v":""},19]
[{"$f":"+A269","v":"2021-05-13"},5,"1900-01-05",2,2,null,null,":",null,""," ",null,null,null,null,0,{"$f":"IF(WEEKDAY(A270)=1,IF(D270=2,VLOOKUP(R270,Daten!$C$49:$E$102,3),\" \"),\"\")","v":""},19]
[{"$f":"+A269+1","v":"2021-05-14"},5,"1900-01-06",1,0,null,null,":",null,""," ",null,null,null,null,0,{"$f":"IF(WEEKDAY(A271)=1,IF(D271=2,VLOOKUP(R271,Daten!$C$49:$E$102,3),\" \"),\"\")","v":""},19]
[{"$f":"+A271","v":"2021-05-14"},5,"1900-01-06",2,2,null,null,":",null,""," ",null,null,null,null,0,{"$f":"IF(WEEKDAY(A272)=1,IF(D272=2,VLOOKUP(R272,Daten!$C$49:$E$102,3),\" \"),\"\")","v":""},19]
[{"$f":"+A271+1","v":"2021-05-15"},5,"1900-01-07",1,0,null,null,":",null,""," ",null,null,null,null,0,{"$f":"IF(WEEKDAY(A273)=1,IF(D273=2,VLOOKUP(R273,Daten!$C$49:$E$102,3),\" \"),\"\")","v":""},19]
[{"$f":"+A273","v":"2021-05-15"},5,"1900-01-07",2,2,null,null,":",null,""," ",null,null,null,null,0,{"$f":"IF(WEEKDAY(A274)=1,IF(D274=2,VLOOKUP(R274,Daten!$C$49:$E$102,3),\" \"),\"\")","v":""},19]
[{"$f":"+A273+1","v":"2021-05-16"},5,"1900-01-01",1,0,null,null,":",null,""," ",null,null,null,null,0,{"$f":"IF(WEEKDAY(A275)=1,IF(D275=2,VLOOKUP(R275,Daten!$C$49:$E$102,3),\" \"),\"\")","v":" "},19]
[{"$f":"+A275","v":"2021-05-16"},5,"1900-01-01",2,1,null,null,":",null,""," ",null,null,null,null,0,{"$f":"IF(WEEKDAY(A276)=1,IF(D276=2,VLOOKUP(R276,Daten!$C$49:$E$102,3),\" \"),\"\")","v":0},19]
[{"$f":"+A275+1","v":"2021-05-17"},5,"1900-01-02",1,0,null,null,":",null,""," ",null,null,null,null,0,{"$f":"IF(WEEKDAY(A277)=1,IF(D277=2,VLOOKUP(R277,Daten!$C$49:$E$102,3),\" \"),\"\")","v":""},20]
[{"$f":"+A277","v":"2021-05-17"},5,"1900-01-02",2,2,null,null,":",null,""," ",null,null,null,null,0,{"$f":"IF(WEEKDAY(A278)=1,IF(D278=2,VLOOKUP(R278,Daten!$C$49:$E$102,3),\" \"),\"\")","v":""},20]
[{"$f":"+A277+1","v":"2021-05-18"},5,"1900-01-03",1,0,null,null,":",null,""," ",null,null,null,null,0,{"$f":"IF(WEEKDAY(A279)=1,IF(D279=2,VLOOKUP(R279,Daten!$C$49:$E$102,3),\" \"),\"\")","v":""},20]
[{"$f":"+A279","v":"2021-05-18"},5,"1900-01-03",2,2,null,null,":",null,""," ",null,null,null,null,0,{"$f":"IF(WEEKDAY(A280)=1,IF(D280=2,VLOOKUP(R280,Daten!$C$49:$E$102,3),\" \"),\"\")","v":""},20]
[{"$f":"+A279+1","v":"2021-05-19"},5,"1900-01-04",1,0,null,null,":",null,""," ",null,null,null,null,0,{"$f":"IF(WEEKDAY(A281)=1,IF(D281=2,VLOOKUP(R281,Daten!$C$49:$E$102,3),\" \"),\"\")","v":""},20]
[{"$f":"+A281","v":"2021-05-19"},5,"1900-01-04",2,2,null,null,":",null,""," ",null,null,null,null,0,{"$f":"IF(WEEKDAY(A282)=1,IF(D282=2,VLOOKUP(R282,Daten!$C$49:$E$102,3),\" \"),\"\")","v":""},20]
[{"$f":"+A281+1","v":"2021-05-20"},5,"1900-01-05",1,0,null,null,":",null,""," ",null,null,null,null,0,{"$f":"IF(WEEKDAY(A283)=1,IF(D283=2,VLOOKUP(R283,Daten!$C$49:$E$102,3),\" \"),\"\")","v":""},20]
[{"$f":"+A283","v":"2021-05-20"},5,"1900-01-05",2,2,null,null,":",null,""," ",null,null,null,null,0,{"$f":"IF(WEEKDAY(A284)=1,IF(D284=2,VLOOKUP(R284,Daten!$C$49:$E$102,3),\" \"),\"\")","v":""},20]
[{"$f":"+A283+1","v":"2021-05-21"},5,"1900-01-06",1,0,null,null,":",null,""," ",null,null,null,null,0,{"$f":"IF(WEEKDAY(A285)=1,IF(D285=2,VLOOKUP(R285,Daten!$C$49:$E$102,3),\" \"),\"\")","v":""},20]
[{"$f":"+A285","v":"2021-05-21"},5,"1900-01-06",2,2,null,null,":",null,""," ",null,null,null,null,0,{"$f":"IF(WEEKDAY(A286)=1,IF(D286=2,VLOOKUP(R286,Daten!$C$49:$E$102,3),\" \"),\"\")","v":""},20]
[{"$f":"+A285+1","v":"2021-05-22"},5,"1900-01-07",1,0,null,null,":",null,""," ",null,null,null,null,0,{"$f":"IF(WEEKDAY(A287)=1,IF(D287=2,VLOOKUP(R287,Daten!$C$49:$E$102,3),\" \"),\"\")","v":""},20]
[{"$f":"+A287","v":"2021-05-22"},5,"1900-01-07",2,2,null,null,":",null,""," ",null,null,null,null,0,{"$f":"IF(WEEKDAY(A288)=1,IF(D288=2,VLOOKUP(R288,Daten!$C$49:$E$102,3),\" \"),\"\")","v":""},20]
[{"$f":"+A287+1","v":"2021-05-23"},5,"1900-01-01",1,0,null,null,":",null,""," ",null,null,null,null,0,{"$f":"IF(WEEKDAY(A289)=1,IF(D289=2,VLOOKUP(R289,Daten!$C$49:$E$102,3),\" \"),\"\")","v":" "},20]
[{"$f":"+A289","v":"2021-05-23"},5,"1900-01-01",2,1,null,null,":",null,""," ",null,null,null,null,0,{"$f":"IF(WEEKDAY(A290)=1,IF(D290=2,VLOOKUP(R290,Daten!$C$49:$E$102,3),\" \"),\"\")","v":0},20]
[{"$f":"+A289+1","v":"2021-05-24"},5,"1900-01-02",1,0,null,null,":",null,""," ",null,null,null,null,0,{"$f":"IF(WEEKDAY(A291)=1,IF(D291=2,VLOOKUP(R291,Daten!$C$49:$E$102,3),\" \"),\"\")","v":""},21]
[{"$f":"+A291","v":"2021-05-24"},5,"1900-01-02",2,2,null,null,":",null,""," ",null,null,null,null,0,{"$f":"IF(WEEKDAY(A292)=1,IF(D292=2,VLOOKUP(R292,Daten!$C$49:$E$102,3),\" \"),\"\")","v":""},21]
[{"$f":"+A291+1","v":"2021-05-25"},5,"1900-01-03",1,0,null,null,":",null,""," ",null,null,null,null,0,{"$f":"IF(WEEKDAY(A293)=1,IF(D293=2,VLOOKUP(R293,Daten!$C$49:$E$102,3),\" \"),\"\")","v":""},21]
[{"$f":"+A293","v":"2021-05-25"},5,"1900-01-03",2,2,null,null,":",null,""," ",null,null,null,null,0,{"$f":"IF(WEEKDAY(A294)=1,IF(D294=2,VLOOKUP(R294,Daten!$C$49:$E$102,3),\" \"),\"\")","v":""},21]
[{"$f":"+A293+1","v":"2021-05-26"},5,"1900-01-04",1,0,null,null,":",null,""," ",null,null,null,null,0,{"$f":"IF(WEEKDAY(A295)=1,IF(D295=2,VLOOKUP(R295,Daten!$C$49:$E$102,3),\" \"),\"\")","v":""},21]
[{"$f":"+A295","v":"2021-05-26"},5,"1900-01-04",2,2,null,null,":",null,""," ",null,null,null,null,0,{"$f":"IF(WEEKDAY(A296)=1,IF(D296=2,VLOOKUP(R296,Daten!$C$49:$E$102,3),\" \"),\"\")","v":""},21]
[{"$f":"+A295+1","v":"2021-05-27"},5,"1900-01-05",1,0,null,null,":",null,""," ",null,null,null,null,0,{"$f":"IF(WEEKDAY(A297)=1,IF(D297=2,VLOOKUP(R297,Daten!$C$49:$E$102,3),\" \"),\"\")","v":""},21]
[{"$f":"+A297","v":"2021-05-27"},5,"1900-01-05",2,2,null,null,":",null,""," ",null,null,null,null,0,{"$f":"IF(WEEKDAY(A298)=1,IF(D298=2,VLOOKUP(R298,Daten!$C$49:$E$102,3),\" \"),\"\")","v":""},21]
[{"$f":"+A297+1","v":"2021-05-28"},5,"1900-01-06",1,0,null,null,":",null,""," ",null,null,null,null,0,{"$f":"IF(WEEKDAY(A299)=1,IF(D299=2,VLOOKUP(R299,Daten!$C$49:$E$102,3),\" \"),\"\")","v":""},21]
[{"$f":"+A299","v":"2021-05-28"},5,"1900-01-06",2,2,null,null,":",null,""," ",null,null,null,null,0,{"$f":"IF(WEEKDAY(A300)=1,IF(D300=2,VLOOKUP(R300,Daten!$C$49:$E$102,3),\" \"),\"\")","v":""},21]
[{"$f":"+A299+1","v":"2021-05-29"},5,"1900-01-07",1,0,null,null,":",null,""," ",null,null,null,null,0,{"$f":"IF(WEEKDAY(A301)=1,IF(D301=2,VLOOKUP(R301,Daten!$C$49:$E$102,3),\" \"),\"\")","v":""},21]
[{"$f":"+A301","v":"2021-05-29"},5,"1900-01-07",2,2,null,null,":",null,""," ",null,null,null,null,0,{"$f":"IF(WEEKDAY(A302)=1,IF(D302=2,VLOOKUP(R302,Daten!$C$49:$E$102,3),\" \"),\"\")","v":""},21]
[{"$f":"+A301+1","v":"2021-05-30"},5,"1900-01-01",1,0,null,null,":",null,""," ",null,null,null,null,0,{"$f":"IF(WEEKDAY(A303)=1,IF(D303=2,VLOOKUP(R303,Daten!$C$49:$E$102,3),\" \"),\"\")","v":" "},21]
[{"$f":"+A303","v":"2021-05-30"},5,"1900-01-01",2,1,null,null,":",null,""," ",null,null,null,null,0,{"$f":"IF(WEEKDAY(A304)=1,IF(D304=2,VLOOKUP(R304,Daten!$C$49:$E$102,3),\" \"),\"\")","v":0},21]
[{"$f":"+A303+1","v":"2021-05-31"},5,"1900-01-02",1,0,null,null,":",null,""," ",null,null,null,null,0,{"$f":"IF(WEEKDAY(A305)=1,IF(D305=2,VLOOKUP(R305,Daten!$C$49:$E$102,3),\" \"),\"\")","v":""},22]
[{"$f":"+A305","v":"2021-05-31"},5,"1900-01-02",2,2,null,null,":",null,""," ",null,null,null,null,0,{"$f":"IF(WEEKDAY(A306)=1,IF(D306=2,VLOOKUP(R306,Daten!$C$49:$E$102,3),\" \"),\"\")","v":""},22]
[{"$f":"+A305+1","v":"2021-06-01"},6,"1900-01-03",1,0,null,null,":",null,""," ",null,null,null,null,0,{"$f":"IF(WEEKDAY(A307)=1,IF(D307=2,VLOOKUP(R307,Daten!$C$49:$E$102,3),\" \"),\"\")","v":""},22]
[{"$f":"+A307","v":"2021-06-01"},6,"1900-01-03",2,2,null,null,":",null,""," ",null,null,null,null,0,{"$f":"IF(WEEKDAY(A308)=1,IF(D308=2,VLOOKUP(R308,Daten!$C$49:$E$102,3),\" \"),\"\")","v":""},22]
[{"$f":"+A307+1","v":"2021-06-02"},6,"1900-01-04",1,0,null,null,":",null,""," ",null,null,null,null,0,{"$f":"IF(WEEKDAY(A309)=1,IF(D309=2,VLOOKUP(R309,Daten!$C$49:$E$102,3),\" \"),\"\")","v":""},22]
[{"$f":"+A309","v":"2021-06-02"},6,"1900-01-04",2,2,null,null,":",null,""," ",null,null,null,null,0,{"$f":"IF(WEEKDAY(A310)=1,IF(D310=2,VLOOKUP(R310,Daten!$C$49:$E$102,3),\" \"),\"\")","v":""},22]
[{"$f":"+A309+1","v":"2021-06-03"},6,"1900-01-05",1,0,null,null,":",null,""," ",null,null,null,null,0,{"$f":"IF(WEEKDAY(A311)=1,IF(D311=2,VLOOKUP(R311,Daten!$C$49:$E$102,3),\" \"),\"\")","v":""},22]
[{"$f":"+A311","v":"2021-06-03"},6,"1900-01-05",2,2,null,null,":",null,""," ",null,null,null,null,0,{"$f":"IF(WEEKDAY(A312)=1,IF(D312=2,VLOOKUP(R312,Daten!$C$49:$E$102,3),\" \"),\"\")","v":""},22]
[{"$f":"+A311+1","v":"2021-06-04"},6,"1900-01-06",1,0,null,null,":",null,""," ",null,null,null,null,0,{"$f":"IF(WEEKDAY(A313)=1,IF(D313=2,VLOOKUP(R313,Daten!$C$49:$E$102,3),\" \"),\"\")","v":""},22]
[{"$f":"+A313","v":"2021-06-04"},6,"1900-01-06",2,2,null,null,":",null,""," ",null,null,null,null,0,{"$f":"IF(WEEKDAY(A314)=1,IF(D314=2,VLOOKUP(R314,Daten!$C$49:$E$102,3),\" \"),\"\")","v":""},22]
[{"$f":"+A313+1","v":"2021-06-05"},6,"1900-01-07",1,0,null,null,":",null,""," ",null,null,null,null,0,{"$f":"IF(WEEKDAY(A315)=1,IF(D315=2,VLOOKUP(R315,Daten!$C$49:$E$102,3),\" \"),\"\")","v":""},22]
[{"$f":"+A315","v":"2021-06-05"},6,"1900-01-07",2,2,null,null,":",null,""," ",null,null,null,null,0,{"$f":"IF(WEEKDAY(A316)=1,IF(D316=2,VLOOKUP(R316,Daten!$C$49:$E$102,3),\" \"),\"\")","v":""},22]
[{"$f":"+A315+1","v":"2021-06-06"},6,"1900-01-01",1,0,null,null,":",null,""," ",null,null,null,null,0,{"$f":"IF(WEEKDAY(A317)=1,IF(D317=2,VLOOKUP(R317,Daten!$C$49:$E$102,3),\" \"),\"\")","v":" "},22]
[{"$f":"+A317","v":"2021-06-06"},6,"1900-01-01",2,1,null,null,":",null,""," ",null,null,null,null,0,{"$f":"IF(WEEKDAY(A318)=1,IF(D318=2,VLOOKUP(R318,Daten!$C$49:$E$102,3),\" \"),\"\")","v":0},22]
[{"$f":"+A317+1","v":"2021-06-07"},6,"1900-01-02",1,0,null,null,":",null,""," ",null,null,null,null,0,{"$f":"IF(WEEKDAY(A319)=1,IF(D319=2,VLOOKUP(R319,Daten!$C$49:$E$102,3),\" \"),\"\")","v":""},23]
[{"$f":"+A319","v":"2021-06-07"},6,"1900-01-02",2,2,null,null,":",null,""," ",null,null,null,null,0,{"$f":"IF(WEEKDAY(A320)=1,IF(D320=2,VLOOKUP(R320,Daten!$C$49:$E$102,3),\" \"),\"\")","v":""},23]
[{"$f":"+A319+1","v":"2021-06-08"},6,"1900-01-03",1,0,null,null,":",null,""," ",null,null,null,null,0,{"$f":"IF(WEEKDAY(A321)=1,IF(D321=2,VLOOKUP(R321,Daten!$C$49:$E$102,3),\" \"),\"\")","v":""},23]
[{"$f":"+A321","v":"2021-06-08"},6,"1900-01-03",2,2,null,null,":",null,""," ",null,null,null,null,0,{"$f":"IF(WEEKDAY(A322)=1,IF(D322=2,VLOOKUP(R322,Daten!$C$49:$E$102,3),\" \"),\"\")","v":""},23]
[{"$f":"+A321+1","v":"2021-06-09"},6,"1900-01-04",1,0,null,null,":",null,""," ",null,null,null,null,0,{"$f":"IF(WEEKDAY(A323)=1,IF(D323=2,VLOOKUP(R323,Daten!$C$49:$E$102,3),\" \"),\"\")","v":""},23]
[{"$f":"+A323","v":"2021-06-09"},6,"1900-01-04",2,2,null,null,":",null,{"$f":"IF((+G324*60+I324)>0,G324*60+I324,\"\")","v":""},{"$f":"IF(+F324>0,F324/J324*60,\" \")","v":" "},null,null,null,null,0,{"$f":"IF(WEEKDAY(A324)=1,IF(D324=2,VLOOKUP(R324,Daten!$C$49:$E$102,3),\" \"),\"\")","v":""},23]
[{"$f":"+A323+1","v":"2021-06-10"},6,"1900-01-05",1,0,null,null,":",null,""," ",null,null,null,null,0,{"$f":"IF(WEEKDAY(A325)=1,IF(D325=2,VLOOKUP(R325,Daten!$C$49:$E$102,3),\" \"),\"\")","v":""},23]
[{"$f":"+A325","v":"2021-06-10"},{"$f":"MONTH(A326)","v":6},{"$f":"WEEKDAY(A326)","v":"1900-01-05"},2,{"$f":"IF(D326=2,IF(C326=1,1,2),0)","v":2},null,null,":",null,""," ",null,null,null,null,0,{"$f":"IF(WEEKDAY(A326)=1,IF(D326=2,VLOOKUP(R326,Daten!$C$49:$E$102,3),\" \"),\"\")","v":""},23]
[{"$f":"+A325+1","v":"2021-06-11"},6,"1900-01-06",1,0,null,null,":",null,""," ",null,null,null,null,{"$f":"IF(D327=2,+F327+F326,0)","v":0},{"$f":"IF(WEEKDAY(A327)=1,IF(D327=2,VLOOKUP(R327,Daten!$C$49:$E$102,3),\" \"),\"\")","v":""},{"$f":"IF(WEEKDAY(A327)=2,IF(D327=1,R326+1,R326),R326)","v":23}]
[{"$f":"+A327","v":"2021-06-11"},6,"1900-01-06",2,2,null,null,":",null,""," ",null,null,null,null,0,{"$f":"IF(WEEKDAY(A328)=1,IF(D328=2,VLOOKUP(R328,Daten!$C$49:$E$102,3),\" \"),\"\")","v":""},23]
[{"$f":"+A327+1","v":"2021-06-12"},6,"1900-01-07",1,0,null,null,":",null,""," ",null,null,null,null,0,{"$f":"IF(WEEKDAY(A329)=1,IF(D329=2,VLOOKUP(R329,Daten!$C$49:$E$102,3),\" \"),\"\")","v":""},23]
[{"$f":"+A329","v":"2021-06-12"},6,"1900-01-07",2,2,null,null,":",null,""," ",null,null,null,null,0,{"$f":"IF(WEEKDAY(A330)=1,IF(D330=2,VLOOKUP(R330,Daten!$C$49:$E$102,3),\" \"),\"\")","v":""},23]
[{"$f":"+A329+1","v":"2021-06-13"},6,"1900-01-01",1,0,null,null,":",null,""," ",null,null,null,null,0,{"$f":"IF(WEEKDAY(A331)=1,IF(D331=2,VLOOKUP(R331,Daten!$C$49:$E$102,3),\" \"),\"\")","v":" "},23]
[{"$f":"+A331","v":"2021-06-13"},6,"1900-01-01",2,1,null,null,":",null,""," ",null,null,null,null,0,{"$f":"IF(WEEKDAY(A332)=1,IF(D332=2,VLOOKUP(R332,Daten!$C$49:$E$102,3),\" \"),\"\")","v":0},23]
[{"$f":"+A331+1","v":"2021-06-14"},6,"1900-01-02",1,0,null,null,":",null,""," ",null,null,null,null,0,{"$f":"IF(WEEKDAY(A333)=1,IF(D333=2,VLOOKUP(R333,Daten!$C$49:$E$102,3),\" \"),\"\")","v":""},24]
[{"$f":"+A333","v":"2021-06-14"},6,"1900-01-02",2,2,null,null,":",null,""," ",null,null,null,null,0,{"$f":"IF(WEEKDAY(A334)=1,IF(D334=2,VLOOKUP(R334,Daten!$C$49:$E$102,3),\" \"),\"\")","v":""},24]
[{"$f":"+A333+1","v":"2021-06-15"},6,"1900-01-03",1,0,null,null,":",null,""," ",null,null,null,null,0,{"$f":"IF(WEEKDAY(A335)=1,IF(D335=2,VLOOKUP(R335,Daten!$C$49:$E$102,3),\" \"),\"\")","v":""},24]
[{"$f":"+A335","v":"2021-06-15"},6,"1900-01-03",2,2,null,null,":",null,""," ",null,null,null,null,0,{"$f":"IF(WEEKDAY(A336)=1,IF(D336=2,VLOOKUP(R336,Daten!$C$49:$E$102,3),\" \"),\"\")","v":""},24]
[{"$f":"+A335+1","v":"2021-06-16"},6,"1900-01-04",1,0,null,null,":",null,""," ",null,null,null,null,0,{"$f":"IF(WEEKDAY(A337)=1,IF(D337=2,VLOOKUP(R337,Daten!$C$49:$E$102,3),\" \"),\"\")","v":""},24]
[{"$f":"+A337","v":"2021-06-16"},6,"1900-01-04",2,2,null,null,":",null,""," ",null,null,null,null,0,{"$f":"IF(WEEKDAY(A338)=1,IF(D338=2,VLOOKUP(R338,Daten!$C$49:$E$102,3),\" \"),\"\")","v":""},24]
[{"$f":"+A337+1","v":"2021-06-17"},6,"1900-01-05",1,0,null,null,":",null,""," ",null,null,null,null,0,{"$f":"IF(WEEKDAY(A339)=1,IF(D339=2,VLOOKUP(R339,Daten!$C$49:$E$102,3),\" \"),\"\")","v":""},24]
[{"$f":"+A339","v":"2021-06-17"},6,"1900-01-05",2,2,null,null,":",null,""," ",null,null,null,null,0,{"$f":"IF(WEEKDAY(A340)=1,IF(D340=2,VLOOKUP(R340,Daten!$C$49:$E$102,3),\" \"),\"\")","v":""},24]
[{"$f":"+A339+1","v":"2021-06-18"},6,"1900-01-06",1,0,null,null,":",null,""," ",null,null,null,null,0,{"$f":"IF(WEEKDAY(A341)=1,IF(D341=2,VLOOKUP(R341,Daten!$C$49:$E$102,3),\" \"),\"\")","v":""},24]
[{"$f":"+A341","v":"2021-06-18"},6,"1900-01-06",2,2,null,null,":",null,""," ",null,null,null,null,0,{"$f":"IF(WEEKDAY(A342)=1,IF(D342=2,VLOOKUP(R342,Daten!$C$49:$E$102,3),\" \"),\"\")","v":""},24]
[{"$f":"+A341+1","v":"2021-06-19"},6,"1900-01-07",1,0,null,null,":",null,""," ",null,null,null,null,0,{"$f":"IF(WEEKDAY(A343)=1,IF(D343=2,VLOOKUP(R343,Daten!$C$49:$E$102,3),\" \"),\"\")","v":""},24]
[{"$f":"+A343","v":"2021-06-19"},6,"1900-01-07",2,2,null,null,":",null,""," ",null,null,null,null,0,{"$f":"IF(WEEKDAY(A344)=1,IF(D344=2,VLOOKUP(R344,Daten!$C$49:$E$102,3),\" \"),\"\")","v":""},24]
[{"$f":"+A343+1","v":"2021-06-20"},6,"1900-01-01",1,0,null,null,":",null,""," ",null,null,null,null,0,{"$f":"IF(WEEKDAY(A345)=1,IF(D345=2,VLOOKUP(R345,Daten!$C$49:$E$102,3),\" \"),\"\")","v":" "},24]
[{"$f":"+A345","v":"2021-06-20"},6,"1900-01-01",2,1,null,null,":",null,""," ",null,null,null,null,0,{"$f":"IF(WEEKDAY(A346)=1,IF(D346=2,VLOOKUP(R346,Daten!$C$49:$E$102,3),\" \"),\"\")","v":0},24]
[{"$f":"+A345+1","v":"2021-06-21"},6,"1900-01-02",1,0,null,null,":",null,""," ",null,null,null,null,0,{"$f":"IF(WEEKDAY(A347)=1,IF(D347=2,VLOOKUP(R347,Daten!$C$49:$E$102,3),\" \"),\"\")","v":""},25]
[{"$f":"+A347","v":"2021-06-21"},6,"1900-01-02",2,2,null,null,":",null,""," ",null,null,null,null,0,{"$f":"IF(WEEKDAY(A348)=1,IF(D348=2,VLOOKUP(R348,Daten!$C$49:$E$102,3),\" \"),\"\")","v":""},25]
[{"$f":"+A347+1","v":"2021-06-22"},6,"1900-01-03",1,0,null,null,":",null,""," ",null,null,null,null,0,{"$f":"IF(WEEKDAY(A349)=1,IF(D349=2,VLOOKUP(R349,Daten!$C$49:$E$102,3),\" \"),\"\")","v":""},25]
[{"$f":"+A349","v":"2021-06-22"},6,"1900-01-03",2,2,null,null,":",null,""," ",null,null,null,null,0,{"$f":"IF(WEEKDAY(A350)=1,IF(D350=2,VLOOKUP(R350,Daten!$C$49:$E$102,3),\" \"),\"\")","v":""},25]
[{"$f":"+A349+1","v":"2021-06-23"},6,"1900-01-04",1,0,null,null,":",null,""," ",null,null,null,null,0,{"$f":"IF(WEEKDAY(A351)=1,IF(D351=2,VLOOKUP(R351,Daten!$C$49:$E$102,3),\" \"),\"\")","v":""},25]
[{"$f":"+A351","v":"2021-06-23"},6,"1900-01-04",2,2,null,null,":",null,""," ",null,null,null,null,0,{"$f":"IF(WEEKDAY(A352)=1,IF(D352=2,VLOOKUP(R352,Daten!$C$49:$E$102,3),\" \"),\"\")","v":""},25]
[{"$f":"+A351+1","v":"2021-06-24"},6,"1900-01-05",1,0,null,null,":",null,""," ",null,null,null,null,0,{"$f":"IF(WEEKDAY(A353)=1,IF(D353=2,VLOOKUP(R353,Daten!$C$49:$E$102,3),\" \"),\"\")","v":""},25]
[{"$f":"+A353","v":"2021-06-24"},6,"1900-01-05",2,2,null,null,":",null,""," ",null,null,null,null,0,{"$f":"IF(WEEKDAY(A354)=1,IF(D354=2,VLOOKUP(R354,Daten!$C$49:$E$102,3),\" \"),\"\")","v":""},25]
[{"$f":"+A353+1","v":"2021-06-25"},6,"1900-01-06",1,0,null,null,":",null,""," ",null,null,null,null,0,{"$f":"IF(WEEKDAY(A355)=1,IF(D355=2,VLOOKUP(R355,Daten!$C$49:$E$102,3),\" \"),\"\")","v":""},25]
[{"$f":"+A355","v":"2021-06-25"},6,"1900-01-06",2,2,null,null,":",null,""," ",null,null,null,null,0,{"$f":"IF(WEEKDAY(A356)=1,IF(D356=2,VLOOKUP(R356,Daten!$C$49:$E$102,3),\" \"),\"\")","v":""},25]
[{"$f":"+A355+1","v":"2021-06-26"},6,"1900-01-07",1,0,null,null,":",null,""," ",null,null,null,null,0,{"$f":"IF(WEEKDAY(A357)=1,IF(D357=2,VLOOKUP(R357,Daten!$C$49:$E$102,3),\" \"),\"\")","v":""},25]
[{"$f":"+A357","v":"2021-06-26"},6,"1900-01-07",2,2,null,null,":",null,""," ",null,null,null,null,0,{"$f":"IF(WEEKDAY(A358)=1,IF(D358=2,VLOOKUP(R358,Daten!$C$49:$E$102,3),\" \"),\"\")","v":""},25]
[{"$f":"+A357+1","v":"2021-06-27"},6,"1900-01-01",1,0,null,null,":",null,""," ",null,null,null,null,0,{"$f":"IF(WEEKDAY(A359)=1,IF(D359=2,VLOOKUP(R359,Daten!$C$49:$E$102,3),\" \"),\"\")","v":" "},25]
[{"$f":"+A359","v":"2021-06-27"},6,"1900-01-01",2,1,null,null,":",null,""," ",null,null,null,null,0,{"$f":"IF(WEEKDAY(A360)=1,IF(D360=2,VLOOKUP(R360,Daten!$C$49:$E$102,3),\" \"),\"\")","v":0},25]
[{"$f":"+A359+1","v":"2021-06-28"},6,"1900-01-02",1,0,null,null,":",null,""," ",null,null,null,null,0,{"$f":"IF(WEEKDAY(A361)=1,IF(D361=2,VLOOKUP(R361,Daten!$C$49:$E$102,3),\" \"),\"\")","v":""},26]
[{"$f":"+A361","v":"2021-06-28"},6,"1900-01-02",2,2,null,null,":",null,""," ",null,null,null,null,0,{"$f":"IF(WEEKDAY(A362)=1,IF(D362=2,VLOOKUP(R362,Daten!$C$49:$E$102,3),\" \"),\"\")","v":""},26]
[{"$f":"+A361+1","v":"2021-06-29"},6,"1900-01-03",1,0,null,null,":",null,""," ",null,null,null,null,0,{"$f":"IF(WEEKDAY(A363)=1,IF(D363=2,VLOOKUP(R363,Daten!$C$49:$E$102,3),\" \"),\"\")","v":""},26]
[{"$f":"+A363","v":"2021-06-29"},6,"1900-01-03",2,2,null,null,":",null,""," ",null,null,null,null,0,{"$f":"IF(WEEKDAY(A364)=1,IF(D364=2,VLOOKUP(R364,Daten!$C$49:$E$102,3),\" \"),\"\")","v":""},26]
[{"$f":"+A363+1","v":"2021-06-30"},6,"1900-01-04",1,0,null,null,":",null,""," ",null,null,null,null,0,{"$f":"IF(WEEKDAY(A365)=1,IF(D365=2,VLOOKUP(R365,Daten!$C$49:$E$102,3),\" \"),\"\")","v":""},26]
[{"$f":"+A365","v":"2021-06-30"},6,"1900-01-04",2,2,null,null,":",null,""," ",null,null,null,null,0,{"$f":"IF(WEEKDAY(A366)=1,IF(D366=2,VLOOKUP(R366,Daten!$C$49:$E$102,3),\" \"),\"\")","v":""},26]
[{"$f":"+A365+1","v":"2021-07-01"},7,"1900-01-05",1,0,null,null,":",null,""," ",null,null,null,null,0,{"$f":"IF(WEEKDAY(A367)=1,IF(D367=2,VLOOKUP(R367,Daten!$C$49:$E$102,3),\" \"),\"\")","v":""},26]
[{"$f":"+A367","v":"2021-07-01"},7,"1900-01-05",2,2,null,null,":",null,""," ",null,null,null,null,0,{"$f":"IF(WEEKDAY(A368)=1,IF(D368=2,VLOOKUP(R368,Daten!$C$49:$E$102,3),\" \"),\"\")","v":""},26]
[{"$f":"+A367+1","v":"2021-07-02"},7,"1900-01-06",1,0,null,null,":",null,""," ",null,null,null,null,0,{"$f":"IF(WEEKDAY(A369)=1,IF(D369=2,VLOOKUP(R369,Daten!$C$49:$E$102,3),\" \"),\"\")","v":""},26]
[{"$f":"+A369","v":"2021-07-02"},7,"1900-01-06",2,2,null,null,":",null,""," ",null,null,null,null,0,{"$f":"IF(WEEKDAY(A370)=1,IF(D370=2,VLOOKUP(R370,Daten!$C$49:$E$102,3),\" \"),\"\")","v":""},26]
[{"$f":"+A369+1","v":"2021-07-03"},7,"1900-01-07",1,0,null,null,":",null,""," ",null,null,null,null,0,{"$f":"IF(WEEKDAY(A371)=1,IF(D371=2,VLOOKUP(R371,Daten!$C$49:$E$102,3),\" \"),\"\")","v":""},26]
[{"$f":"+A371","v":"2021-07-03"},7,"1900-01-07",2,2,null,null,":",null,""," ",null,null,null,null,0,{"$f":"IF(WEEKDAY(A372)=1,IF(D372=2,VLOOKUP(R372,Daten!$C$49:$E$102,3),\" \"),\"\")","v":""},26]
[{"$f":"+A371+1","v":"2021-07-04"},7,"1900-01-01",1,0,null,null,":",null,""," ",null,null,null,null,0,{"$f":"IF(WEEKDAY(A373)=1,IF(D373=2,VLOOKUP(R373,Daten!$C$49:$E$102,3),\" \"),\"\")","v":" "},26]
[{"$f":"+A373","v":"2021-07-04"},7,"1900-01-01",2,1,null,null,":",null,""," ",null,null,null,null,0,{"$f":"IF(WEEKDAY(A374)=1,IF(D374=2,VLOOKUP(R374,Daten!$C$49:$E$102,3),\" \"),\"\")","v":0},26]
[{"$f":"+A373+1","v":"2021-07-05"},7,"1900-01-02",1,0,null,null,":",null,""," ",null,null,null,null,0,{"$f":"IF(WEEKDAY(A375)=1,IF(D375=2,VLOOKUP(R375,Daten!$C$49:$E$102,3),\" \"),\"\")","v":""},27]
[{"$f":"+A375","v":"2021-07-05"},7,"1900-01-02",2,2,null,null,":",null,""," ",null,null,null,null,0,{"$f":"IF(WEEKDAY(A376)=1,IF(D376=2,VLOOKUP(R376,Daten!$C$49:$E$102,3),\" \"),\"\")","v":""},27]
[{"$f":"+A375+1","v":"2021-07-06"},7,"1900-01-03",1,0,null,null,":",null,""," ",null,null,null,null,0,{"$f":"IF(WEEKDAY(A377)=1,IF(D377=2,VLOOKUP(R377,Daten!$C$49:$E$102,3),\" \"),\"\")","v":""},27]
[{"$f":"+A377","v":"2021-07-06"},7,"1900-01-03",2,2,null,null,":",null,""," ",null,null,null,null,0,{"$f":"IF(WEEKDAY(A378)=1,IF(D378=2,VLOOKUP(R378,Daten!$C$49:$E$102,3),\" \"),\"\")","v":""},27]
[{"$f":"+A377+1","v":"2021-07-07"},7,"1900-01-04",1,0,null,null,":",null,""," ",null,null,null,null,0,{"$f":"IF(WEEKDAY(A379)=1,IF(D379=2,VLOOKUP(R379,Daten!$C$49:$E$102,3),\" \"),\"\")","v":""},27]
[{"$f":"+A379","v":"2021-07-07"},7,"1900-01-04",2,2,null,null,":",null,""," ",null,null,null,null,0,{"$f":"IF(WEEKDAY(A380)=1,IF(D380=2,VLOOKUP(R380,Daten!$C$49:$E$102,3),\" \"),\"\")","v":""},27]
[{"$f":"+A379+1","v":"2021-07-08"},7,"1900-01-05",1,0,null,null,":",null,""," ",null,null,null,null,0,{"$f":"IF(WEEKDAY(A381)=1,IF(D381=2,VLOOKUP(R381,Daten!$C$49:$E$102,3),\" \"),\"\")","v":""},27]
[{"$f":"+A381","v":"2021-07-08"},7,"1900-01-05",2,2,null,null,":",null,""," ",null,null,null,null,0,{"$f":"IF(WEEKDAY(A382)=1,IF(D382=2,VLOOKUP(R382,Daten!$C$49:$E$102,3),\" \"),\"\")","v":""},27]
[{"$f":"+A381+1","v":"2021-07-09"},7,"1900-01-06",1,0,null,null,":",null,""," ",null,null,null,null,0,{"$f":"IF(WEEKDAY(A383)=1,IF(D383=2,VLOOKUP(R383,Daten!$C$49:$E$102,3),\" \"),\"\")","v":""},27]
[{"$f":"+A383","v":"2021-07-09"},7,"1900-01-06",2,2,null,null,":",null,""," ",null,null,null,null,0,{"$f":"IF(WEEKDAY(A384)=1,IF(D384=2,VLOOKUP(R384,Daten!$C$49:$E$102,3),\" \"),\"\")","v":""},27]
[{"$f":"+A383+1","v":"2021-07-10"},7,"1900-01-07",1,0,null,null,":",null,""," ",null,null,null,null,0,{"$f":"IF(WEEKDAY(A385)=1,IF(D385=2,VLOOKUP(R385,Daten!$C$49:$E$102,3),\" \"),\"\")","v":""},27]
[{"$f":"+A385","v":"2021-07-10"},7,"1900-01-07",2,2,null,null,":",null,""," ",null,null,null,null,0,{"$f":"IF(WEEKDAY(A386)=1,IF(D386=2,VLOOKUP(R386,Daten!$C$49:$E$102,3),\" \"),\"\")","v":""},27]
[{"$f":"+A385+1","v":"2021-07-11"},7,"1900-01-01",1,0,null,null,":",null,""," ",null,null,null,null,0,{"$f":"IF(WEEKDAY(A387)=1,IF(D387=2,VLOOKUP(R387,Daten!$C$49:$E$102,3),\" \"),\"\")","v":" "},27]
[{"$f":"+A387","v":"2021-07-11"},7,"1900-01-01",2,1,null,null,":",null,{"$f":"IF((+G388*60+I388)>0,G388*60+I388,\"\")","v":""},{"$f":"IF(+F388>0,F388/J388*60,\" \")","v":" "},null,null,null,null,0,{"$f":"IF(WEEKDAY(A388)=1,IF(D388=2,VLOOKUP(R388,Daten!$C$49:$E$102,3),\" \"),\"\")","v":0},27]
[{"$f":"+A387+1","v":"2021-07-12"},7,"1900-01-02",1,0,null,null,":",null,""," ",null,null,null,null,0,{"$f":"IF(WEEKDAY(A389)=1,IF(D389=2,VLOOKUP(R389,Daten!$C$49:$E$102,3),\" \"),\"\")","v":""},28]
[{"$f":"+A389","v":"2021-07-12"},{"$f":"MONTH(A390)","v":7},{"$f":"WEEKDAY(A390)","v":"1900-01-02"},2,{"$f":"IF(D390=2,IF(C390=1,1,2),0)","v":2},null,null,":",null,""," ",null,null,null,null,0,{"$f":"IF(WEEKDAY(A390)=1,IF(D390=2,VLOOKUP(R390,Daten!$C$49:$E$102,3),\" \"),\"\")","v":""},28]
[{"$f":"+A389+1","v":"2021-07-13"},7,"1900-01-03",1,0,null,null,":",null,""," ",null,null,null,null,{"$f":"IF(D391=2,+F391+F390,0)","v":0},{"$f":"IF(WEEKDAY(A391)=1,IF(D391=2,VLOOKUP(R391,Daten!$C$49:$E$102,3),\" \"),\"\")","v":""},{"$f":"IF(WEEKDAY(A391)=2,IF(D391=1,R390+1,R390),R390)","v":28}]
[{"$f":"+A391","v":"2021-07-13"},7,"1900-01-03",2,2,null,null,":",null,""," ",null,null,null,null,0,{"$f":"IF(WEEKDAY(A392)=1,IF(D392=2,VLOOKUP(R392,Daten!$C$49:$E$102,3),\" \"),\"\")","v":""},28]
[{"$f":"+A391+1","v":"2021-07-14"},7,"1900-01-04",1,0,null,null,":",null,""," ",null,null,null,null,0,{"$f":"IF(WEEKDAY(A393)=1,IF(D393=2,VLOOKUP(R393,Daten!$C$49:$E$102,3),\" \"),\"\")","v":""},28]
[{"$f":"+A393","v":"2021-07-14"},7,"1900-01-04",2,2,null,null,":",null,""," ",null,null,null,null,0,{"$f":"IF(WEEKDAY(A394)=1,IF(D394=2,VLOOKUP(R394,Daten!$C$49:$E$102,3),\" \"),\"\")","v":""},28]
[{"$f":"+A393+1","v":"2021-07-15"},7,"1900-01-05",1,0,null,null,":",null,""," ",null,null,null,null,0,{"$f":"IF(WEEKDAY(A395)=1,IF(D395=2,VLOOKUP(R395,Daten!$C$49:$E$102,3),\" \"),\"\")","v":""},28]
[{"$f":"+A395","v":"2021-07-15"},7,"1900-01-05",2,2,null,null,":",null,""," ",null,null,null,null,0,{"$f":"IF(WEEKDAY(A396)=1,IF(D396=2,VLOOKUP(R396,Daten!$C$49:$E$102,3),\" \"),\"\")","v":""},28]
[{"$f":"+A395+1","v":"2021-07-16"},7,"1900-01-06",1,0,null,null,":",null,""," ",null,null,null,null,0,{"$f":"IF(WEEKDAY(A397)=1,IF(D397=2,VLOOKUP(R397,Daten!$C$49:$E$102,3),\" \"),\"\")","v":""},28]
[{"$f":"+A397","v":"2021-07-16"},7,"1900-01-06",2,2,null,null,":",null,""," ",null,null,null,null,0,{"$f":"IF(WEEKDAY(A398)=1,IF(D398=2,VLOOKUP(R398,Daten!$C$49:$E$102,3),\" \"),\"\")","v":""},28]
[{"$f":"+A397+1","v":"2021-07-17"},7,"1900-01-07",1,0,null,null,":",null,""," ",null,null,null,null,0,{"$f":"IF(WEEKDAY(A399)=1,IF(D399=2,VLOOKUP(R399,Daten!$C$49:$E$102,3),\" \"),\"\")","v":""},28]
[{"$f":"+A399","v":"2021-07-17"},7,"1900-01-07",2,2,null,null,":",null,""," ",null,null,null,null,0,{"$f":"IF(WEEKDAY(A400)=1,IF(D400=2,VLOOKUP(R400,Daten!$C$49:$E$102,3),\" \"),\"\")","v":""},28]
[{"$f":"+A399+1","v":"2021-07-18"},7,"1900-01-01",1,0,null,null,":",null,""," ",null,null,null,null,0,{"$f":"IF(WEEKDAY(A401)=1,IF(D401=2,VLOOKUP(R401,Daten!$C$49:$E$102,3),\" \"),\"\")","v":" "},28]
[{"$f":"+A401","v":"2021-07-18"},7,"1900-01-01",2,1,null,null,":",null,""," ",null,null,null,null,0,{"$f":"IF(WEEKDAY(A402)=1,IF(D402=2,VLOOKUP(R402,Daten!$C$49:$E$102,3),\" \"),\"\")","v":0},28]
[{"$f":"+A401+1","v":"2021-07-19"},7,"1900-01-02",1,0,null,null,":",null,""," ",null,null,null,null,0,{"$f":"IF(WEEKDAY(A403)=1,IF(D403=2,VLOOKUP(R403,Daten!$C$49:$E$102,3),\" \"),\"\")","v":""},29]
[{"$f":"+A403","v":"2021-07-19"},7,"1900-01-02",2,2,null,null,":",null,""," ",null,null,null,null,0,{"$f":"IF(WEEKDAY(A404)=1,IF(D404=2,VLOOKUP(R404,Daten!$C$49:$E$102,3),\" \"),\"\")","v":""},29]
[{"$f":"+A403+1","v":"2021-07-20"},7,"1900-01-03",1,0,null,null,":",null,""," ",null,null,null,null,0,{"$f":"IF(WEEKDAY(A405)=1,IF(D405=2,VLOOKUP(R405,Daten!$C$49:$E$102,3),\" \"),\"\")","v":""},29]
[{"$f":"+A405","v":"2021-07-20"},7,"1900-01-03",2,2,null,null,":",null,""," ",null,null,null,null,0,{"$f":"IF(WEEKDAY(A406)=1,IF(D406=2,VLOOKUP(R406,Daten!$C$49:$E$102,3),\" \"),\"\")","v":""},29]
[{"$f":"+A405+1","v":"2021-07-21"},7,"1900-01-04",1,0,null,null,":",null,""," ",null,null,null,null,0,{"$f":"IF(WEEKDAY(A407)=1,IF(D407=2,VLOOKUP(R407,Daten!$C$49:$E$102,3),\" \"),\"\")","v":""},29]
[{"$f":"+A407","v":"2021-07-21"},7,"1900-01-04",2,2,null,null,":",null,""," ",null,null,null,null,0,{"$f":"IF(WEEKDAY(A408)=1,IF(D408=2,VLOOKUP(R408,Daten!$C$49:$E$102,3),\" \"),\"\")","v":""},29]
[{"$f":"+A407+1","v":"2021-07-22"},7,"1900-01-05",1,0,null,null,":",null,""," ",null,null,null,null,0,{"$f":"IF(WEEKDAY(A409)=1,IF(D409=2,VLOOKUP(R409,Daten!$C$49:$E$102,3),\" \"),\"\")","v":""},29]
[{"$f":"+A409","v":"2021-07-22"},7,"1900-01-05",2,2,null,null,":",null,""," ",null,null,null,null,0,{"$f":"IF(WEEKDAY(A410)=1,IF(D410=2,VLOOKUP(R410,Daten!$C$49:$E$102,3),\" \"),\"\")","v":""},29]
[{"$f":"+A409+1","v":"2021-07-23"},7,"1900-01-06",1,0,null,null,":",null,""," ",null,null,null,null,0,{"$f":"IF(WEEKDAY(A411)=1,IF(D411=2,VLOOKUP(R411,Daten!$C$49:$E$102,3),\" \"),\"\")","v":""},29]
[{"$f":"+A411","v":"2021-07-23"},7,"1900-01-06",2,2,null,null,":",null,""," ",null,null,null,null,0,{"$f":"IF(WEEKDAY(A412)=1,IF(D412=2,VLOOKUP(R412,Daten!$C$49:$E$102,3),\" \"),\"\")","v":""},29]
[{"$f":"+A411+1","v":"2021-07-24"},7,"1900-01-07",1,0,null,null,":",null,""," ",null,null,null,null,0,{"$f":"IF(WEEKDAY(A413)=1,IF(D413=2,VLOOKUP(R413,Daten!$C$49:$E$102,3),\" \"),\"\")","v":""},29]
[{"$f":"+A413","v":"2021-07-24"},7,"1900-01-07",2,2,null,null,":",null,""," ",null,null,null,null,0,{"$f":"IF(WEEKDAY(A414)=1,IF(D414=2,VLOOKUP(R414,Daten!$C$49:$E$102,3),\" \"),\"\")","v":""},29]
[{"$f":"+A413+1","v":"2021-07-25"},7,"1900-01-01",1,0,null,null,":",null,""," ",null,null,null,null,0,{"$f":"IF(WEEKDAY(A415)=1,IF(D415=2,VLOOKUP(R415,Daten!$C$49:$E$102,3),\" \"),\"\")","v":" "},29]
[{"$f":"+A415","v":"2021-07-25"},7,"1900-01-01",2,1,null,null,":",null,""," ",null,null,null,null,0,{"$f":"IF(WEEKDAY(A416)=1,IF(D416=2,VLOOKUP(R416,Daten!$C$49:$E$102,3),\" \"),\"\")","v":0},29]
[{"$f":"+A415+1","v":"2021-07-26"},7,"1900-01-02",1,0,null,null,":",null,""," ",null,null,null,null,0,{"$f":"IF(WEEKDAY(A417)=1,IF(D417=2,VLOOKUP(R417,Daten!$C$49:$E$102,3),\" \"),\"\")","v":""},30]
[{"$f":"+A417","v":"2021-07-26"},7,"1900-01-02",2,2,null,null,":",null,""," ",null,null,null,null,0,{"$f":"IF(WEEKDAY(A418)=1,IF(D418=2,VLOOKUP(R418,Daten!$C$49:$E$102,3),\" \"),\"\")","v":""},30]
[{"$f":"+A417+1","v":"2021-07-27"},7,"1900-01-03",1,0,null,null,":",null,""," ",null,null,null,null,0,{"$f":"IF(WEEKDAY(A419)=1,IF(D419=2,VLOOKUP(R419,Daten!$C$49:$E$102,3),\" \"),\"\")","v":""},30]
[{"$f":"+A419","v":"2021-07-27"},7,"1900-01-03",2,2,null,null,":",null,""," ",null,null,null,null,0,{"$f":"IF(WEEKDAY(A420)=1,IF(D420=2,VLOOKUP(R420,Daten!$C$49:$E$102,3),\" \"),\"\")","v":""},30]
[{"$f":"+A419+1","v":"2021-07-28"},7,"1900-01-04",1,0,null,null,":",null,""," ",null,null,null,null,0,{"$f":"IF(WEEKDAY(A421)=1,IF(D421=2,VLOOKUP(R421,Daten!$C$49:$E$102,3),\" \"),\"\")","v":""},30]
[{"$f":"+A421","v":"2021-07-28"},7,"1900-01-04",2,2,null,null,":",null,""," ",null,null,null,null,0,{"$f":"IF(WEEKDAY(A422)=1,IF(D422=2,VLOOKUP(R422,Daten!$C$49:$E$102,3),\" \"),\"\")","v":""},30]
[{"$f":"+A421+1","v":"2021-07-29"},7,"1900-01-05",1,0,null,null,":",null,""," ",null,null,null,null,0,{"$f":"IF(WEEKDAY(A423)=1,IF(D423=2,VLOOKUP(R423,Daten!$C$49:$E$102,3),\" \"),\"\")","v":""},30]
[{"$f":"+A423","v":"2021-07-29"},7,"1900-01-05",2,2,null,null,":",null,""," ",null,null,null,null,0,{"$f":"IF(WEEKDAY(A424)=1,IF(D424=2,VLOOKUP(R424,Daten!$C$49:$E$102,3),\" \"),\"\")","v":""},30]
[{"$f":"+A423+1","v":"2021-07-30"},7,"1900-01-06",1,0,null,null,":",null,""," ",null,null,null,null,0,{"$f":"IF(WEEKDAY(A425)=1,IF(D425=2,VLOOKUP(R425,Daten!$C$49:$E$102,3),\" \"),\"\")","v":""},30]
[{"$f":"+A425","v":"2021-07-30"},7,"1900-01-06",2,2,null,null,":",null,""," ",null,null,null,null,0,{"$f":"IF(WEEKDAY(A426)=1,IF(D426=2,VLOOKUP(R426,Daten!$C$49:$E$102,3),\" \"),\"\")","v":""},30]
[{"$f":"+A425+1","v":"2021-07-31"},7,"1900-01-07",1,0,null,null,":",null,""," ",null,null,null,null,0,{"$f":"IF(WEEKDAY(A427)=1,IF(D427=2,VLOOKUP(R427,Daten!$C$49:$E$102,3),\" \"),\"\")","v":""},30]
[{"$f":"+A427","v":"2021-07-31"},7,"1900-01-07",2,2,null,null,":",null,""," ",null,null,null,null,0,{"$f":"IF(WEEKDAY(A428)=1,IF(D428=2,VLOOKUP(R428,Daten!$C$49:$E$102,3),\" \"),\"\")","v":""},30]
[{"$f":"+A427+1","v":"2021-08-01"},8,"1900-01-01",1,0,null,null,":",null,""," ",null,null,null,null,0,{"$f":"IF(WEEKDAY(A429)=1,IF(D429=2,VLOOKUP(R429,Daten!$C$49:$E$102,3),\" \"),\"\")","v":" "},30]
[{"$f":"+A429","v":"2021-08-01"},8,"1900-01-01",2,1,null,null,":",null,""," ",null,null,null,null,0,{"$f":"IF(WEEKDAY(A430)=1,IF(D430=2,VLOOKUP(R430,Daten!$C$49:$E$102,3),\" \"),\"\")","v":0},30]
[{"$f":"+A429+1","v":"2021-08-02"},8,"1900-01-02",1,0,null,null,":",null,""," ",null,null,null,null,0,{"$f":"IF(WEEKDAY(A431)=1,IF(D431=2,VLOOKUP(R431,Daten!$C$49:$E$102,3),\" \"),\"\")","v":""},31]
[{"$f":"+A431","v":"2021-08-02"},8,"1900-01-02",2,2,null,null,":",null,""," ",null,null,null,null,0,{"$f":"IF(WEEKDAY(A432)=1,IF(D432=2,VLOOKUP(R432,Daten!$C$49:$E$102,3),\" \"),\"\")","v":""},31]
[{"$f":"+A431+1","v":"2021-08-03"},8,"1900-01-03",1,0,null,null,":",null,""," ",null,null,null,null,0,{"$f":"IF(WEEKDAY(A433)=1,IF(D433=2,VLOOKUP(R433,Daten!$C$49:$E$102,3),\" \"),\"\")","v":""},31]
[{"$f":"+A433","v":"2021-08-03"},8,"1900-01-03",2,2,null,null,":",null,""," ",null,null,null,null,0,{"$f":"IF(WEEKDAY(A434)=1,IF(D434=2,VLOOKUP(R434,Daten!$C$49:$E$102,3),\" \"),\"\")","v":""},31]
[{"$f":"+A433+1","v":"2021-08-04"},8,"1900-01-04",1,0,null,null,":",null,""," ",null,null,null,null,0,{"$f":"IF(WEEKDAY(A435)=1,IF(D435=2,VLOOKUP(R435,Daten!$C$49:$E$102,3),\" \"),\"\")","v":""},31]
[{"$f":"+A435","v":"2021-08-04"},8,"1900-01-04",2,2,null,null,":",null,""," ",null,null,null,null,0,{"$f":"IF(WEEKDAY(A436)=1,IF(D436=2,VLOOKUP(R436,Daten!$C$49:$E$102,3),\" \"),\"\")","v":""},31]
[{"$f":"+A435+1","v":"2021-08-05"},8,"1900-01-05",1,0,null,null,":",null,""," ",null,null,null,null,0,{"$f":"IF(WEEKDAY(A437)=1,IF(D437=2,VLOOKUP(R437,Daten!$C$49:$E$102,3),\" \"),\"\")","v":""},31]
[{"$f":"+A437","v":"2021-08-05"},8,"1900-01-05",2,2,null,null,":",null,""," ",null,null,null,null,0,{"$f":"IF(WEEKDAY(A438)=1,IF(D438=2,VLOOKUP(R438,Daten!$C$49:$E$102,3),\" \"),\"\")","v":""},31]
[{"$f":"+A437+1","v":"2021-08-06"},8,"1900-01-06",1,0,null,null,":",null,""," ",null,null,null,null,0,{"$f":"IF(WEEKDAY(A439)=1,IF(D439=2,VLOOKUP(R439,Daten!$C$49:$E$102,3),\" \"),\"\")","v":""},31]
[{"$f":"+A439","v":"2021-08-06"},8,"1900-01-06",2,2,null,null,":",null,""," ",null,null,null,null,0,{"$f":"IF(WEEKDAY(A440)=1,IF(D440=2,VLOOKUP(R440,Daten!$C$49:$E$102,3),\" \"),\"\")","v":""},31]
[{"$f":"+A439+1","v":"2021-08-07"},8,"1900-01-07",1,0,null,null,":",null,""," ",null,null,null,null,0,{"$f":"IF(WEEKDAY(A441)=1,IF(D441=2,VLOOKUP(R441,Daten!$C$49:$E$102,3),\" \"),\"\")","v":""},31]
[{"$f":"+A441","v":"2021-08-07"},8,"1900-01-07",2,2,null,null,":",null,""," ",null,null,null,null,0,{"$f":"IF(WEEKDAY(A442)=1,IF(D442=2,VLOOKUP(R442,Daten!$C$49:$E$102,3),\" \"),\"\")","v":""},31]
[{"$f":"+A441+1","v":"2021-08-08"},8,"1900-01-01",1,0,null,null,":",null,""," ",null,null,null,null,0,{"$f":"IF(WEEKDAY(A443)=1,IF(D443=2,VLOOKUP(R443,Daten!$C$49:$E$102,3),\" \"),\"\")","v":" "},31]
[{"$f":"+A443","v":"2021-08-08"},8,"1900-01-01",2,1,null,null,":",null,""," ",null,null,null,null,0,{"$f":"IF(WEEKDAY(A444)=1,IF(D444=2,VLOOKUP(R444,Daten!$C$49:$E$102,3),\" \"),\"\")","v":0},31]
[{"$f":"+A443+1","v":"2021-08-09"},8,"1900-01-02",1,0,null,null,":",null,""," ",null,null,null,null,0,{"$f":"IF(WEEKDAY(A445)=1,IF(D445=2,VLOOKUP(R445,Daten!$C$49:$E$102,3),\" \"),\"\")","v":""},32]
[{"$f":"+A445","v":"2021-08-09"},8,"1900-01-02",2,2,null,null,":",null,""," ",null,null,null,null,0,{"$f":"IF(WEEKDAY(A446)=1,IF(D446=2,VLOOKUP(R446,Daten!$C$49:$E$102,3),\" \"),\"\")","v":""},32]
[{"$f":"+A445+1","v":"2021-08-10"},8,"1900-01-03",1,0,null,null,":",null,""," ",null,null,null,null,0,{"$f":"IF(WEEKDAY(A447)=1,IF(D447=2,VLOOKUP(R447,Daten!$C$49:$E$102,3),\" \"),\"\")","v":""},32]
[{"$f":"+A447","v":"2021-08-10"},8,"1900-01-03",2,2,null,null,":",null,""," ",null,null,null,null,0,{"$f":"IF(WEEKDAY(A448)=1,IF(D448=2,VLOOKUP(R448,Daten!$C$49:$E$102,3),\" \"),\"\")","v":""},32]
[{"$f":"+A447+1","v":"2021-08-11"},8,"1900-01-04",1,0,null,null,":",null,""," ",null,null,null,null,0,{"$f":"IF(WEEKDAY(A449)=1,IF(D449=2,VLOOKUP(R449,Daten!$C$49:$E$102,3),\" \"),\"\")","v":""},32]
[{"$f":"+A449","v":"2021-08-11"},8,"1900-01-04",2,2,null,null,":",null,""," ",null,null,null,null,0,{"$f":"IF(WEEKDAY(A450)=1,IF(D450=2,VLOOKUP(R450,Daten!$C$49:$E$102,3),\" \"),\"\")","v":""},32]
[{"$f":"+A449+1","v":"2021-08-12"},8,"1900-01-05",1,0,null,null,":",null,""," ",null,null,null,null,0,{"$f":"IF(WEEKDAY(A451)=1,IF(D451=2,VLOOKUP(R451,Daten!$C$49:$E$102,3),\" \"),\"\")","v":""},32]
[{"$f":"+A451","v":"2021-08-12"},8,"1900-01-05",2,2,null,null,":",null,{"$f":"IF((+G452*60+I452)>0,G452*60+I452,\"\")","v":""},{"$f":"IF(+F452>0,F452/J452*60,\" \")","v":" "},null,null,null,null,0,{"$f":"IF(WEEKDAY(A452)=1,IF(D452=2,VLOOKUP(R452,Daten!$C$49:$E$102,3),\" \"),\"\")","v":""},32]
[{"$f":"+A451+1","v":"2021-08-13"},8,"1900-01-06",1,0,null,null,":",null,""," ",null,null,null,null,0,{"$f":"IF(WEEKDAY(A453)=1,IF(D453=2,VLOOKUP(R453,Daten!$C$49:$E$102,3),\" \"),\"\")","v":""},32]
[{"$f":"+A453","v":"2021-08-13"},{"$f":"MONTH(A454)","v":8},{"$f":"WEEKDAY(A454)","v":"1900-01-06"},2,{"$f":"IF(D454=2,IF(C454=1,1,2),0)","v":2},null,null,":",null,""," ",null,null,null,null,0,{"$f":"IF(WEEKDAY(A454)=1,IF(D454=2,VLOOKUP(R454,Daten!$C$49:$E$102,3),\" \"),\"\")","v":""},32]
[{"$f":"+A453+1","v":"2021-08-14"},8,"1900-01-07",1,0,null,null,":",null,""," ",null,null,null,null,{"$f":"IF(D455=2,+F455+F454,0)","v":0},{"$f":"IF(WEEKDAY(A455)=1,IF(D455=2,VLOOKUP(R455,Daten!$C$49:$E$102,3),\" \"),\"\")","v":""},{"$f":"IF(WEEKDAY(A455)=2,IF(D455=1,R454+1,R454),R454)","v":32}]
[{"$f":"+A455","v":"2021-08-14"},8,"1900-01-07",2,2,null,null,":",null,""," ",null,null,null,null,0,{"$f":"IF(WEEKDAY(A456)=1,IF(D456=2,VLOOKUP(R456,Daten!$C$49:$E$102,3),\" \"),\"\")","v":""},32]
[{"$f":"+A455+1","v":"2021-08-15"},8,"1900-01-01",1,0,null,null,":",null,""," ",null,null,null,null,0,{"$f":"IF(WEEKDAY(A457)=1,IF(D457=2,VLOOKUP(R457,Daten!$C$49:$E$102,3),\" \"),\"\")","v":" "},32]
[{"$f":"+A457","v":"2021-08-15"},8,"1900-01-01",2,1,null,null,":",null,""," ",null,null,null,null,0,{"$f":"IF(WEEKDAY(A458)=1,IF(D458=2,VLOOKUP(R458,Daten!$C$49:$E$102,3),\" \"),\"\")","v":0},32]
[{"$f":"+A457+1","v":"2021-08-16"},8,"1900-01-02",1,0,null,null,":",null,""," ",null,null,null,null,0,{"$f":"IF(WEEKDAY(A459)=1,IF(D459=2,VLOOKUP(R459,Daten!$C$49:$E$102,3),\" \"),\"\")","v":""},33]
[{"$f":"+A459","v":"2021-08-16"},8,"1900-01-02",2,2,null,null,":",null,""," ",null,null,null,null,0,{"$f":"IF(WEEKDAY(A460)=1,IF(D460=2,VLOOKUP(R460,Daten!$C$49:$E$102,3),\" \"),\"\")","v":""},33]
[{"$f":"+A459+1","v":"2021-08-17"},8,"1900-01-03",1,0,null,null,":",null,""," ",null,null,null,null,0,{"$f":"IF(WEEKDAY(A461)=1,IF(D461=2,VLOOKUP(R461,Daten!$C$49:$E$102,3),\" \"),\"\")","v":""},33]
[{"$f":"+A461","v":"2021-08-17"},8,"1900-01-03",2,2,null,null,":",null,""," ",null,null,null,null,0,{"$f":"IF(WEEKDAY(A462)=1,IF(D462=2,VLOOKUP(R462,Daten!$C$49:$E$102,3),\" \"),\"\")","v":""},33]
[{"$f":"+A461+1","v":"2021-08-18"},8,"1900-01-04",1,0,null,null,":",null,""," ",null,null,null,null,0,{"$f":"IF(WEEKDAY(A463)=1,IF(D463=2,VLOOKUP(R463,Daten!$C$49:$E$102,3),\" \"),\"\")","v":""},33]
[{"$f":"+A463","v":"2021-08-18"},8,"1900-01-04",2,2,null,null,":",null,""," ",null,null,null,null,0,{"$f":"IF(WEEKDAY(A464)=1,IF(D464=2,VLOOKUP(R464,Daten!$C$49:$E$102,3),\" \"),\"\")","v":""},33]
[{"$f":"+A463+1","v":"2021-08-19"},8,"1900-01-05",1,0,null,null,":",null,""," ",null,null,null,null,0,{"$f":"IF(WEEKDAY(A465)=1,IF(D465=2,VLOOKUP(R465,Daten!$C$49:$E$102,3),\" \"),\"\")","v":""},33]
[{"$f":"+A465","v":"2021-08-19"},8,"1900-01-05",2,2,null,null,":",null,""," ",null,null,null,null,0,{"$f":"IF(WEEKDAY(A466)=1,IF(D466=2,VLOOKUP(R466,Daten!$C$49:$E$102,3),\" \"),\"\")","v":""},33]
[{"$f":"+A465+1","v":"2021-08-20"},8,"1900-01-06",1,0,null,null,":",null,""," ",null,null,null,null,0,{"$f":"IF(WEEKDAY(A467)=1,IF(D467=2,VLOOKUP(R467,Daten!$C$49:$E$102,3),\" \"),\"\")","v":""},33]
[{"$f":"+A467","v":"2021-08-20"},8,"1900-01-06",2,2,null,null,":",null,""," ",null,null,null,null,0,{"$f":"IF(WEEKDAY(A468)=1,IF(D468=2,VLOOKUP(R468,Daten!$C$49:$E$102,3),\" \"),\"\")","v":""},33]
[{"$f":"+A467+1","v":"2021-08-21"},8,"1900-01-07",1,0,null,null,":",null,""," ",null,null,null,null,0,{"$f":"IF(WEEKDAY(A469)=1,IF(D469=2,VLOOKUP(R469,Daten!$C$49:$E$102,3),\" \"),\"\")","v":""},33]
[{"$f":"+A469","v":"2021-08-21"},8,"1900-01-07",2,2,null,null,":",null,""," ",null,null,null,null,0,{"$f":"IF(WEEKDAY(A470)=1,IF(D470=2,VLOOKUP(R470,Daten!$C$49:$E$102,3),\" \"),\"\")","v":""},33]
[{"$f":"+A469+1","v":"2021-08-22"},8,"1900-01-01",1,0,null,null,":",null,""," ",null,null,null,null,0,{"$f":"IF(WEEKDAY(A471)=1,IF(D471=2,VLOOKUP(R471,Daten!$C$49:$E$102,3),\" \"),\"\")","v":" "},33]
[{"$f":"+A471","v":"2021-08-22"},8,"1900-01-01",2,1,null,null,":",null,""," ",null,null,null,null,0,{"$f":"IF(WEEKDAY(A472)=1,IF(D472=2,VLOOKUP(R472,Daten!$C$49:$E$102,3),\" \"),\"\")","v":0},33]
[{"$f":"+A471+1","v":"2021-08-23"},8,"1900-01-02",1,0,null,null,":",null,""," ",null,null,null,null,0,{"$f":"IF(WEEKDAY(A473)=1,IF(D473=2,VLOOKUP(R473,Daten!$C$49:$E$102,3),\" \"),\"\")","v":""},34]
[{"$f":"+A473","v":"2021-08-23"},8,"1900-01-02",2,2,null,null,":",null,""," ",null,null,null,null,0,{"$f":"IF(WEEKDAY(A474)=1,IF(D474=2,VLOOKUP(R474,Daten!$C$49:$E$102,3),\" \"),\"\")","v":""},34]
[{"$f":"+A473+1","v":"2021-08-24"},8,"1900-01-03",1,0,null,null,":",null,""," ",null,null,null,null,0,{"$f":"IF(WEEKDAY(A475)=1,IF(D475=2,VLOOKUP(R475,Daten!$C$49:$E$102,3),\" \"),\"\")","v":""},34]
[{"$f":"+A475","v":"2021-08-24"},8,"1900-01-03",2,2,null,null,":",null,""," ",null,null,null,null,0,{"$f":"IF(WEEKDAY(A476)=1,IF(D476=2,VLOOKUP(R476,Daten!$C$49:$E$102,3),\" \"),\"\")","v":""},34]
[{"$f":"+A475+1","v":"2021-08-25"},8,"1900-01-04",1,0,null,null,":",null,""," ",null,null,null,null,0,{"$f":"IF(WEEKDAY(A477)=1,IF(D477=2,VLOOKUP(R477,Daten!$C$49:$E$102,3),\" \"),\"\")","v":""},34]
[{"$f":"+A477","v":"2021-08-25"},8,"1900-01-04",2,2,null,null,":",null,""," ",null,null,null,null,0,{"$f":"IF(WEEKDAY(A478)=1,IF(D478=2,VLOOKUP(R478,Daten!$C$49:$E$102,3),\" \"),\"\")","v":""},34]
[{"$f":"+A477+1","v":"2021-08-26"},8,"1900-01-05",1,0,null,null,":",null,""," ",null,null,null,null,0,{"$f":"IF(WEEKDAY(A479)=1,IF(D479=2,VLOOKUP(R479,Daten!$C$49:$E$102,3),\" \"),\"\")","v":""},34]
[{"$f":"+A479","v":"2021-08-26"},8,"1900-01-05",2,2,null,null,":",null,""," ",null,null,null,null,0,{"$f":"IF(WEEKDAY(A480)=1,IF(D480=2,VLOOKUP(R480,Daten!$C$49:$E$102,3),\" \"),\"\")","v":""},34]
[{"$f":"+A479+1","v":"2021-08-27"},8,"1900-01-06",1,0,null,null,":",null,""," ",null,null,null,null,0,{"$f":"IF(WEEKDAY(A481)=1,IF(D481=2,VLOOKUP(R481,Daten!$C$49:$E$102,3),\" \"),\"\")","v":""},34]
[{"$f":"+A481","v":"2021-08-27"},8,"1900-01-06",2,2,null,null,":",null,""," ",null,null,null,null,0,{"$f":"IF(WEEKDAY(A482)=1,IF(D482=2,VLOOKUP(R482,Daten!$C$49:$E$102,3),\" \"),\"\")","v":""},34]
[{"$f":"+A481+1","v":"2021-08-28"},8,"1900-01-07",1,0,null,null,":",null,""," ",null,null,null,null,0,{"$f":"IF(WEEKDAY(A483)=1,IF(D483=2,VLOOKUP(R483,Daten!$C$49:$E$102,3),\" \"),\"\")","v":""},34]
[{"$f":"+A483","v":"2021-08-28"},8,"1900-01-07",2,2,null,null,":",null,""," ",null,null,null,null,0,{"$f":"IF(WEEKDAY(A484)=1,IF(D484=2,VLOOKUP(R484,Daten!$C$49:$E$102,3),\" \"),\"\")","v":""},34]
[{"$f":"+A483+1","v":"2021-08-29"},8,"1900-01-01",1,0,null,null,":",null,""," ",null,null,null,null,0,{"$f":"IF(WEEKDAY(A485)=1,IF(D485=2,VLOOKUP(R485,Daten!$C$49:$E$102,3),\" \"),\"\")","v":" "},34]
[{"$f":"+A485","v":"2021-08-29"},8,"1900-01-01",2,1,null,null,":",null,""," ",null,null,null,null,0,{"$f":"IF(WEEKDAY(A486)=1,IF(D486=2,VLOOKUP(R486,Daten!$C$49:$E$102,3),\" \"),\"\")","v":0},34]
[{"$f":"+A485+1","v":"2021-08-30"},8,"1900-01-02",1,0,null,null,":",null,""," ",null,null,null,null,0,{"$f":"IF(WEEKDAY(A487)=1,IF(D487=2,VLOOKUP(R487,Daten!$C$49:$E$102,3),\" \"),\"\")","v":""},35]
[{"$f":"+A487","v":"2021-08-30"},8,"1900-01-02",2,2,null,null,":",null,""," ",null,null,null,null,0,{"$f":"IF(WEEKDAY(A488)=1,IF(D488=2,VLOOKUP(R488,Daten!$C$49:$E$102,3),\" \"),\"\")","v":""},35]
[{"$f":"+A487+1","v":"2021-08-31"},8,"1900-01-03",1,0,null,null,":",null,""," ",null,null,null,null,0,{"$f":"IF(WEEKDAY(A489)=1,IF(D489=2,VLOOKUP(R489,Daten!$C$49:$E$102,3),\" \"),\"\")","v":""},35]
[{"$f":"+A489","v":"2021-08-31"},8,"1900-01-03",2,2,null,null,":",null,""," ",null,null,null,null,0,{"$f":"IF(WEEKDAY(A490)=1,IF(D490=2,VLOOKUP(R490,Daten!$C$49:$E$102,3),\" \"),\"\")","v":""},35]
[{"$f":"+A489+1","v":"2021-09-01"},9,"1900-01-04",1,0,null,null,":",null,""," ",null,null,null,null,0,{"$f":"IF(WEEKDAY(A491)=1,IF(D491=2,VLOOKUP(R491,Daten!$C$49:$E$102,3),\" \"),\"\")","v":""},35]
[{"$f":"+A491","v":"2021-09-01"},9,"1900-01-04",2,2,null,null,":",null,""," ",null,null,null,null,0,{"$f":"IF(WEEKDAY(A492)=1,IF(D492=2,VLOOKUP(R492,Daten!$C$49:$E$102,3),\" \"),\"\")","v":""},35]
[{"$f":"+A491+1","v":"2021-09-02"},9,"1900-01-05",1,0,null,null,":",null,""," ",null,null,null,null,0,{"$f":"IF(WEEKDAY(A493)=1,IF(D493=2,VLOOKUP(R493,Daten!$C$49:$E$102,3),\" \"),\"\")","v":""},35]
[{"$f":"+A493","v":"2021-09-02"},9,"1900-01-05",2,2,null,null,":",null,""," ",null,null,null,null,0,{"$f":"IF(WEEKDAY(A494)=1,IF(D494=2,VLOOKUP(R494,Daten!$C$49:$E$102,3),\" \"),\"\")","v":""},35]
[{"$f":"+A493+1","v":"2021-09-03"},9,"1900-01-06",1,0,null,null,":",null,""," ",null,null,null,null,0,{"$f":"IF(WEEKDAY(A495)=1,IF(D495=2,VLOOKUP(R495,Daten!$C$49:$E$102,3),\" \"),\"\")","v":""},35]
[{"$f":"+A495","v":"2021-09-03"},9,"1900-01-06",2,2,null,null,":",null,""," ",null,null,null,null,0,{"$f":"IF(WEEKDAY(A496)=1,IF(D496=2,VLOOKUP(R496,Daten!$C$49:$E$102,3),\" \"),\"\")","v":""},35]
[{"$f":"+A495+1","v":"2021-09-04"},9,"1900-01-07",1,0,null,null,":",null,""," ",null,null,null,null,0,{"$f":"IF(WEEKDAY(A497)=1,IF(D497=2,VLOOKUP(R497,Daten!$C$49:$E$102,3),\" \"),\"\")","v":""},35]
[{"$f":"+A497","v":"2021-09-04"},9,"1900-01-07",2,2,null,null,":",null,""," ",null,null,null,null,0,{"$f":"IF(WEEKDAY(A498)=1,IF(D498=2,VLOOKUP(R498,Daten!$C$49:$E$102,3),\" \"),\"\")","v":""},35]
[{"$f":"+A497+1","v":"2021-09-05"},9,"1900-01-01",1,0,null,null,":",null,""," ",null,null,null,null,0,{"$f":"IF(WEEKDAY(A499)=1,IF(D499=2,VLOOKUP(R499,Daten!$C$49:$E$102,3),\" \"),\"\")","v":" "},35]
[{"$f":"+A499","v":"2021-09-05"},9,"1900-01-01",2,1,null,null,":",null,""," ",null,null,null,null,0,{"$f":"IF(WEEKDAY(A500)=1,IF(D500=2,VLOOKUP(R500,Daten!$C$49:$E$102,3),\" \"),\"\")","v":0},35]
[{"$f":"+A499+1","v":"2021-09-06"},9,"1900-01-02",1,0,null,null,":",null,""," ",null,null,null,null,0,{"$f":"IF(WEEKDAY(A501)=1,IF(D501=2,VLOOKUP(R501,Daten!$C$49:$E$102,3),\" \"),\"\")","v":""},36]
[{"$f":"+A501","v":"2021-09-06"},9,"1900-01-02",2,2,null,null,":",null,""," ",null,null,null,null,0,{"$f":"IF(WEEKDAY(A502)=1,IF(D502=2,VLOOKUP(R502,Daten!$C$49:$E$102,3),\" \"),\"\")","v":""},36]
[{"$f":"+A501+1","v":"2021-09-07"},9,"1900-01-03",1,0,null,null,":",null,""," ",null,null,null,null,0,{"$f":"IF(WEEKDAY(A503)=1,IF(D503=2,VLOOKUP(R503,Daten!$C$49:$E$102,3),\" \"),\"\")","v":""},36]
[{"$f":"+A503","v":"2021-09-07"},9,"1900-01-03",2,2,null,null,":",null,""," ",null,null,null,null,0,{"$f":"IF(WEEKDAY(A504)=1,IF(D504=2,VLOOKUP(R504,Daten!$C$49:$E$102,3),\" \"),\"\")","v":""},36]
[{"$f":"+A503+1","v":"2021-09-08"},9,"1900-01-04",1,0,null,null,":",null,""," ",null,null,null,null,0,{"$f":"IF(WEEKDAY(A505)=1,IF(D505=2,VLOOKUP(R505,Daten!$C$49:$E$102,3),\" \"),\"\")","v":""},36]
[{"$f":"+A505","v":"2021-09-08"},9,"1900-01-04",2,2,null,null,":",null,""," ",null,null,null,null,0,{"$f":"IF(WEEKDAY(A506)=1,IF(D506=2,VLOOKUP(R506,Daten!$C$49:$E$102,3),\" \"),\"\")","v":""},36]
[{"$f":"+A505+1","v":"2021-09-09"},9,"1900-01-05",1,0,null,null,":",null,""," ",null,null,null,null,0,{"$f":"IF(WEEKDAY(A507)=1,IF(D507=2,VLOOKUP(R507,Daten!$C$49:$E$102,3),\" \"),\"\")","v":""},36]
[{"$f":"+A507","v":"2021-09-09"},9,"1900-01-05",2,2,null,null,":",null,""," ",null,null,null,null,0,{"$f":"IF(WEEKDAY(A508)=1,IF(D508=2,VLOOKUP(R508,Daten!$C$49:$E$102,3),\" \"),\"\")","v":""},36]
[{"$f":"+A507+1","v":"2021-09-10"},9,"1900-01-06",1,0,null,null,":",null,""," ",null,null,null,null,0,{"$f":"IF(WEEKDAY(A509)=1,IF(D509=2,VLOOKUP(R509,Daten!$C$49:$E$102,3),\" \"),\"\")","v":""},36]
[{"$f":"+A509","v":"2021-09-10"},9,"1900-01-06",2,2,null,null,":",null,""," ",null,null,null,null,0,{"$f":"IF(WEEKDAY(A510)=1,IF(D510=2,VLOOKUP(R510,Daten!$C$49:$E$102,3),\" \"),\"\")","v":""},36]
[{"$f":"+A509+1","v":"2021-09-11"},9,"1900-01-07",1,0,null,null,":",null,""," ",null,null,null,null,0,{"$f":"IF(WEEKDAY(A511)=1,IF(D511=2,VLOOKUP(R511,Daten!$C$49:$E$102,3),\" \"),\"\")","v":""},36]
[{"$f":"+A511","v":"2021-09-11"},9,"1900-01-07",2,2,null,null,":",null,""," ",null,null,null,null,0,{"$f":"IF(WEEKDAY(A512)=1,IF(D512=2,VLOOKUP(R512,Daten!$C$49:$E$102,3),\" \"),\"\")","v":""},36]
[{"$f":"+A511+1","v":"2021-09-12"},9,"1900-01-01",1,0,null,null,":",null,""," ",null,null,null,null,0,{"$f":"IF(WEEKDAY(A513)=1,IF(D513=2,VLOOKUP(R513,Daten!$C$49:$E$102,3),\" \"),\"\")","v":" "},36]
[{"$f":"+A513","v":"2021-09-12"},9,"1900-01-01",2,1,null,null,":",null,""," ",null,null,null,null,0,{"$f":"IF(WEEKDAY(A514)=1,IF(D514=2,VLOOKUP(R514,Daten!$C$49:$E$102,3),\" \"),\"\")","v":0},36]
[{"$f":"+A513+1","v":"2021-09-13"},9,"1900-01-02",1,0,null,null,":",null,""," ",null,null,null,null,0,{"$f":"IF(WEEKDAY(A515)=1,IF(D515=2,VLOOKUP(R515,Daten!$C$49:$E$102,3),\" \"),\"\")","v":""},37]
[{"$f":"+A515","v":"2021-09-13"},9,"1900-01-02",2,2,null,null,":",null,{"$f":"IF((+G516*60+I516)>0,G516*60+I516,\"\")","v":""},{"$f":"IF(+F516>0,F516/J516*60,\" \")","v":" "},null,null,null,null,0,{"$f":"IF(WEEKDAY(A516)=1,IF(D516=2,VLOOKUP(R516,Daten!$C$49:$E$102,3),\" \"),\"\")","v":""},37]
[{"$f":"+A515+1","v":"2021-09-14"},9,"1900-01-03",1,0,null,null,":",null,""," ",null,null,null,null,0,{"$f":"IF(WEEKDAY(A517)=1,IF(D517=2,VLOOKUP(R517,Daten!$C$49:$E$102,3),\" \"),\"\")","v":""},37]
[{"$f":"+A517","v":"2021-09-14"},{"$f":"MONTH(A518)","v":9},{"$f":"WEEKDAY(A518)","v":"1900-01-03"},2,{"$f":"IF(D518=2,IF(C518=1,1,2),0)","v":2},null,null,":",null,""," ",null,null,null,null,0,{"$f":"IF(WEEKDAY(A518)=1,IF(D518=2,VLOOKUP(R518,Daten!$C$49:$E$102,3),\" \"),\"\")","v":""},37]
[{"$f":"+A517+1","v":"2021-09-15"},9,"1900-01-04",1,0,null,null,":",null,""," ",null,null,null,null,{"$f":"IF(D519=2,+F519+F518,0)","v":0},{"$f":"IF(WEEKDAY(A519)=1,IF(D519=2,VLOOKUP(R519,Daten!$C$49:$E$102,3),\" \"),\"\")","v":""},{"$f":"IF(WEEKDAY(A519)=2,IF(D519=1,R518+1,R518),R518)","v":37}]
[{"$f":"+A519","v":"2021-09-15"},9,"1900-01-04",2,2,null,null,":",null,""," ",null,null,null,null,0,{"$f":"IF(WEEKDAY(A520)=1,IF(D520=2,VLOOKUP(R520,Daten!$C$49:$E$102,3),\" \"),\"\")","v":""},37]
[{"$f":"+A519+1","v":"2021-09-16"},9,"1900-01-05",1,0,null,null,":",null,""," ",null,null,null,null,0,{"$f":"IF(WEEKDAY(A521)=1,IF(D521=2,VLOOKUP(R521,Daten!$C$49:$E$102,3),\" \"),\"\")","v":""},37]
[{"$f":"+A521","v":"2021-09-16"},9,"1900-01-05",2,2,null,null,":",null,""," ",null,null,null,null,0,{"$f":"IF(WEEKDAY(A522)=1,IF(D522=2,VLOOKUP(R522,Daten!$C$49:$E$102,3),\" \"),\"\")","v":""},37]
[{"$f":"+A521+1","v":"2021-09-17"},9,"1900-01-06",1,0,null,null,":",null,""," ",null,null,null,null,0,{"$f":"IF(WEEKDAY(A523)=1,IF(D523=2,VLOOKUP(R523,Daten!$C$49:$E$102,3),\" \"),\"\")","v":""},37]
[{"$f":"+A523","v":"2021-09-17"},9,"1900-01-06",2,2,null,null,":",null,""," ",null,null,null,null,0,{"$f":"IF(WEEKDAY(A524)=1,IF(D524=2,VLOOKUP(R524,Daten!$C$49:$E$102,3),\" \"),\"\")","v":""},37]
[{"$f":"+A523+1","v":"2021-09-18"},9,"1900-01-07",1,0,null,null,":",null,""," ",null,null,null,null,0,{"$f":"IF(WEEKDAY(A525)=1,IF(D525=2,VLOOKUP(R525,Daten!$C$49:$E$102,3),\" \"),\"\")","v":""},37]
[{"$f":"+A525","v":"2021-09-18"},9,"1900-01-07",2,2,null,null,":",null,""," ",null,null,null,null,0,{"$f":"IF(WEEKDAY(A526)=1,IF(D526=2,VLOOKUP(R526,Daten!$C$49:$E$102,3),\" \"),\"\")","v":""},37]
[{"$f":"+A525+1","v":"2021-09-19"},9,"1900-01-01",1,0,null,null,":",null,""," ",null,null,null,null,0,{"$f":"IF(WEEKDAY(A527)=1,IF(D527=2,VLOOKUP(R527,Daten!$C$49:$E$102,3),\" \"),\"\")","v":" "},37]
[{"$f":"+A527","v":"2021-09-19"},9,"1900-01-01",2,1,null,null,":",null,""," ",null,null,null,null,0,{"$f":"IF(WEEKDAY(A528)=1,IF(D528=2,VLOOKUP(R528,Daten!$C$49:$E$102,3),\" \"),\"\")","v":0},37]
[{"$f":"+A527+1","v":"2021-09-20"},9,"1900-01-02",1,0,null,null,":",null,""," ",null,null,null,null,0,{"$f":"IF(WEEKDAY(A529)=1,IF(D529=2,VLOOKUP(R529,Daten!$C$49:$E$102,3),\" \"),\"\")","v":""},38]
[{"$f":"+A529","v":"2021-09-20"},9,"1900-01-02",2,2,null,null,":",null,""," ",null,null,null,null,0,{"$f":"IF(WEEKDAY(A530)=1,IF(D530=2,VLOOKUP(R530,Daten!$C$49:$E$102,3),\" \"),\"\")","v":""},38]
[{"$f":"+A529+1","v":"2021-09-21"},9,"1900-01-03",1,0,null,null,":",null,""," ",null,null,null,null,0,{"$f":"IF(WEEKDAY(A531)=1,IF(D531=2,VLOOKUP(R531,Daten!$C$49:$E$102,3),\" \"),\"\")","v":""},38]
[{"$f":"+A531","v":"2021-09-21"},9,"1900-01-03",2,2,null,null,":",null,""," ",null,null,null,null,0,{"$f":"IF(WEEKDAY(A532)=1,IF(D532=2,VLOOKUP(R532,Daten!$C$49:$E$102,3),\" \"),\"\")","v":""},38]
[{"$f":"+A531+1","v":"2021-09-22"},9,"1900-01-04",1,0,null,null,":",null,""," ",null,null,null,null,0,{"$f":"IF(WEEKDAY(A533)=1,IF(D533=2,VLOOKUP(R533,Daten!$C$49:$E$102,3),\" \"),\"\")","v":""},38]
[{"$f":"+A533","v":"2021-09-22"},9,"1900-01-04",2,2,null,null,":",null,""," ",null,null,null,null,0,{"$f":"IF(WEEKDAY(A534)=1,IF(D534=2,VLOOKUP(R534,Daten!$C$49:$E$102,3),\" \"),\"\")","v":""},38]
[{"$f":"+A533+1","v":"2021-09-23"},9,"1900-01-05",1,0,null,null,":",null,""," ",null,null,null,null,0,{"$f":"IF(WEEKDAY(A535)=1,IF(D535=2,VLOOKUP(R535,Daten!$C$49:$E$102,3),\" \"),\"\")","v":""},38]
[{"$f":"+A535","v":"2021-09-23"},9,"1900-01-05",2,2,null,null,":",null,""," ",null,null,null,null,0,{"$f":"IF(WEEKDAY(A536)=1,IF(D536=2,VLOOKUP(R536,Daten!$C$49:$E$102,3),\" \"),\"\")","v":""},38]
[{"$f":"+A535+1","v":"2021-09-24"},9,"1900-01-06",1,0,null,null,":",null,""," ",null,null,null,null,0,{"$f":"IF(WEEKDAY(A537)=1,IF(D537=2,VLOOKUP(R537,Daten!$C$49:$E$102,3),\" \"),\"\")","v":""},38]
[{"$f":"+A537","v":"2021-09-24"},9,"1900-01-06",2,2,null,null,":",null,""," ",null,null,null,null,0,{"$f":"IF(WEEKDAY(A538)=1,IF(D538=2,VLOOKUP(R538,Daten!$C$49:$E$102,3),\" \"),\"\")","v":""},38]
[{"$f":"+A537+1","v":"2021-09-25"},9,"1900-01-07",1,0,null,null,":",null,""," ",null,null,null,null,0,{"$f":"IF(WEEKDAY(A539)=1,IF(D539=2,VLOOKUP(R539,Daten!$C$49:$E$102,3),\" \"),\"\")","v":""},38]
[{"$f":"+A539","v":"2021-09-25"},9,"1900-01-07",2,2,null,null,":",null,""," ",null,null,null,null,0,{"$f":"IF(WEEKDAY(A540)=1,IF(D540=2,VLOOKUP(R540,Daten!$C$49:$E$102,3),\" \"),\"\")","v":""},38]
[{"$f":"+A539+1","v":"2021-09-26"},9,"1900-01-01",1,0,null,null,":",null,""," ",null,null,null,null,0,{"$f":"IF(WEEKDAY(A541)=1,IF(D541=2,VLOOKUP(R541,Daten!$C$49:$E$102,3),\" \"),\"\")","v":" "},38]
[{"$f":"+A541","v":"2021-09-26"},9,"1900-01-01",2,1,null,null,":",null,""," ",null,null,null,null,0,{"$f":"IF(WEEKDAY(A542)=1,IF(D542=2,VLOOKUP(R542,Daten!$C$49:$E$102,3),\" \"),\"\")","v":0},38]
[{"$f":"+A541+1","v":"2021-09-27"},9,"1900-01-02",1,0,null,null,":",null,""," ",null,null,null,null,0,{"$f":"IF(WEEKDAY(A543)=1,IF(D543=2,VLOOKUP(R543,Daten!$C$49:$E$102,3),\" \"),\"\")","v":""},39]
[{"$f":"+A543","v":"2021-09-27"},9,"1900-01-02",2,2,null,null,":",null,""," ",null,null,null,null,0,{"$f":"IF(WEEKDAY(A544)=1,IF(D544=2,VLOOKUP(R544,Daten!$C$49:$E$102,3),\" \"),\"\")","v":""},39]
[{"$f":"+A543+1","v":"2021-09-28"},9,"1900-01-03",1,0,null,null,":",null,""," ",null,null,null,null,0,{"$f":"IF(WEEKDAY(A545)=1,IF(D545=2,VLOOKUP(R545,Daten!$C$49:$E$102,3),\" \"),\"\")","v":""},39]
[{"$f":"+A545","v":"2021-09-28"},9,"1900-01-03",2,2,null,null,":",null,""," ",null,null,null,null,0,{"$f":"IF(WEEKDAY(A546)=1,IF(D546=2,VLOOKUP(R546,Daten!$C$49:$E$102,3),\" \"),\"\")","v":""},39]
[{"$f":"+A545+1","v":"2021-09-29"},9,"1900-01-04",1,0,null,null,":",null,""," ",null,null,null,null,0,{"$f":"IF(WEEKDAY(A547)=1,IF(D547=2,VLOOKUP(R547,Daten!$C$49:$E$102,3),\" \"),\"\")","v":""},39]
[{"$f":"+A547","v":"2021-09-29"},9,"1900-01-04",2,2,null,null,":",null,""," ",null,null,null,null,0,{"$f":"IF(WEEKDAY(A548)=1,IF(D548=2,VLOOKUP(R548,Daten!$C$49:$E$102,3),\" \"),\"\")","v":""},39]
[{"$f":"+A547+1","v":"2021-09-30"},9,"1900-01-05",1,0,null,null,":",null,""," ",null,null,null,null,0,{"$f":"IF(WEEKDAY(A549)=1,IF(D549=2,VLOOKUP(R549,Daten!$C$49:$E$102,3),\" \"),\"\")","v":""},39]
[{"$f":"+A549","v":"2021-09-30"},9,"1900-01-05",2,2,null,null,":",null,""," ",null,null,null,null,0,{"$f":"IF(WEEKDAY(A550)=1,IF(D550=2,VLOOKUP(R550,Daten!$C$49:$E$102,3),\" \"),\"\")","v":""},39]
[{"$f":"+A549+1","v":"2021-10-01"},10,"1900-01-06",1,0,null,null,":",null,""," ",null,null,null,null,0,{"$f":"IF(WEEKDAY(A551)=1,IF(D551=2,VLOOKUP(R551,Daten!$C$49:$E$102,3),\" \"),\"\")","v":""},39]
[{"$f":"+A551","v":"2021-10-01"},10,"1900-01-06",2,2,null,null,":",null,""," ",null,null,null,null,0,{"$f":"IF(WEEKDAY(A552)=1,IF(D552=2,VLOOKUP(R552,Daten!$C$49:$E$102,3),\" \"),\"\")","v":""},39]
[{"$f":"+A551+1","v":"2021-10-02"},10,"1900-01-07",1,0,null,null,":",null,""," ",null,null,null,null,0,{"$f":"IF(WEEKDAY(A553)=1,IF(D553=2,VLOOKUP(R553,Daten!$C$49:$E$102,3),\" \"),\"\")","v":""},39]
[{"$f":"+A553","v":"2021-10-02"},10,"1900-01-07",2,2,null,null,":",null,""," ",null,null,null,null,0,{"$f":"IF(WEEKDAY(A554)=1,IF(D554=2,VLOOKUP(R554,Daten!$C$49:$E$102,3),\" \"),\"\")","v":""},39]
[{"$f":"+A553+1","v":"2021-10-03"},10,"1900-01-01",1,0,null,null,":",null,""," ",null,null,null,null,0,{"$f":"IF(WEEKDAY(A555)=1,IF(D555=2,VLOOKUP(R555,Daten!$C$49:$E$102,3),\" \"),\"\")","v":" "},39]
[{"$f":"+A555","v":"2021-10-03"},10,"1900-01-01",2,1,null,null,":",null,""," ",null,null,null,null,0,{"$f":"IF(WEEKDAY(A556)=1,IF(D556=2,VLOOKUP(R556,Daten!$C$49:$E$102,3),\" \"),\"\")","v":0},39]
[{"$f":"+A555+1","v":"2021-10-04"},10,"1900-01-02",1,0,null,null,":",null,""," ",null,null,null,null,0,{"$f":"IF(WEEKDAY(A557)=1,IF(D557=2,VLOOKUP(R557,Daten!$C$49:$E$102,3),\" \"),\"\")","v":""},40]
[{"$f":"+A557","v":"2021-10-04"},10,"1900-01-02",2,2,null,null,":",null,""," ",null,null,null,null,0,{"$f":"IF(WEEKDAY(A558)=1,IF(D558=2,VLOOKUP(R558,Daten!$C$49:$E$102,3),\" \"),\"\")","v":""},40]
[{"$f":"+A557+1","v":"2021-10-05"},10,"1900-01-03",1,0,null,null,":",null,""," ",null,null,null,null,0,{"$f":"IF(WEEKDAY(A559)=1,IF(D559=2,VLOOKUP(R559,Daten!$C$49:$E$102,3),\" \"),\"\")","v":""},40]
[{"$f":"+A559","v":"2021-10-05"},10,"1900-01-03",2,2,null,null,":",null,""," ",null,null,null,null,0,{"$f":"IF(WEEKDAY(A560)=1,IF(D560=2,VLOOKUP(R560,Daten!$C$49:$E$102,3),\" \"),\"\")","v":""},40]
[{"$f":"+A559+1","v":"2021-10-06"},10,"1900-01-04",1,0,null,null,":",null,""," ",null,null,null,null,0,{"$f":"IF(WEEKDAY(A561)=1,IF(D561=2,VLOOKUP(R561,Daten!$C$49:$E$102,3),\" \"),\"\")","v":""},40]
[{"$f":"+A561","v":"2021-10-06"},10,"1900-01-04",2,2,null,null,":",null,""," ",null,null,null,null,0,{"$f":"IF(WEEKDAY(A562)=1,IF(D562=2,VLOOKUP(R562,Daten!$C$49:$E$102,3),\" \"),\"\")","v":""},40]
[{"$f":"+A561+1","v":"2021-10-07"},10,"1900-01-05",1,0,null,null,":",null,""," ",null,null,null,null,0,{"$f":"IF(WEEKDAY(A563)=1,IF(D563=2,VLOOKUP(R563,Daten!$C$49:$E$102,3),\" \"),\"\")","v":""},40]
[{"$f":"+A563","v":"2021-10-07"},10,"1900-01-05",2,2,null,null,":",null,""," ",null,null,null,null,0,{"$f":"IF(WEEKDAY(A564)=1,IF(D564=2,VLOOKUP(R564,Daten!$C$49:$E$102,3),\" \"),\"\")","v":""},40]
[{"$f":"+A563+1","v":"2021-10-08"},10,"1900-01-06",1,0,null,null,":",null,""," ",null,null,null,null,0,{"$f":"IF(WEEKDAY(A565)=1,IF(D565=2,VLOOKUP(R565,Daten!$C$49:$E$102,3),\" \"),\"\")","v":""},40]
[{"$f":"+A565","v":"2021-10-08"},10,"1900-01-06",2,2,null,null,":",null,""," ",null,null,null,null,0,{"$f":"IF(WEEKDAY(A566)=1,IF(D566=2,VLOOKUP(R566,Daten!$C$49:$E$102,3),\" \"),\"\")","v":""},40]
[{"$f":"+A565+1","v":"2021-10-09"},10,"1900-01-07",1,0,null,null,":",null,""," ",null,null,null,null,0,{"$f":"IF(WEEKDAY(A567)=1,IF(D567=2,VLOOKUP(R567,Daten!$C$49:$E$102,3),\" \"),\"\")","v":""},40]
[{"$f":"+A567","v":"2021-10-09"},10,"1900-01-07",2,2,null,null,":",null,""," ",null,null,null,null,0,{"$f":"IF(WEEKDAY(A568)=1,IF(D568=2,VLOOKUP(R568,Daten!$C$49:$E$102,3),\" \"),\"\")","v":""},40]
[{"$f":"+A567+1","v":"2021-10-10"},10,"1900-01-01",1,0,null,null,":",null,""," ",null,null,null,null,0,{"$f":"IF(WEEKDAY(A569)=1,IF(D569=2,VLOOKUP(R569,Daten!$C$49:$E$102,3),\" \"),\"\")","v":" "},40]
[{"$f":"+A569","v":"2021-10-10"},10,"1900-01-01",2,1,null,null,":",null,""," ",null,null,null,null,0,{"$f":"IF(WEEKDAY(A570)=1,IF(D570=2,VLOOKUP(R570,Daten!$C$49:$E$102,3),\" \"),\"\")","v":0},40]
[{"$f":"+A569+1","v":"2021-10-11"},10,"1900-01-02",1,0,null,null,":",null,""," ",null,null,null,null,0,{"$f":"IF(WEEKDAY(A571)=1,IF(D571=2,VLOOKUP(R571,Daten!$C$49:$E$102,3),\" \"),\"\")","v":""},41]
[{"$f":"+A571","v":"2021-10-11"},10,"1900-01-02",2,2,null,null,":",null,""," ",null,null,null,null,0,{"$f":"IF(WEEKDAY(A572)=1,IF(D572=2,VLOOKUP(R572,Daten!$C$49:$E$102,3),\" \"),\"\")","v":""},41]
[{"$f":"+A571+1","v":"2021-10-12"},10,"1900-01-03",1,0,null,null,":",null,""," ",null,null,null,null,0,{"$f":"IF(WEEKDAY(A573)=1,IF(D573=2,VLOOKUP(R573,Daten!$C$49:$E$102,3),\" \"),\"\")","v":""},41]
[{"$f":"+A573","v":"2021-10-12"},10,"1900-01-03",2,2,null,null,":",null,""," ",null,null,null,null,0,{"$f":"IF(WEEKDAY(A574)=1,IF(D574=2,VLOOKUP(R574,Daten!$C$49:$E$102,3),\" \"),\"\")","v":""},41]
[{"$f":"+A573+1","v":"2021-10-13"},10,"1900-01-04",1,0,null,null,":",null,""," ",null,null,null,null,0,{"$f":"IF(WEEKDAY(A575)=1,IF(D575=2,VLOOKUP(R575,Daten!$C$49:$E$102,3),\" \"),\"\")","v":""},41]
[{"$f":"+A575","v":"2021-10-13"},10,"1900-01-04",2,2,null,null,":",null,""," ",null,null,null,null,0,{"$f":"IF(WEEKDAY(A576)=1,IF(D576=2,VLOOKUP(R576,Daten!$C$49:$E$102,3),\" \"),\"\")","v":""},41]
[{"$f":"+A575+1","v":"2021-10-14"},10,"1900-01-05",1,0,null,null,":",null,""," ",null,null,null,null,0,{"$f":"IF(WEEKDAY(A577)=1,IF(D577=2,VLOOKUP(R577,Daten!$C$49:$E$102,3),\" \"),\"\")","v":""},41]
[{"$f":"+A577","v":"2021-10-14"},10,"1900-01-05",2,2,null,null,":",null,""," ",null,null,null,null,0,{"$f":"IF(WEEKDAY(A578)=1,IF(D578=2,VLOOKUP(R578,Daten!$C$49:$E$102,3),\" \"),\"\")","v":""},41]
[{"$f":"+A577+1","v":"2021-10-15"},10,"1900-01-06",1,0,null,null,":",null,""," ",null,null,null,null,0,{"$f":"IF(WEEKDAY(A579)=1,IF(D579=2,VLOOKUP(R579,Daten!$C$49:$E$102,3),\" \"),\"\")","v":""},41]
[{"$f":"+A579","v":"2021-10-15"},10,"1900-01-06",2,2,null,null,":",null,{"$f":"IF((+G580*60+I580)>0,G580*60+I580,\"\")","v":""},{"$f":"IF(+F580>0,F580/J580*60,\" \")","v":" "},null,null,null,null,0,{"$f":"IF(WEEKDAY(A580)=1,IF(D580=2,VLOOKUP(R580,Daten!$C$49:$E$102,3),\" \"),\"\")","v":""},41]
[{"$f":"+A579+1","v":"2021-10-16"},10,"1900-01-07",1,0,null,null,":",null,""," ",null,null,null,null,0,{"$f":"IF(WEEKDAY(A581)=1,IF(D581=2,VLOOKUP(R581,Daten!$C$49:$E$102,3),\" \"),\"\")","v":""},41]
[{"$f":"+A581","v":"2021-10-16"},{"$f":"MONTH(A582)","v":10},{"$f":"WEEKDAY(A582)","v":"1900-01-07"},2,{"$f":"IF(D582=2,IF(C582=1,1,2),0)","v":2},null,null,":",null,""," ",null,null,null,null,0,{"$f":"IF(WEEKDAY(A582)=1,IF(D582=2,VLOOKUP(R582,Daten!$C$49:$E$102,3),\" \"),\"\")","v":""},41]
[{"$f":"+A581+1","v":"2021-10-17"},10,"1900-01-01",1,0,null,null,":",null,""," ",null,null,null,null,{"$f":"IF(D583=2,+F583+F582,0)","v":0},{"$f":"IF(WEEKDAY(A583)=1,IF(D583=2,VLOOKUP(R583,Daten!$C$49:$E$102,3),\" \"),\"\")","v":" "},{"$f":"IF(WEEKDAY(A583)=2,IF(D583=1,R582+1,R582),R582)","v":41}]
[{"$f":"+A583","v":"2021-10-17"},10,"1900-01-01",2,1,null,null,":",null,""," ",null,null,null,null,0,{"$f":"IF(WEEKDAY(A584)=1,IF(D584=2,VLOOKUP(R584,Daten!$C$49:$E$102,3),\" \"),\"\")","v":0},41]
[{"$f":"+A583+1","v":"2021-10-18"},10,"1900-01-02",1,0,null,null,":",null,""," ",null,null,null,null,0,{"$f":"IF(WEEKDAY(A585)=1,IF(D585=2,VLOOKUP(R585,Daten!$C$49:$E$102,3),\" \"),\"\")","v":""},42]
[{"$f":"+A585","v":"2021-10-18"},10,"1900-01-02",2,2,null,null,":",null,""," ",null,null,null,null,0,{"$f":"IF(WEEKDAY(A586)=1,IF(D586=2,VLOOKUP(R586,Daten!$C$49:$E$102,3),\" \"),\"\")","v":""},42]
[{"$f":"+A585+1","v":"2021-10-19"},10,"1900-01-03",1,0,null,null,":",null,""," ",null,null,null,null,0,{"$f":"IF(WEEKDAY(A587)=1,IF(D587=2,VLOOKUP(R587,Daten!$C$49:$E$102,3),\" \"),\"\")","v":""},42]
[{"$f":"+A587","v":"2021-10-19"},10,"1900-01-03",2,2,null,null,":",null,""," ",null,null,null,null,0,{"$f":"IF(WEEKDAY(A588)=1,IF(D588=2,VLOOKUP(R588,Daten!$C$49:$E$102,3),\" \"),\"\")","v":""},42]
[{"$f":"+A587+1","v":"2021-10-20"},10,"1900-01-04",1,0,null,null,":",null,""," ",null,null,null,null,0,{"$f":"IF(WEEKDAY(A589)=1,IF(D589=2,VLOOKUP(R589,Daten!$C$49:$E$102,3),\" \"),\"\")","v":""},42]
[{"$f":"+A589","v":"2021-10-20"},10,"1900-01-04",2,2,null,null,":",null,""," ",null,null,null,null,0,{"$f":"IF(WEEKDAY(A590)=1,IF(D590=2,VLOOKUP(R590,Daten!$C$49:$E$102,3),\" \"),\"\")","v":""},42]
[{"$f":"+A589+1","v":"2021-10-21"},10,"1900-01-05",1,0,null,null,":",null,""," ",null,null,null,null,0,{"$f":"IF(WEEKDAY(A591)=1,IF(D591=2,VLOOKUP(R591,Daten!$C$49:$E$102,3),\" \"),\"\")","v":""},42]
[{"$f":"+A591","v":"2021-10-21"},10,"1900-01-05",2,2,null,null,":",null,""," ",null,null,null,null,0,{"$f":"IF(WEEKDAY(A592)=1,IF(D592=2,VLOOKUP(R592,Daten!$C$49:$E$102,3),\" \"),\"\")","v":""},42]
[{"$f":"+A591+1","v":"2021-10-22"},10,"1900-01-06",1,0,null,null,":",null,""," ",null,null,null,null,0,{"$f":"IF(WEEKDAY(A593)=1,IF(D593=2,VLOOKUP(R593,Daten!$C$49:$E$102,3),\" \"),\"\")","v":""},42]
[{"$f":"+A593","v":"2021-10-22"},10,"1900-01-06",2,2,null,null,":",null,""," ",null,null,null,null,0,{"$f":"IF(WEEKDAY(A594)=1,IF(D594=2,VLOOKUP(R594,Daten!$C$49:$E$102,3),\" \"),\"\")","v":""},42]
[{"$f":"+A593+1","v":"2021-10-23"},10,"1900-01-07",1,0,null,null,":",null,""," ",null,null,null,null,0,{"$f":"IF(WEEKDAY(A595)=1,IF(D595=2,VLOOKUP(R595,Daten!$C$49:$E$102,3),\" \"),\"\")","v":""},42]
[{"$f":"+A595","v":"2021-10-23"},10,"1900-01-07",2,2,null,null,":",null,""," ",null,null,null,null,0,{"$f":"IF(WEEKDAY(A596)=1,IF(D596=2,VLOOKUP(R596,Daten!$C$49:$E$102,3),\" \"),\"\")","v":""},42]
[{"$f":"+A595+1","v":"2021-10-24"},10,"1900-01-01",1,0,null,null,":",null,""," ",null,null,null,null,0,{"$f":"IF(WEEKDAY(A597)=1,IF(D597=2,VLOOKUP(R597,Daten!$C$49:$E$102,3),\" \"),\"\")","v":" "},42]
[{"$f":"+A597","v":"2021-10-24"},10,"1900-01-01",2,1,null,null,":",null,""," ",null,null,null,null,0,{"$f":"IF(WEEKDAY(A598)=1,IF(D598=2,VLOOKUP(R598,Daten!$C$49:$E$102,3),\" \"),\"\")","v":0},42]
[{"$f":"+A597+1","v":"2021-10-25"},10,"1900-01-02",1,0,null,null,":",null,""," ",null,null,null,null,0,{"$f":"IF(WEEKDAY(A599)=1,IF(D599=2,VLOOKUP(R599,Daten!$C$49:$E$102,3),\" \"),\"\")","v":""},43]
[{"$f":"+A599","v":"2021-10-25"},10,"1900-01-02",2,2,null,null,":",null,""," ",null,null,null,null,0,{"$f":"IF(WEEKDAY(A600)=1,IF(D600=2,VLOOKUP(R600,Daten!$C$49:$E$102,3),\" \"),\"\")","v":""},43]
[{"$f":"+A599+1","v":"2021-10-26"},10,"1900-01-03",1,0,null,null,":",null,""," ",null,null,null,null,0,{"$f":"IF(WEEKDAY(A601)=1,IF(D601=2,VLOOKUP(R601,Daten!$C$49:$E$102,3),\" \"),\"\")","v":""},43]
[{"$f":"+A601","v":"2021-10-26"},10,"1900-01-03",2,2,null,null,":",null,""," ",null,null,null,null,0,{"$f":"IF(WEEKDAY(A602)=1,IF(D602=2,VLOOKUP(R602,Daten!$C$49:$E$102,3),\" \"),\"\")","v":""},43]
[{"$f":"+A601+1","v":"2021-10-27"},10,"1900-01-04",1,0,null,null,":",null,""," ",null,null,null,null,0,{"$f":"IF(WEEKDAY(A603)=1,IF(D603=2,VLOOKUP(R603,Daten!$C$49:$E$102,3),\" \"),\"\")","v":""},43]
[{"$f":"+A603","v":"2021-10-27"},10,"1900-01-04",2,2,null,null,":",null,""," ",null,null,null,null,0,{"$f":"IF(WEEKDAY(A604)=1,IF(D604=2,VLOOKUP(R604,Daten!$C$49:$E$102,3),\" \"),\"\")","v":""},43]
[{"$f":"+A603+1","v":"2021-10-28"},10,"1900-01-05",1,0,null,null,":",null,""," ",null,null,null,null,0,{"$f":"IF(WEEKDAY(A605)=1,IF(D605=2,VLOOKUP(R605,Daten!$C$49:$E$102,3),\" \"),\"\")","v":""},43]
[{"$f":"+A605","v":"2021-10-28"},10,"1900-01-05",2,2,null,null,":",null,""," ",null,null,null,null,0,{"$f":"IF(WEEKDAY(A606)=1,IF(D606=2,VLOOKUP(R606,Daten!$C$49:$E$102,3),\" \"),\"\")","v":""},43]
[{"$f":"+A605+1","v":"2021-10-29"},10,"1900-01-06",1,0,null,null,":",null,""," ",null,null,null,null,0,{"$f":"IF(WEEKDAY(A607)=1,IF(D607=2,VLOOKUP(R607,Daten!$C$49:$E$102,3),\" \"),\"\")","v":""},43]
[{"$f":"+A607","v":"2021-10-29"},10,"1900-01-06",2,2,null,null,":",null,""," ",null,null,null,null,0,{"$f":"IF(WEEKDAY(A608)=1,IF(D608=2,VLOOKUP(R608,Daten!$C$49:$E$102,3),\" \"),\"\")","v":""},43]
[{"$f":"+A607+1","v":"2021-10-30"},10,"1900-01-07",1,0,null,null,":",null,""," ",null,null,null,null,0,{"$f":"IF(WEEKDAY(A609)=1,IF(D609=2,VLOOKUP(R609,Daten!$C$49:$E$102,3),\" \"),\"\")","v":""},43]
[{"$f":"+A609","v":"2021-10-30"},10,"1900-01-07",2,2,null,null,":",null,""," ",null,null,null,null,0,{"$f":"IF(WEEKDAY(A610)=1,IF(D610=2,VLOOKUP(R610,Daten!$C$49:$E$102,3),\" \"),\"\")","v":""},43]
[{"$f":"+A609+1","v":"2021-10-31"},10,"1900-01-01",1,0,null,null,":",null,""," ",null,null,null,null,0,{"$f":"IF(WEEKDAY(A611)=1,IF(D611=2,VLOOKUP(R611,Daten!$C$49:$E$102,3),\" \"),\"\")","v":" "},43]
[{"$f":"+A611","v":"2021-10-31"},10,"1900-01-01",2,1,null,null,":",null,""," ",null,null,null,null,0,{"$f":"IF(WEEKDAY(A612)=1,IF(D612=2,VLOOKUP(R612,Daten!$C$49:$E$102,3),\" \"),\"\")","v":0},43]
[{"$f":"+A611+1","v":"2021-11-01"},11,"1900-01-02",1,0,null,null,":",null,""," ",null,null,null,null,0,{"$f":"IF(WEEKDAY(A613)=1,IF(D613=2,VLOOKUP(R613,Daten!$C$49:$E$102,3),\" \"),\"\")","v":""},44]
[{"$f":"+A613","v":"2021-11-01"},11,"1900-01-02",2,2,null,null,":",null,""," ",null,null,null,null,0,{"$f":"IF(WEEKDAY(A614)=1,IF(D614=2,VLOOKUP(R614,Daten!$C$49:$E$102,3),\" \"),\"\")","v":""},44]
[{"$f":"+A613+1","v":"2021-11-02"},11,"1900-01-03",1,0,null,null,":",null,""," ",null,null,null,null,0,{"$f":"IF(WEEKDAY(A615)=1,IF(D615=2,VLOOKUP(R615,Daten!$C$49:$E$102,3),\" \"),\"\")","v":""},44]
[{"$f":"+A615","v":"2021-11-02"},11,"1900-01-03",2,2,null,null,":",null,""," ",null,null,null,null,0,{"$f":"IF(WEEKDAY(A616)=1,IF(D616=2,VLOOKUP(R616,Daten!$C$49:$E$102,3),\" \"),\"\")","v":""},44]
[{"$f":"+A615+1","v":"2021-11-03"},11,"1900-01-04",1,0,null,null,":",null,""," ",null,null,null,null,0,{"$f":"IF(WEEKDAY(A617)=1,IF(D617=2,VLOOKUP(R617,Daten!$C$49:$E$102,3),\" \"),\"\")","v":""},44]
[{"$f":"+A617","v":"2021-11-03"},11,"1900-01-04",2,2,null,null,":",null,""," ",null,null,null,null,0,{"$f":"IF(WEEKDAY(A618)=1,IF(D618=2,VLOOKUP(R618,Daten!$C$49:$E$102,3),\" \"),\"\")","v":""},44]
[{"$f":"+A617+1","v":"2021-11-04"},11,"1900-01-05",1,0,null,null,":",null,""," ",null,null,null,null,0,{"$f":"IF(WEEKDAY(A619)=1,IF(D619=2,VLOOKUP(R619,Daten!$C$49:$E$102,3),\" \"),\"\")","v":""},44]
[{"$f":"+A619","v":"2021-11-04"},11,"1900-01-05",2,2,null,null,":",null,""," ",null,null,null,null,0,{"$f":"IF(WEEKDAY(A620)=1,IF(D620=2,VLOOKUP(R620,Daten!$C$49:$E$102,3),\" \"),\"\")","v":""},44]
[{"$f":"+A619+1","v":"2021-11-05"},11,"1900-01-06",1,0,null,null,":",null,""," ",null,null,null,null,0,{"$f":"IF(WEEKDAY(A621)=1,IF(D621=2,VLOOKUP(R621,Daten!$C$49:$E$102,3),\" \"),\"\")","v":""},44]
[{"$f":"+A621","v":"2021-11-05"},11,"1900-01-06",2,2,null,null,":",null,""," ",null,null,null,null,0,{"$f":"IF(WEEKDAY(A622)=1,IF(D622=2,VLOOKUP(R622,Daten!$C$49:$E$102,3),\" \"),\"\")","v":""},44]
[{"$f":"+A621+1","v":"2021-11-06"},11,"1900-01-07",1,0,null,null,":",null,""," ",null,null,null,null,0,{"$f":"IF(WEEKDAY(A623)=1,IF(D623=2,VLOOKUP(R623,Daten!$C$49:$E$102,3),\" \"),\"\")","v":""},44]
[{"$f":"+A623","v":"2021-11-06"},11,"1900-01-07",2,2,null,null,":",null,""," ",null,null,null,null,0,{"$f":"IF(WEEKDAY(A624)=1,IF(D624=2,VLOOKUP(R624,Daten!$C$49:$E$102,3),\" \"),\"\")","v":""},44]
[{"$f":"+A623+1","v":"2021-11-07"},11,"1900-01-01",1,0,null,null,":",null,""," ",null,null,null,null,0,{"$f":"IF(WEEKDAY(A625)=1,IF(D625=2,VLOOKUP(R625,Daten!$C$49:$E$102,3),\" \"),\"\")","v":" "},44]
[{"$f":"+A625","v":"2021-11-07"},11,"1900-01-01",2,1,null,null,":",null,""," ",null,null,null,null,0,{"$f":"IF(WEEKDAY(A626)=1,IF(D626=2,VLOOKUP(R626,Daten!$C$49:$E$102,3),\" \"),\"\")","v":0},44]
[{"$f":"+A625+1","v":"2021-11-08"},11,"1900-01-02",1,0,null,null,":",null,""," ",null,null,null,null,0,{"$f":"IF(WEEKDAY(A627)=1,IF(D627=2,VLOOKUP(R627,Daten!$C$49:$E$102,3),\" \"),\"\")","v":""},45]
[{"$f":"+A627","v":"2021-11-08"},11,"1900-01-02",2,2,null,null,":",null,""," ",null,null,null,null,0,{"$f":"IF(WEEKDAY(A628)=1,IF(D628=2,VLOOKUP(R628,Daten!$C$49:$E$102,3),\" \"),\"\")","v":""},45]
[{"$f":"+A627+1","v":"2021-11-09"},11,"1900-01-03",1,0,null,null,":",null,""," ",null,null,null,null,0,{"$f":"IF(WEEKDAY(A629)=1,IF(D629=2,VLOOKUP(R629,Daten!$C$49:$E$102,3),\" \"),\"\")","v":""},45]
[{"$f":"+A629","v":"2021-11-09"},11,"1900-01-03",2,2,null,null,":",null,""," ",null,null,null,null,0,{"$f":"IF(WEEKDAY(A630)=1,IF(D630=2,VLOOKUP(R630,Daten!$C$49:$E$102,3),\" \"),\"\")","v":""},45]
[{"$f":"+A629+1","v":"2021-11-10"},11,"1900-01-04",1,0,null,null,":",null,""," ",null,null,null,null,0,{"$f":"IF(WEEKDAY(A631)=1,IF(D631=2,VLOOKUP(R631,Daten!$C$49:$E$102,3),\" \"),\"\")","v":""},45]
[{"$f":"+A631","v":"2021-11-10"},11,"1900-01-04",2,2,null,null,":",null,""," ",null,null,null,null,0,{"$f":"IF(WEEKDAY(A632)=1,IF(D632=2,VLOOKUP(R632,Daten!$C$49:$E$102,3),\" \"),\"\")","v":""},45]
[{"$f":"+A631+1","v":"2021-11-11"},11,"1900-01-05",1,0,null,null,":",null,""," ",null,null,null,null,0,{"$f":"IF(WEEKDAY(A633)=1,IF(D633=2,VLOOKUP(R633,Daten!$C$49:$E$102,3),\" \"),\"\")","v":""},45]
[{"$f":"+A633","v":"2021-11-11"},11,"1900-01-05",2,2,null,null,":",null,""," ",null,null,null,null,0,{"$f":"IF(WEEKDAY(A634)=1,IF(D634=2,VLOOKUP(R634,Daten!$C$49:$E$102,3),\" \"),\"\")","v":""},45]
[{"$f":"+A633+1","v":"2021-11-12"},11,"1900-01-06",1,0,null,null,":",null,""," ",null,null,null,null,0,{"$f":"IF(WEEKDAY(A635)=1,IF(D635=2,VLOOKUP(R635,Daten!$C$49:$E$102,3),\" \"),\"\")","v":""},45]
[{"$f":"+A635","v":"2021-11-12"},11,"1900-01-06",2,2,null,null,":",null,""," ",null,null,null,null,0,{"$f":"IF(WEEKDAY(A636)=1,IF(D636=2,VLOOKUP(R636,Daten!$C$49:$E$102,3),\" \"),\"\")","v":""},45]
[{"$f":"+A635+1","v":"2021-11-13"},11,"1900-01-07",1,0,null,null,":",null,""," ",null,null,null,null,0,{"$f":"IF(WEEKDAY(A637)=1,IF(D637=2,VLOOKUP(R637,Daten!$C$49:$E$102,3),\" \"),\"\")","v":""},45]
[{"$f":"+A637","v":"2021-11-13"},11,"1900-01-07",2,2,null,null,":",null,""," ",null,null,null,null,0,{"$f":"IF(WEEKDAY(A638)=1,IF(D638=2,VLOOKUP(R638,Daten!$C$49:$E$102,3),\" \"),\"\")","v":""},45]
[{"$f":"+A637+1","v":"2021-11-14"},11,"1900-01-01",1,0,null,null,":",null,""," ",null,null,null,null,0,{"$f":"IF(WEEKDAY(A639)=1,IF(D639=2,VLOOKUP(R639,Daten!$C$49:$E$102,3),\" \"),\"\")","v":" "},45]
[{"$f":"+A639","v":"2021-11-14"},11,"1900-01-01",2,1,null,null,":",null,""," ",null,null,null,null,0,{"$f":"IF(WEEKDAY(A640)=1,IF(D640=2,VLOOKUP(R640,Daten!$C$49:$E$102,3),\" \"),\"\")","v":0},45]
[{"$f":"+A639+1","v":"2021-11-15"},11,"1900-01-02",1,0,null,null,":",null,""," ",null,null,null,null,0,{"$f":"IF(WEEKDAY(A641)=1,IF(D641=2,VLOOKUP(R641,Daten!$C$49:$E$102,3),\" \"),\"\")","v":""},46]
[{"$f":"+A641","v":"2021-11-15"},11,"1900-01-02",2,2,null,null,":",null,""," ",null,null,null,null,0,{"$f":"IF(WEEKDAY(A642)=1,IF(D642=2,VLOOKUP(R642,Daten!$C$49:$E$102,3),\" \"),\"\")","v":""},46]
[{"$f":"+A641+1","v":"2021-11-16"},11,"1900-01-03",1,0,null,null,":",null,""," ",null,null,null,null,0,{"$f":"IF(WEEKDAY(A643)=1,IF(D643=2,VLOOKUP(R643,Daten!$C$49:$E$102,3),\" \"),\"\")","v":""},46]
[{"$f":"+A643","v":"2021-11-16"},11,"1900-01-03",2,2,null,null,":",null,{"$f":"IF((+G644*60+I644)>0,G644*60+I644,\"\")","v":""},{"$f":"IF(+F644>0,F644/J644*60,\" \")","v":" "},null,null,null,null,0,{"$f":"IF(WEEKDAY(A644)=1,IF(D644=2,VLOOKUP(R644,Daten!$C$49:$E$102,3),\" \"),\"\")","v":""},46]
[{"$f":"+A643+1","v":"2021-11-17"},11,"1900-01-04",1,0,null,null,":",null,""," ",null,null,null,null,0,{"$f":"IF(WEEKDAY(A645)=1,IF(D645=2,VLOOKUP(R645,Daten!$C$49:$E$102,3),\" \"),\"\")","v":""},46]
[{"$f":"+A645","v":"2021-11-17"},{"$f":"MONTH(A646)","v":11},{"$f":"WEEKDAY(A646)","v":"1900-01-04"},2,{"$f":"IF(D646=2,IF(C646=1,1,2),0)","v":2},null,null,":",null,""," ",null,null,null,null,0,{"$f":"IF(WEEKDAY(A646)=1,IF(D646=2,VLOOKUP(R646,Daten!$C$49:$E$102,3),\" \"),\"\")","v":""},46]
[{"$f":"+A645+1","v":"2021-11-18"},11,"1900-01-05",1,0,null,null,":",null,""," ",null,null,null,null,{"$f":"IF(D647=2,+F647+F646,0)","v":0},{"$f":"IF(WEEKDAY(A647)=1,IF(D647=2,VLOOKUP(R647,Daten!$C$49:$E$102,3),\" \"),\"\")","v":""},{"$f":"IF(WEEKDAY(A647)=2,IF(D647=1,R646+1,R646),R646)","v":46}]
[{"$f":"+A647","v":"2021-11-18"},11,"1900-01-05",2,2,null,null,":",null,""," ",null,null,null,null,0,{"$f":"IF(WEEKDAY(A648)=1,IF(D648=2,VLOOKUP(R648,Daten!$C$49:$E$102,3),\" \"),\"\")","v":""},46]
[{"$f":"+A647+1","v":"2021-11-19"},11,"1900-01-06",1,0,null,null,":",null,""," ",null,null,null,null,0,{"$f":"IF(WEEKDAY(A649)=1,IF(D649=2,VLOOKUP(R649,Daten!$C$49:$E$102,3),\" \"),\"\")","v":""},46]
[{"$f":"+A649","v":"2021-11-19"},11,"1900-01-06",2,2,null,null,":",null,""," ",null,null,null,null,0,{"$f":"IF(WEEKDAY(A650)=1,IF(D650=2,VLOOKUP(R650,Daten!$C$49:$E$102,3),\" \"),\"\")","v":""},46]
[{"$f":"+A649+1","v":"2021-11-20"},11,"1900-01-07",1,0,null,null,":",null,""," ",null,null,null,null,0,{"$f":"IF(WEEKDAY(A651)=1,IF(D651=2,VLOOKUP(R651,Daten!$C$49:$E$102,3),\" \"),\"\")","v":""},46]
[{"$f":"+A651","v":"2021-11-20"},11,"1900-01-07",2,2,null,null,":",null,""," ",null,null,null,null,0,{"$f":"IF(WEEKDAY(A652)=1,IF(D652=2,VLOOKUP(R652,Daten!$C$49:$E$102,3),\" \"),\"\")","v":""},46]
[{"$f":"+A651+1","v":"2021-11-21"},11,"1900-01-01",1,0,null,null,":",null,""," ",null,null,null,null,0,{"$f":"IF(WEEKDAY(A653)=1,IF(D653=2,VLOOKUP(R653,Daten!$C$49:$E$102,3),\" \"),\"\")","v":" "},46]
[{"$f":"+A653","v":"2021-11-21"},11,"1900-01-01",2,1,null,null,":",null,""," ",null,null,null,null,0,{"$f":"IF(WEEKDAY(A654)=1,IF(D654=2,VLOOKUP(R654,Daten!$C$49:$E$102,3),\" \"),\"\")","v":0},46]
[{"$f":"+A653+1","v":"2021-11-22"},11,"1900-01-02",1,0,null,null,":",null,""," ",null,null,null,null,0,{"$f":"IF(WEEKDAY(A655)=1,IF(D655=2,VLOOKUP(R655,Daten!$C$49:$E$102,3),\" \"),\"\")","v":""},47]
[{"$f":"+A655","v":"2021-11-22"},11,"1900-01-02",2,2,null,null,":",null,""," ",null,null,null,null,0,{"$f":"IF(WEEKDAY(A656)=1,IF(D656=2,VLOOKUP(R656,Daten!$C$49:$E$102,3),\" \"),\"\")","v":""},47]
[{"$f":"+A655+1","v":"2021-11-23"},11,"1900-01-03",1,0,null,null,":",null,""," ",null,null,null,null,0,{"$f":"IF(WEEKDAY(A657)=1,IF(D657=2,VLOOKUP(R657,Daten!$C$49:$E$102,3),\" \"),\"\")","v":""},47]
[{"$f":"+A657","v":"2021-11-23"},11,"1900-01-03",2,2,null,null,":",null,""," ",null,null,null,null,0,{"$f":"IF(WEEKDAY(A658)=1,IF(D658=2,VLOOKUP(R658,Daten!$C$49:$E$102,3),\" \"),\"\")","v":""},47]
[{"$f":"+A657+1","v":"2021-11-24"},11,"1900-01-04",1,0,null,null,":",null,""," ",null,null,null,null,0,{"$f":"IF(WEEKDAY(A659)=1,IF(D659=2,VLOOKUP(R659,Daten!$C$49:$E$102,3),\" \"),\"\")","v":""},47]
[{"$f":"+A659","v":"2021-11-24"},11,"1900-01-04",2,2,null,null,":",null,""," ",null,null,null,null,0,{"$f":"IF(WEEKDAY(A660)=1,IF(D660=2,VLOOKUP(R660,Daten!$C$49:$E$102,3),\" \"),\"\")","v":""},47]
[{"$f":"+A659+1","v":"2021-11-25"},11,"1900-01-05",1,0,null,null,":",null,""," ",null,null,null,null,0,{"$f":"IF(WEEKDAY(A661)=1,IF(D661=2,VLOOKUP(R661,Daten!$C$49:$E$102,3),\" \"),\"\")","v":""},47]
[{"$f":"+A661","v":"2021-11-25"},11,"1900-01-05",2,2,null,null,":",null,""," ",null,null,null,null,0,{"$f":"IF(WEEKDAY(A662)=1,IF(D662=2,VLOOKUP(R662,Daten!$C$49:$E$102,3),\" \"),\"\")","v":""},47]
[{"$f":"+A661+1","v":"2021-11-26"},11,"1900-01-06",1,0,null,null,":",null,""," ",null,null,null,null,0,{"$f":"IF(WEEKDAY(A663)=1,IF(D663=2,VLOOKUP(R663,Daten!$C$49:$E$102,3),\" \"),\"\")","v":""},47]
[{"$f":"+A663","v":"2021-11-26"},11,"1900-01-06",2,2,null,null,":",null,""," ",null,null,null,null,0,{"$f":"IF(WEEKDAY(A664)=1,IF(D664=2,VLOOKUP(R664,Daten!$C$49:$E$102,3),\" \"),\"\")","v":""},47]
[{"$f":"+A663+1","v":"2021-11-27"},11,"1900-01-07",1,0,null,null,":",null,""," ",null,null,null,null,0,{"$f":"IF(WEEKDAY(A665)=1,IF(D665=2,VLOOKUP(R665,Daten!$C$49:$E$102,3),\" \"),\"\")","v":""},47]
[{"$f":"+A665","v":"2021-11-27"},11,"1900-01-07",2,2,null,null,":",null,""," ",null,null,null,null,0,{"$f":"IF(WEEKDAY(A666)=1,IF(D666=2,VLOOKUP(R666,Daten!$C$49:$E$102,3),\" \"),\"\")","v":""},47]
[{"$f":"+A665+1","v":"2021-11-28"},11,"1900-01-01",1,0,null,null,":",null,""," ",null,null,null,null,0,{"$f":"IF(WEEKDAY(A667)=1,IF(D667=2,VLOOKUP(R667,Daten!$C$49:$E$102,3),\" \"),\"\")","v":" "},47]
[{"$f":"+A667","v":"2021-11-28"},11,"1900-01-01",2,1,null,null,":",null,""," ",null,null,null,null,0,{"$f":"IF(WEEKDAY(A668)=1,IF(D668=2,VLOOKUP(R668,Daten!$C$49:$E$102,3),\" \"),\"\")","v":0},47]
[{"$f":"+A667+1","v":"2021-11-29"},11,"1900-01-02",1,0,null,null,":",null,""," ",null,null,null,null,0,{"$f":"IF(WEEKDAY(A669)=1,IF(D669=2,VLOOKUP(R669,Daten!$C$49:$E$102,3),\" \"),\"\")","v":""},48]
[{"$f":"+A669","v":"2021-11-29"},11,"1900-01-02",2,2,null,null,":",null,""," ",null,null,null,null,0,{"$f":"IF(WEEKDAY(A670)=1,IF(D670=2,VLOOKUP(R670,Daten!$C$49:$E$102,3),\" \"),\"\")","v":""},48]
[{"$f":"+A669+1","v":"2021-11-30"},11,"1900-01-03",1,0,null,null,":",null,""," ",null,null,null,null,0,{"$f":"IF(WEEKDAY(A671)=1,IF(D671=2,VLOOKUP(R671,Daten!$C$49:$E$102,3),\" \"),\"\")","v":""},48]
[{"$f":"+A671","v":"2021-11-30"},11,"1900-01-03",2,2,null,null,":",null,""," ",null,null,null,null,0,{"$f":"IF(WEEKDAY(A672)=1,IF(D672=2,VLOOKUP(R672,Daten!$C$49:$E$102,3),\" \"),\"\")","v":""},48]
[{"$f":"+A671+1","v":"2021-12-01"},12,"1900-01-04",1,0,null,null,":",null,""," ",null,null,null,null,0,{"$f":"IF(WEEKDAY(A673)=1,IF(D673=2,VLOOKUP(R673,Daten!$C$49:$E$102,3),\" \"),\"\")","v":""},48]
[{"$f":"+A673","v":"2021-12-01"},12,"1900-01-04",2,2,null,null,":",null,""," ",null,null,null,null,0,{"$f":"IF(WEEKDAY(A674)=1,IF(D674=2,VLOOKUP(R674,Daten!$C$49:$E$102,3),\" \"),\"\")","v":""},48]
[{"$f":"+A673+1","v":"2021-12-02"},12,"1900-01-05",1,0,null,null,":",null,""," ",null,null,null,null,0,{"$f":"IF(WEEKDAY(A675)=1,IF(D675=2,VLOOKUP(R675,Daten!$C$49:$E$102,3),\" \"),\"\")","v":""},48]
[{"$f":"+A675","v":"2021-12-02"},12,"1900-01-05",2,2,null,null,":",null,""," ",null,null,null,null,0,{"$f":"IF(WEEKDAY(A676)=1,IF(D676=2,VLOOKUP(R676,Daten!$C$49:$E$102,3),\" \"),\"\")","v":""},48]
[{"$f":"+A675+1","v":"2021-12-03"},12,"1900-01-06",1,0,null,null,":",null,""," ",null,null,null,null,0,{"$f":"IF(WEEKDAY(A677)=1,IF(D677=2,VLOOKUP(R677,Daten!$C$49:$E$102,3),\" \"),\"\")","v":""},48]
[{"$f":"+A677","v":"2021-12-03"},12,"1900-01-06",2,2,null,null,":",null,""," ",null,null,null,null,0,{"$f":"IF(WEEKDAY(A678)=1,IF(D678=2,VLOOKUP(R678,Daten!$C$49:$E$102,3),\" \"),\"\")","v":""},48]
[{"$f":"+A677+1","v":"2021-12-04"},12,"1900-01-07",1,0,null,null,":",null,""," ",null,null,null,null,0,{"$f":"IF(WEEKDAY(A679)=1,IF(D679=2,VLOOKUP(R679,Daten!$C$49:$E$102,3),\" \"),\"\")","v":""},48]
[{"$f":"+A679","v":"2021-12-04"},12,"1900-01-07",2,2,null,null,":",null,""," ",null,null,null,null,0,{"$f":"IF(WEEKDAY(A680)=1,IF(D680=2,VLOOKUP(R680,Daten!$C$49:$E$102,3),\" \"),\"\")","v":""},48]
[{"$f":"+A679+1","v":"2021-12-05"},12,"1900-01-01",1,0,null,null,":",null,""," ",null,null,null,null,0,{"$f":"IF(WEEKDAY(A681)=1,IF(D681=2,VLOOKUP(R681,Daten!$C$49:$E$102,3),\" \"),\"\")","v":" "},48]
[{"$f":"+A681","v":"2021-12-05"},12,"1900-01-01",2,1,null,null,":",null,""," ",null,null,null,null,0,{"$f":"IF(WEEKDAY(A682)=1,IF(D682=2,VLOOKUP(R682,Daten!$C$49:$E$102,3),\" \"),\"\")","v":0},48]
[{"$f":"+A681+1","v":"2021-12-06"},12,"1900-01-02",1,0,null,null,":",null,""," ",null,null,null,null,0,{"$f":"IF(WEEKDAY(A683)=1,IF(D683=2,VLOOKUP(R683,Daten!$C$49:$E$102,3),\" \"),\"\")","v":""},49]
[{"$f":"+A683","v":"2021-12-06"},12,"1900-01-02",2,2,null,null,":",null,""," ",null,null,null,null,0,{"$f":"IF(WEEKDAY(A684)=1,IF(D684=2,VLOOKUP(R684,Daten!$C$49:$E$102,3),\" \"),\"\")","v":""},49]
[{"$f":"+A683+1","v":"2021-12-07"},12,"1900-01-03",1,0,null,null,":",null,""," ",null,null,null,null,0,{"$f":"IF(WEEKDAY(A685)=1,IF(D685=2,VLOOKUP(R685,Daten!$C$49:$E$102,3),\" \"),\"\")","v":""},49]
[{"$f":"+A685","v":"2021-12-07"},12,"1900-01-03",2,2,null,null,":",null,""," ",null,null,null,null,0,{"$f":"IF(WEEKDAY(A686)=1,IF(D686=2,VLOOKUP(R686,Daten!$C$49:$E$102,3),\" \"),\"\")","v":""},49]
[{"$f":"+A685+1","v":"2021-12-08"},12,"1900-01-04",1,0,null,null,":",null,""," ",null,null,null,null,0,{"$f":"IF(WEEKDAY(A687)=1,IF(D687=2,VLOOKUP(R687,Daten!$C$49:$E$102,3),\" \"),\"\")","v":""},49]
[{"$f":"+A687","v":"2021-12-08"},12,"1900-01-04",2,2,null,null,":",null,""," ",null,null,null,null,0,{"$f":"IF(WEEKDAY(A688)=1,IF(D688=2,VLOOKUP(R688,Daten!$C$49:$E$102,3),\" \"),\"\")","v":""},49]
[{"$f":"+A687+1","v":"2021-12-09"},12,"1900-01-05",1,0,null,null,":",null,""," ",null,null,null,null,0,{"$f":"IF(WEEKDAY(A689)=1,IF(D689=2,VLOOKUP(R689,Daten!$C$49:$E$102,3),\" \"),\"\")","v":""},49]
[{"$f":"+A689","v":"2021-12-09"},12,"1900-01-05",2,2,null,null,":",null,""," ",null,null,null,null,0,{"$f":"IF(WEEKDAY(A690)=1,IF(D690=2,VLOOKUP(R690,Daten!$C$49:$E$102,3),\" \"),\"\")","v":""},49]
[{"$f":"+A689+1","v":"2021-12-10"},12,"1900-01-06",1,0,null,null,":",null,""," ",null,null,null,null,0,{"$f":"IF(WEEKDAY(A691)=1,IF(D691=2,VLOOKUP(R691,Daten!$C$49:$E$102,3),\" \"),\"\")","v":""},49]
[{"$f":"+A691","v":"2021-12-10"},12,"1900-01-06",2,2,null,null,":",null,""," ",null,null,null,null,0,{"$f":"IF(WEEKDAY(A692)=1,IF(D692=2,VLOOKUP(R692,Daten!$C$49:$E$102,3),\" \"),\"\")","v":""},49]
[{"$f":"+A691+1","v":"2021-12-11"},12,"1900-01-07",1,0,null,null,":",null,""," ",null,null,null,null,0,{"$f":"IF(WEEKDAY(A693)=1,IF(D693=2,VLOOKUP(R693,Daten!$C$49:$E$102,3),\" \"),\"\")","v":""},49]
[{"$f":"+A693","v":"2021-12-11"},12,"1900-01-07",2,2,null,null,":",null,""," ",null,null,null,null,0,{"$f":"IF(WEEKDAY(A694)=1,IF(D694=2,VLOOKUP(R694,Daten!$C$49:$E$102,3),\" \"),\"\")","v":""},49]
[{"$f":"+A693+1","v":"2021-12-12"},12,"1900-01-01",1,0,null,null,":",null,""," ",null,null,null,null,0,{"$f":"IF(WEEKDAY(A695)=1,IF(D695=2,VLOOKUP(R695,Daten!$C$49:$E$102,3),\" \"),\"\")","v":" "},49]
[{"$f":"+A695","v":"2021-12-12"},12,"1900-01-01",2,1,null,null,":",null,""," ",null,null,null,null,0,{"$f":"IF(WEEKDAY(A696)=1,IF(D696=2,VLOOKUP(R696,Daten!$C$49:$E$102,3),\" \"),\"\")","v":0},49]
[{"$f":"+A695+1","v":"2021-12-13"},12,"1900-01-02",1,0,null,null,":",null,""," ",null,null,null,null,0,{"$f":"IF(WEEKDAY(A697)=1,IF(D697=2,VLOOKUP(R697,Daten!$C$49:$E$102,3),\" \"),\"\")","v":""},50]
[{"$f":"+A697","v":"2021-12-13"},12,"1900-01-02",2,2,null,null,":",null,""," ",null,null,null,null,0,{"$f":"IF(WEEKDAY(A698)=1,IF(D698=2,VLOOKUP(R698,Daten!$C$49:$E$102,3),\" \"),\"\")","v":""},50]
[{"$f":"+A697+1","v":"2021-12-14"},12,"1900-01-03",1,0,null,null,":",null,""," ",null,null,null,null,0,{"$f":"IF(WEEKDAY(A699)=1,IF(D699=2,VLOOKUP(R699,Daten!$C$49:$E$102,3),\" \"),\"\")","v":""},50]
[{"$f":"+A699","v":"2021-12-14"},12,"1900-01-03",2,2,null,null,":",null,""," ",null,null,null,null,0,{"$f":"IF(WEEKDAY(A700)=1,IF(D700=2,VLOOKUP(R700,Daten!$C$49:$E$102,3),\" \"),\"\")","v":""},50]
[{"$f":"+A699+1","v":"2021-12-15"},12,"1900-01-04",1,0,null,null,":",null,""," ",null,null,null,null,0,{"$f":"IF(WEEKDAY(A701)=1,IF(D701=2,VLOOKUP(R701,Daten!$C$49:$E$102,3),\" \"),\"\")","v":""},50]
[{"$f":"+A701","v":"2021-12-15"},12,"1900-01-04",2,2,null,null,":",null,""," ",null,null,null,null,0,{"$f":"IF(WEEKDAY(A702)=1,IF(D702=2,VLOOKUP(R702,Daten!$C$49:$E$102,3),\" \"),\"\")","v":""},50]
[{"$f":"+A701+1","v":"2021-12-16"},12,"1900-01-05",1,0,null,null,":",null,""," ",null,null,null,null,0,{"$f":"IF(WEEKDAY(A703)=1,IF(D703=2,VLOOKUP(R703,Daten!$C$49:$E$102,3),\" \"),\"\")","v":""},50]
[{"$f":"+A703","v":"2021-12-16"},12,"1900-01-05",2,2,null,null,":",null,""," ",null,null,null,null,0,{"$f":"IF(WEEKDAY(A704)=1,IF(D704=2,VLOOKUP(R704,Daten!$C$49:$E$102,3),\" \"),\"\")","v":""},50]
[{"$f":"+A703+1","v":"2021-12-17"},12,"1900-01-06",1,0,null,null,":",null,""," ",null,null,null,null,0,{"$f":"IF(WEEKDAY(A705)=1,IF(D705=2,VLOOKUP(R705,Daten!$C$49:$E$102,3),\" \"),\"\")","v":""},50]
[{"$f":"+A705","v":"2021-12-17"},12,"1900-01-06",2,2,null,null,":",null,""," ",null,null,null,null,0,{"$f":"IF(WEEKDAY(A706)=1,IF(D706=2,VLOOKUP(R706,Daten!$C$49:$E$102,3),\" \"),\"\")","v":""},50]
[{"$f":"+A705+1","v":"2021-12-18"},12,"1900-01-07",1,0,null,null,":",null,""," ",null,null,null,null,0,{"$f":"IF(WEEKDAY(A707)=1,IF(D707=2,VLOOKUP(R707,Daten!$C$49:$E$102,3),\" \"),\"\")","v":""},50]
[{"$f":"+A707","v":"2021-12-18"},12,"1900-01-07",2,2,null,null,":",null,{"$f":"IF((+G708*60+I708)>0,G708*60+I708,\"\")","v":""},{"$f":"IF(+F708>0,F708/J708*60,\" \")","v":" "},null,null,null,null,0,{"$f":"IF(WEEKDAY(A708)=1,IF(D708=2,VLOOKUP(R708,Daten!$C$49:$E$102,3),\" \"),\"\")","v":""},50]
[{"$f":"+A707+1","v":"2021-12-19"},12,"1900-01-01",1,0,null,null,":",null,""," ",null,null,null,null,0,{"$f":"IF(WEEKDAY(A709)=1,IF(D709=2,VLOOKUP(R709,Daten!$C$49:$E$102,3),\" \"),\"\")","v":" "},50]
[{"$f":"+A709","v":"2021-12-19"},{"$f":"MONTH(A710)","v":12},{"$f":"WEEKDAY(A710)","v":"1900-01-01"},2,{"$f":"IF(D710=2,IF(C710=1,1,2),0)","v":1},null,null,":",null,""," ",null,null,null,null,0,{"$f":"IF(WEEKDAY(A710)=1,IF(D710=2,VLOOKUP(R710,Daten!$C$49:$E$102,3),\" \"),\"\")","v":0},50]
[{"$f":"+A709+1","v":"2021-12-20"},12,"1900-01-02",1,0,null,null,":",null,""," ",null,null,null,null,{"$f":"IF(D711=2,+F711+F710,0)","v":0},{"$f":"IF(WEEKDAY(A711)=1,IF(D711=2,VLOOKUP(R711,Daten!$C$49:$E$102,3),\" \"),\"\")","v":""},{"$f":"IF(WEEKDAY(A711)=2,IF(D711=1,R710+1,R710),R710)","v":51}]
[{"$f":"+A711","v":"2021-12-20"},12,"1900-01-02",2,2,null,null,":",null,""," ",null,null,null,null,0,{"$f":"IF(WEEKDAY(A712)=1,IF(D712=2,VLOOKUP(R712,Daten!$C$49:$E$102,3),\" \"),\"\")","v":""},51]
[{"$f":"+A711+1","v":"2021-12-21"},12,"1900-01-03",1,0,null,null,":",null,""," ",null,null,null,null,0,{"$f":"IF(WEEKDAY(A713)=1,IF(D713=2,VLOOKUP(R713,Daten!$C$49:$E$102,3),\" \"),\"\")","v":""},51]
[{"$f":"+A713","v":"2021-12-21"},12,"1900-01-03",2,2,null,null,":",null,""," ",null,null,null,null,0,{"$f":"IF(WEEKDAY(A714)=1,IF(D714=2,VLOOKUP(R714,Daten!$C$49:$E$102,3),\" \"),\"\")","v":""},51]
[{"$f":"+A713+1","v":"2021-12-22"},12,"1900-01-04",1,0,null,null,":",null,""," ",null,null,null,null,0,{"$f":"IF(WEEKDAY(A715)=1,IF(D715=2,VLOOKUP(R715,Daten!$C$49:$E$102,3),\" \"),\"\")","v":""},51]
[{"$f":"+A715","v":"2021-12-22"},12,"1900-01-04",2,2,null,null,":",null,""," ",null,null,null,null,0,{"$f":"IF(WEEKDAY(A716)=1,IF(D716=2,VLOOKUP(R716,Daten!$C$49:$E$102,3),\" \"),\"\")","v":""},51]
[{"$f":"+A715+1","v":"2021-12-23"},12,"1900-01-05",1,0,null,null,":",null,""," ",null,null,null,null,0,{"$f":"IF(WEEKDAY(A717)=1,IF(D717=2,VLOOKUP(R717,Daten!$C$49:$E$102,3),\" \"),\"\")","v":""},51]
[{"$f":"+A717","v":"2021-12-23"},12,"1900-01-05",2,2,null,null,":",null,""," ",null,null,null,null,0,{"$f":"IF(WEEKDAY(A718)=1,IF(D718=2,VLOOKUP(R718,Daten!$C$49:$E$102,3),\" \"),\"\")","v":""},51]
[{"$f":"+A717+1","v":"2021-12-24"},12,"1900-01-06",1,0,null,null,":",null,""," ",null,null,null,null,0,{"$f":"IF(WEEKDAY(A719)=1,IF(D719=2,VLOOKUP(R719,Daten!$C$49:$E$102,3),\" \"),\"\")","v":""},51]
[{"$f":"+A719","v":"2021-12-24"},12,"1900-01-06",2,2,null,null,":",null,""," ",null,null,null,null,0,{"$f":"IF(WEEKDAY(A720)=1,IF(D720=2,VLOOKUP(R720,Daten!$C$49:$E$102,3),\" \"),\"\")","v":""},51]
[{"$f":"+A719+1","v":"2021-12-25"},12,"1900-01-07",1,0,null,null,":",null,""," ",null,null,null,null,0,{"$f":"IF(WEEKDAY(A721)=1,IF(D721=2,VLOOKUP(R721,Daten!$C$49:$E$102,3),\" \"),\"\")","v":""},51]
[{"$f":"+A721","v":"2021-12-25"},12,"1900-01-07",2,2,null,null,":",null,""," ",null,null,null,null,0,{"$f":"IF(WEEKDAY(A722)=1,IF(D722=2,VLOOKUP(R722,Daten!$C$49:$E$102,3),\" \"),\"\")","v":""},51]
[{"$f":"+A721+1","v":"2021-12-26"},12,"1900-01-01",1,0,null,null,":",null,""," ",null,null,null,null,0,{"$f":"IF(WEEKDAY(A723)=1,IF(D723=2,VLOOKUP(R723,Daten!$C$49:$E$102,3),\" \"),\"\")","v":" "},51]
[{"$f":"+A723","v":"2021-12-26"},12,"1900-01-01",2,1,null,null,":",null,""," ",null,null,null,null,0,{"$f":"IF(WEEKDAY(A724)=1,IF(D724=2,VLOOKUP(R724,Daten!$C$49:$E$102,3),\" \"),\"\")","v":0},51]
[{"$f":"+A723+1","v":"2021-12-27"},12,"1900-01-02",1,0,null,null,":",null,""," ",null,null,null,null,0,{"$f":"IF(WEEKDAY(A725)=1,IF(D725=2,VLOOKUP(R725,Daten!$C$49:$E$102,3),\" \"),\"\")","v":""},52]
[{"$f":"+A725","v":"2021-12-27"},12,"1900-01-02",2,2,null,null,":",null,""," ",null,null,null,null,0,{"$f":"IF(WEEKDAY(A726)=1,IF(D726=2,VLOOKUP(R726,Daten!$C$49:$E$102,3),\" \"),\"\")","v":""},52]
[{"$f":"+A725+1","v":"2021-12-28"},12,"1900-01-03",1,0,null,null,":",null,""," ",null,null,null,null,0,{"$f":"IF(WEEKDAY(A727)=1,IF(D727=2,VLOOKUP(R727,Daten!$C$49:$E$102,3),\" \"),\"\")","v":""},52]
[{"$f":"+A727","v":"2021-12-28"},12,"1900-01-03",2,2,null,null,":",null,""," ",null,null,null,null,0,{"$f":"IF(WEEKDAY(A728)=1,IF(D728=2,VLOOKUP(R728,Daten!$C$49:$E$102,3),\" \"),\"\")","v":""},52]
[{"$f":"+A727+1","v":"2021-12-29"},12,"1900-01-04",1,0,null,null,":",null,""," ",null,null,null,null,0,{"$f":"IF(WEEKDAY(A729)=1,IF(D729=2,VLOOKUP(R729,Daten!$C$49:$E$102,3),\" \"),\"\")","v":""},52]
[{"$f":"+A729","v":"2021-12-29"},12,"1900-01-04",2,2,null,null,":",null,""," ",null,null,null,null,0,{"$f":"IF(WEEKDAY(A730)=1,IF(D730=2,VLOOKUP(R730,Daten!$C$49:$E$102,3),\" \"),\"\")","v":""},52]
[{"$f":"+A729+1","v":"2021-12-30"},12,"1900-01-05",1,0,null,null,":",null,""," ",null,null,null,null,0,{"$f":"IF(WEEKDAY(A731)=1,IF(D731=2,VLOOKUP(R731,Daten!$C$49:$E$102,3),\" \"),\"\")","v":""},52]
[{"$f":"+A731","v":"2021-12-30"},12,"1900-01-05",2,2,null,null,":",null,""," ",null,null,null,null,0,{"$f":"IF(WEEKDAY(A732)=1,IF(D732=2,VLOOKUP(R732,Daten!$C$49:$E$102,3),\" \"),\"\")","v":""},52]
[{"$f":"+A731+1","v":"2021-12-31"},12,"1900-01-06",1,0,null,null,":",null,""," ",null,null,null,null,0,{"$f":"IF(WEEKDAY(A733)=1,IF(D733=2,VLOOKUP(R733,Daten!$C$49:$E$102,3),\" \"),\"\")","v":""},52]
[{"$f":"+A733","v":"2021-12-31"},12,"1900-01-06",2,2,null,null,":",null,""," ",null,null,null,null,0,{"$f":"IF(WEEKDAY(A734)=1,IF(D734=2,VLOOKUP(R734,Daten!$C$49:$E$102,3),\" \"),\"\")","v":""},52]
[{"$f":"+A733+1","v":"2022-01-01"},1,"1900-01-07",1,0,null,null,":",null,""," ",null,null,null,null,0,{"$f":"IF(WEEKDAY(A735)=1,IF(D735=2,VLOOKUP(R735,Daten!$C$49:$E$102,3),\" \"),\"\")","v":""},52]
[{"$f":"+A735","v":"2022-01-01"},1,"1900-01-07",2,2,null,null,":",null,""," ",null,null,null,null,0,{"$f":"IF(WEEKDAY(A736)=1,IF(D736=2,VLOOKUP(R736,Daten!$C$49:$E$102,3),\" \"),\"\")","v":""},52]
[]
[null,null,null,null,null,{"$f":"SUM(F5:F737)","v":20},null,null,null,{"$f":"SUM(J5:J733)","v":60},null,null,null,null,null,{"$f":"SUM(P5:P737)","v":20},{"$f":"SUM(Q5:Q737)","v":20}]

{"sheet":"Tage","index":6,"n_rows":0,"n_cols":0,"rows_kept":0,"cut":false,"hidden":false,"merged":[]}

{"sheet":"Wochen","index":7,"n_rows":0,"n_cols":0,"rows_kept":0,"cut":false,"hidden":false,"merged":[]}

{"sheet":"Monate","index":8,"n_rows":0,"n_cols":0,"rows_kept":0,"cut":false,"hidden":false,"merged":[]}

{"sheet":"Monate+Bel","index":9,"n_rows":0,"n_cols":0,"rows_kept":0,"cut":false,"hidden":false,"merged":[]}

{"sheet":"Belastung","index":10,"n_rows":0,"n_cols":0,"rows_kept":0,"cut":false,"hidden":false,"merged":[]}

{"sheet":"Schuhe","index":11,"n_rows":0,"n_cols":0,"rows_kept":0,"cut":false,"hidden":false,"merged":[]}

{"sheet":"Kriterien","index":12,"n_rows":210,"n_cols":8,"rows_kept":210,"cut":false,"hidden":false,"merged":[[24,2,24,3]]}
["Erfassung individueller Daten ist nur in",null,null,"Feldern","notwendig."]
[]
[]
["Kriterien für",null,null,null,null,null,"Kriterien für"]
["Gesamtsummen Laufen",null,null,null,null,null,"Gesamtsummen Radeln"]
["datum","datum",null,null,null,null,"datum","datum"]
[]
[]
[]
[]
["Schuhname","Kürzel","Kaufdatum","km Vorjahre"]
["Schuh 1","s1"]
["Schuh 2","s2"]
["Schuh 3","s3"]
["Schuh 4","s4"]
["Schuh 5","s5"]
["Schuh 6","s6"]
["Schuh 7","s7"]
["Schuh 8","s8"]
["Schuh 9","s9"]
["Schuh 10","s10"]
["Schuh 11","s11"]
[]
["für Lauf-Kalender"]
["Belastung","Kürzel","Pulsbereich von / bis"]
["Wettkampf","W"]
["Tempo (>90%)","T >90%",{"$f":"0.9*maxhf","v":141.30000000000001},{"$f":"+maxhf","v":157}]
["GA2 (>80%)","G2>80%",{"$f":"0.8*maxhf","v":125.60000000000001},{"$f":"0.9*maxhf-1","v":140.30000000000001}]
["GA1 (>70%)","G1>70%",{"$f":"0.7*maxhf","v":109.89999999999999},{"$f":"0.8*maxhf-1","v":124.60000000000001}]
["LDL (>65%)","L>65%",{"$f":"0.65*maxhf","v":102.05},{"$f":"0.7*maxhf-1","v":108.89999999999999}]
["Reg (bis 65%)","R<65%",{"$f":"0.5*maxhf","v":78.5},{"$f":"0.65*maxhf-1","v":101.05}]
[]
["Radname","Kürzel"]
["Rad 1","r1"]
["Rad 2","r2"]
["Rad 3","r3"]
["Rad 4","r4"]
["Rad 5","r5"]
[]
["für Radel-Kalender"]
["Belastung","Kürzel"]
["RTF",1]
["hohe Belast.",2]
["mittl. Belast.",3]
["Bummeln",4]
["Regeneration",5]
[]
["Monate für Laufsummen",null,null,"Verweistabelle Wochentage"]
["mo",null,null,1,"So"]
[1,null,null,2,"Mo"]
["mo",null,null,3,"Di"]
[2,null,null,4,"Mi"]
["mo",null,null,5,"Do"]
[3,null,null,6,"Fr"]
["mo",null,null,7,"Sa"]
[4,null,null,null,null,null,"Datenbankkriterien Belastung"]
["mo",null,null,null,null,null,"bel","bel"]
[5,null,null,"Jan",null,null,{"$f":"+B26","v":"W"},{"$f":"+B42","v":1}]
["mo",null,null,"Feb",null,null,"bel","bel"]
[6,null,null,"März",null,null,{"$f":"+B27","v":"T >90%"},{"$f":"+B43","v":2}]
["mo",null,null,"April",null,null,"bel","bel"]
[7,null,null,"Mai",null,null,{"$f":"+B28","v":"G2>80%"},{"$f":"+B44","v":3}]
["mo",null,null,"Juni",null,null,"bel","bel"]
[8,null,null,"Juli",null,null,{"$f":"+B29","v":"G1>70%"},{"$f":"+B45","v":4}]
["mo",null,null,"Aug",null,null,"bel","bel"]
[9,null,null,"Sept",null,null,{"$f":"+B30","v":"L>65%"},{"$f":"+B46","v":5}]
["mo",null,null,"Okt",null,null,"bel"]
[10,null,null,"Nov",null,null,{"$f":"+B31","v":"R<65%"}]
["mo",null,null,"Dez"]
[11,null,null,null,null,null,"Datenbankkriterien Rad"]
["mo",null,null,null,null,null,"rad"]
[12,null,null,null,null,null,{"$f":"+B34","v":"r1"}]
[null,null,null,null,null,null,"rad"]
["Datenbankkriterien Schuhe",null,null,"Gültigkeitstabelle Zsfsg.",null,null,{"$f":"+B36","v":"r3"}]
["Schuh",null,null,1,null,null,"rad"]
[{"$f":"+B12","v":"s1"},null,null,null,null,null,{"$f":"+B37","v":"r4"}]
["Schuh",null,null,null,null,null,"rad"]
[{"$f":"+B13","v":"s2"},null,null,null,null,null,{"$f":"+B38","v":"r5"}]
["Schuh",null,null,null,null,null,"rad"]
[{"$f":"+B14","v":"s3"},null,null,null,null,null,{"$f":"+B35","v":"r2"}]
["Schuh"]
[{"$f":"+B15","v":"s4"}]
["Schuh"]
[{"$f":"+B16","v":"s5"}]
["Schuh"]
[{"$f":"+B17","v":"s6"}]
["Schuh"]
[{"$f":"+B18","v":"s7"}]
["Schuh"]
[{"$f":"+B19","v":"s8"}]
["Schuh"]
[{"$f":"+B20","v":"s9"}]
["Schuh"]
[{"$f":"+B21","v":"s10"}]
["Schuh"]
[{"$f":"+B22","v":"s11"}]
[]
[]
[]
[]
[]
["Wochen für Laufsummen"]
["wonr"]
[0]
["wonr"]
[1]
["wonr"]
[2]
["wonr"]
[3]
["wonr"]
[4]
["wonr"]
[5]
["wonr"]
[6]
["wonr"]
[7]
["wonr"]
[8]
["wonr"]
[9]
["wonr"]
[10]
["wonr"]
[11]
["wonr"]
[12]
["wonr"]
[13]
["wonr"]
[14]
["wonr"]
[15]
["wonr"]
[16]
["wonr"]
[17]
["wonr"]
[18]
["wonr"]
[19]
["wonr"]
[20]
["wonr"]
[21]
["wonr"]
[22]
["wonr"]
[23]
["wonr"]
[24]
["wonr"]
[25]
["wonr"]
[26]
["wonr"]
[27]
["wonr"]
[28]
["wonr"]
[29]
["wonr"]
[30]
["wonr"]
[31]
["wonr"]
[32]
["wonr"]
[33]
["wonr"]
[34]
["wonr"]
[35]
["wonr"]
[36]
["wonr"]
[37]
["wonr"]
[38]
["wonr"]
[39]
["wonr"]
[40]
["wonr"]
[41]
["wonr"]
[42]
["wonr"]
[43]
["wonr"]
[44]
["wonr"]
[45]
["wonr"]
[46]
["wonr"]
[47]
["wonr"]
[48]
["wonr"]
[49]
["wonr"]
[50]
["wonr"]
[51]
["wonr"]
[52]
["wonr"]
[53]

{"sheet":"Daten","index":13,"n_rows":104,"n_cols":10,"rows_kept":104,"cut":false,"hidden":false,"merged":[[29,2,29,6],[45,2,45,6]]}
["Erfassung individueller Daten ist nur in den ",null,null,null,"Feldern","notwendig."]
[]
[null,null,"Jahr eingeben:",2021,{"$f":"IF(D8<D6,\"Jahr hat noch nicht begonnen!\",\"\")","v":"Jahr hat noch nicht begonnen!"}]
[null,null,"Anfangstag:",1]
[null,null,"Anfangsmonat:",1,null,null,"Wochen-Nummer des 01.01.",null,{"$f":"IF(I7>3,0,1)","v":0}," (Woche Nr. 1 muss 4 Wochentage haben)"]
[null,null,"Jahresbeginn",{"$f":"DATE(D3,1,1)","v":"2021-01-01"},null,null,"Wochentag Jahresbeginn",null,{"$f":"WEEKDAY(D6)","v":"1900-01-06"}]
[null,null,"Anfang/Ende",{"$f":"DATE(D3,D5,D4)","v":"2021-01-01"},{"$f":"DATE(D3,12,31)","v":"2021-12-31"},null,"Wochentage vor Jahresbeginn",null,{"$f":"IF(WEEKDAY(D6)=1,6,WEEKDAY(D6)-2)","v":4}]
[null,null,"heute",{"$f":"TODAY()","v":"2020-12-25"},{"$f":"IF(D8>E7,E7-D7+1,D8-D7+1)","v":-6},{"$f":"MONTH(D8)-D5","v":11},"darin gelaufene km Vorjahr"]
[null,null,"Anzahl Tage",{"$f":"IF(D8<D6,0,IF(E8>E7,E8-D8+1,E8))","v":0},null,null,"Anzahl Läufe Vorjahr"]
[null,null,"Anzahl Wochen",{"$f":"IF(D8<D6,0,IF(D8<E7,(D9+I7)/7,(+D9+I7+I11)/7))","v":0},null,null,"Wochentag Jahresende",null,{"$f":"WEEKDAY(E7)","v":"1900-01-06"}]
[null,null,"Anzahl Monate",{"$f":"IF(D8<D6,0,IF(D8>E7,12,(D8-D7+1)/30))","v":0},null,null,"Wochentage nach Jahresende",null,{"$f":"IF(WEEKDAY(DATE(D3,12,31))=1,0,8-WEEKDAY(DATE(D3,12,31)))","v":2}]
[null,null,"Anzahljahrestage",{"$f":"IF(D8<D6,0,IF(D8>E7,E7-D6+1,D8-D6+1))","v":0},null,null,"darin gelaufene km Folgejahr"]
[null,null,"Faktor Laufen zu Radeln",null,3.5,null,"Anzahl Läufe Folgejahr"]
[null,null,"aktueller Monat",{"$f":"IF(D3=YEAR(tagesdatum),MONTH(tagesdatum),#N/A)","v":{"$error":"#N/A"}}]
[null,null,null,null,null,null,"Infos zum Body Mass Index zum Beispiel bei:",null,null,"Uni Hohenheim"]
[null,null,null,null,null,null,"Infos zu Greif-Punkten bei:",null,null,"Peter Greif (kommerzielle Seite)"]
[null,"Erstanwender: Vorjahresdaten hier von Hand eingeben",null,null,null,null,"Persönl. max. Herzfrequenz",null,157,"für Berechnung Puls-Anteil und Greif-Punkte"]
[null,"Vorjahre","Lauf-km","Radel-km","Mubu-Anz.",null,"Körpergrösse in m",null,1.76,"für Berechnung des Body Mass Index"]
[]
[null,2015]
[null,{"$f":"+B20+1","v":2016}]
[null,{"$f":"+B21+1","v":2017}]
[null,{"$f":"+B22+1","v":2018}]
[null,{"$f":"+B23+1","v":2019}]
[null,{"$f":"+B24+1","v":2020}]
[]
[null,"Summe",{"$f":"SUM(C19:C26)","v":0},{"$f":"SUM(D19:D26)","v":0},{"$f":"SUM(E19:E26)","v":0}]
[]
[]
[null,null,"Monatssummen Datenbank"]
[null,null,"Monat","Laufen","Radeln","Gesamt","Muckibude"]
[null,"Jan",1,{"$f":"DSUM(laufkalender,Laufkal!F5,Kriterien!$A$49:$A$50)","v":28.5},{"$f":"DSUM(radelkalender,Radelkal!F4,Kriterien!$A$49:$A$50)","v":20},{"$f":"+D32+E32/$E$13","v":34.214285714285715},{"$f":"DSUM(laufkalender,Laufkal!AI5,Kriterien!$A$49:$A$50)","v":0}]
[null,"Feb",2,{"$f":"DSUM(laufkalender,Laufkal!F5,Kriterien!$A$51:$A$52)","v":0},{"$f":"DSUM(radelkalender,Radelkal!F4,Kriterien!$A$51:$A$52)","v":0},{"$f":"+D33+E33/$E$13","v":0},{"$f":"DSUM(laufkalender,Laufkal!AI5,Kriterien!$A$51:$A$52)","v":0}]
[null,"März",3,{"$f":"DSUM(laufkalender,Laufkal!F5,Kriterien!$A$53:$A$54)","v":0},{"$f":"DSUM(radelkalender,Radelkal!F4,Kriterien!$A$53:$A$54)","v":0},0,{"$f":"DSUM(laufkalender,Laufkal!AI5,Kriterien!$A$53:$A$54)","v":0}]
[null,"April",4,{"$f":"DSUM(laufkalender,Laufkal!F5,Kriterien!$A$55:$A$56)","v":0},{"$f":"DSUM(radelkalender,Radelkal!F4,Kriterien!$A$55:$A$56)","v":0},0,{"$f":"DSUM(laufkalender,Laufkal!AI5,Kriterien!$A$55:$A$56)","v":0}]
[null,"Mai",5,{"$f":"DSUM(laufkalender,Laufkal!F5,Kriterien!$A$57:$A$58)","v":0},{"$f":"DSUM(radelkalender,Radelkal!F4,Kriterien!$A$57:$A$58)","v":0},0,{"$f":"DSUM(laufkalender,Laufkal!AI5,Kriterien!$A$57:$A$58)","v":0}]
[null,"Juni",6,{"$f":"DSUM(laufkalender,Laufkal!F5,Kriterien!$A$59:$A$60)","v":0},{"$f":"DSUM(radelkalender,Radelkal!F4,Kriterien!$A$59:$A$60)","v":0},0,{"$f":"DSUM(laufkalender,Laufkal!AI5,Kriterien!$A$59:$A$60)","v":0}]
[null,"Juli",7,{"$f":"DSUM(laufkalender,Laufkal!F5,Kriterien!$A$61:$A$62)","v":0},{"$f":"DSUM(radelkalender,Radelkal!F4,Kriterien!$A$61:$A$62)","v":0},0,{"$f":"DSUM(laufkalender,Laufkal!AI5,Kriterien!$A$61:$A$62)","v":0}]
[null,"Aug",8,{"$f":"DSUM(laufkalender,Laufkal!F5,Kriterien!$A$63:$A$64)","v":0},{"$f":"DSUM(radelkalender,Radelkal!F4,Kriterien!$A$63:$A$64)","v":0},0,{"$f":"DSUM(laufkalender,Laufkal!AI5,Kriterien!$A$63:$A$64)","v":0}]
[null,"Sept",9,{"$f":"DSUM(laufkalender,Laufkal!F5,Kriterien!$A$65:$A$66)","v":0},{"$f":"DSUM(radelkalender,Radelkal!F4,Kriterien!$A$65:$A$66)","v":0},0,{"$f":"DSUM(laufkalender,Laufkal!AI5,Kriterien!$A$65:$A$66)","v":0}]
[null,"Okt",10,{"$f":"DSUM(laufkalender,Laufkal!F5,Kriterien!$A$67:$A$68)","v":0},{"$f":"DSUM(radelkalender,Radelkal!F4,Kriterien!$A$67:$A$68)","v":0},0,{"$f":"DSUM(laufkalender,Laufkal!AI5,Kriterien!$A$67:$A$68)","v":0}]
[null,"Nov",11,{"$f":"DSUM(laufkalender,Laufkal!F5,Kriterien!$A$69:$A$70)","v":0},{"$f":"DSUM(radelkalender,Radelkal!F4,Kriterien!$A$69:$A$70)","v":0},0,{"$f":"DSUM(laufkalender,Laufkal!AI5,Kriterien!$A$69:$A$70)","v":0}]
[null,"Dez",12,{"$f":"DSUM(laufkalender,Laufkal!F5,Kriterien!$A$71:$A$72)","v":0},{"$f":"DSUM(radelkalender,Radelkal!F4,Kriterien!$A$71:$A$72)","v":0},0,{"$f":"DSUM(laufkalender,Laufkal!AI5,Kriterien!$A$71:$A$72)","v":0}]
[null,null,null,{"$f":"SUM(D32:D43)","v":28.5},{"$f":"SUM(E32:E43)","v":20},{"$f":"SUM(F32:F43)","v":34.214285714285715},{"$f":"SUM(G32:G43)","v":0}]
[]
[null,null,"Wochensummen Datenbank"]
[null,null,"Woche","Laufen","Radeln","Gesamt","Mubu"]
[]
[null,null,0,{"$f":"IF(erstewochennr=0,DSUM(laufkalender,Laufkal!$F$5,Kriterien!A103:A104)+laufkmvorjahr,DSUM(laufkalender,Laufkal!$F$5,Kriterien!A103:A104))","v":16.5},{"$f":"DSUM(radelkalender,Radelkal!$F$4,Kriterien!A103:A104)","v":20},{"$f":"+D49+E49/$E$13","v":22.214285714285715},{"$f":"DSUM(laufkalender,Laufkal!$AI$5,Kriterien!A105:A106)","v":0}]
[null,null,1,{"$f":"IF(erstewochennr=1,DSUM(laufkalender,Laufkal!$F$5,Kriterien!A105:A106)+laufkmvorjahr,DSUM(laufkalender,Laufkal!$F$5,Kriterien!A105:A106))","v":12},{"$f":"DSUM(radelkalender,Radelkal!$F$4,Kriterien!A105:A106)","v":0},{"$f":"+D50+E50/$E$13","v":12},{"$f":"DSUM(laufkalender,Laufkal!$AI$5,Kriterien!A106:A107)","v":0}]
[null,null,2,{"$f":"DSUM(laufkalender,Laufkal!$F$5,Kriterien!A107:A108)","v":0},{"$f":"DSUM(radelkalender,Radelkal!$F$4,Kriterien!A107:A108)","v":0},{"$f":"+D51+E51/$E$13","v":0},{"$f":"DSUM(laufkalender,Laufkal!$AI$5,Kriterien!A107:A108)","v":0}]
[null,null,3,{"$f":"DSUM(laufkalender,Laufkal!$F$5,Kriterien!A109:A110)","v":0},{"$f":"DSUM(radelkalender,Radelkal!$F$4,Kriterien!A109:A110)","v":0},0,{"$f":"DSUM(laufkalender,Laufkal!$AI$5,Kriterien!A109:A110)","v":0}]
[null,null,4,{"$f":"DSUM(laufkalender,Laufkal!$F$5,Kriterien!A111:A112)","v":0},{"$f":"DSUM(radelkalender,Radelkal!$F$4,Kriterien!A111:A112)","v":0},0,{"$f":"DSUM(laufkalender,Laufkal!$AI$5,Kriterien!A111:A112)","v":0}]
[null,null,5,{"$f":"DSUM(laufkalender,Laufkal!$F$5,Kriterien!A113:A114)","v":0},{"$f":"DSUM(radelkalender,Radelkal!$F$4,Kriterien!A113:A114)","v":0},0,{"$f":"DSUM(laufkalender,Laufkal!$AI$5,Kriterien!A113:A114)","v":0}]
[null,null,6,{"$f":"DSUM(laufkalender,Laufkal!$F$5,Kriterien!A115:A116)","v":0},{"$f":"DSUM(radelkalender,Radelkal!$F$4,Kriterien!A115:A116)","v":0},0,{"$f":"DSUM(laufkalender,Laufkal!$AI$5,Kriterien!A115:A116)","v":0}]
[null,null,7,{"$f":"DSUM(laufkalender,Laufkal!$F$5,Kriterien!A117:A118)","v":0},{"$f":"DSUM(radelkalender,Radelkal!$F$4,Kriterien!A117:A118)","v":0},0,{"$f":"DSUM(laufkalender,Laufkal!$AI$5,Kriterien!A117:A118)","v":0}]
[null,null,8,{"$f":"DSUM(laufkalender,Laufkal!$F$5,Kriterien!A119:A120)","v":0},{"$f":"DSUM(radelkalender,Radelkal!$F$4,Kriterien!A119:A120)","v":0},0,{"$f":"DSUM(laufkalender,Laufkal!$AI$5,Kriterien!A119:A120)","v":0}]
[null,null,9,{"$f":"DSUM(laufkalender,Laufkal!$F$5,Kriterien!A121:A122)","v":0},{"$f":"DSUM(radelkalender,Radelkal!$F$4,Kriterien!A121:A122)","v":0},0,{"$f":"DSUM(laufkalender,Laufkal!$AI$5,Kriterien!A121:A122)","v":0}]
[null,null,10,{"$f":"DSUM(laufkalender,Laufkal!$F$5,Kriterien!A123:A124)","v":0},{"$f":"DSUM(radelkalender,Radelkal!$F$4,Kriterien!A123:A124)","v":0},0,{"$f":"DSUM(laufkalender,Laufkal!$AI$5,Kriterien!A123:A124)","v":0}]
[null,null,11,{"$f":"DSUM(laufkalender,Laufkal!$F$5,Kriterien!A125:A126)","v":0},{"$f":"DSUM(radelkalender,Radelkal!$F$4,Kriterien!A125:A126)","v":0},0,{"$f":"DSUM(laufkalender,Laufkal!$AI$5,Kriterien!A125:A126)","v":0}]
[null,null,12,{"$f":"DSUM(laufkalender,Laufkal!$F$5,Kriterien!A127:A128)","v":0},{"$f":"DSUM(radelkalender,Radelkal!$F$4,Kriterien!A127:A128)","v":0},0,{"$f":"DSUM(laufkalender,Laufkal!$AI$5,Kriterien!A127:A128)","v":0}]
[null,null,13,{"$f":"DSUM(laufkalender,Laufkal!$F$5,Kriterien!A129:A130)","v":0},{"$f":"DSUM(radelkalender,Radelkal!$F$4,Kriterien!A129:A130)","v":0},0,{"$f":"DSUM(laufkalender,Laufkal!$AI$5,Kriterien!A129:A130)","v":0}]
[null,null,14,{"$f":"DSUM(laufkalender,Laufkal!$F$5,Kriterien!A131:A132)","v":0},{"$f":"DSUM(radelkalender,Radelkal!$F$4,Kriterien!A131:A132)","v":0},0,{"$f":"DSUM(laufkalender,Laufkal!$AI$5,Kriterien!A131:A132)","v":0}]
[null,null,15,{"$f":"DSUM(laufkalender,Laufkal!$F$5,Kriterien!A133:A134)","v":0},{"$f":"DSUM(radelkalender,Radelkal!$F$4,Kriterien!A133:A134)","v":0},0,{"$f":"DSUM(laufkalender,Laufkal!$AI$5,Kriterien!A133:A134)","v":0}]
[null,null,16,{"$f":"DSUM(laufkalender,Laufkal!$F$5,Kriterien!A135:A136)","v":0},{"$f":"DSUM(radelkalender,Radelkal!$F$4,Kriterien!A135:A136)","v":0},0,{"$f":"DSUM(laufkalender,Laufkal!$AI$5,Kriterien!A135:A136)","v":0}]
[null,null,17,{"$f":"DSUM(laufkalender,Laufkal!$F$5,Kriterien!A137:A138)","v":0},{"$f":"DSUM(radelkalender,Radelkal!$F$4,Kriterien!A137:A138)","v":0},0,{"$f":"DSUM(laufkalender,Laufkal!$AI$5,Kriterien!A137:A138)","v":0}]
[null,null,18,{"$f":"DSUM(laufkalender,Laufkal!$F$5,Kriterien!A139:A140)","v":0},{"$f":"DSUM(radelkalender,Radelkal!$F$4,Kriterien!A139:A140)","v":0},0,{"$f":"DSUM(laufkalender,Laufkal!$AI$5,Kriterien!A139:A140)","v":0}]
[null,null,19,{"$f":"DSUM(laufkalender,Laufkal!$F$5,Kriterien!A141:A142)","v":0},{"$f":"DSUM(radelkalender,Radelkal!$F$4,Kriterien!A141:A142)","v":0},0,{"$f":"DSUM(laufkalender,Laufkal!$AI$5,Kriterien!A141:A142)","v":0}]
[null,null,20,{"$f":"DSUM(laufkalender,Laufkal!$F$5,Kriterien!A143:A144)","v":0},{"$f":"DSUM(radelkalender,Radelkal!$F$4,Kriterien!A143:A144)","v":0},0,{"$f":"DSUM(laufkalender,Laufkal!$AI$5,Kriterien!A143:A144)","v":0}]
[null,null,21,{"$f":"DSUM(laufkalender,Laufkal!$F$5,Kriterien!A145:A146)","v":0},{"$f":"DSUM(radelkalender,Radelkal!$F$4,Kriterien!A145:A146)","v":0},0,{"$f":"DSUM(laufkalender,Laufkal!$AI$5,Kriterien!A145:A146)","v":0}]
[null,null,22,{"$f":"DSUM(laufkalender,Laufkal!$F$5,Kriterien!A147:A148)","v":0},{"$f":"DSUM(radelkalender,Radelkal!$F$4,Kriterien!A147:A148)","v":0},0,{"$f":"DSUM(laufkalender,Laufkal!$AI$5,Kriterien!A147:A148)","v":0}]
[null,null,23,{"$f":"DSUM(laufkalender,Laufkal!$F$5,Kriterien!A149:A150)","v":0},{"$f":"DSUM(radelkalender,Radelkal!$F$4,Kriterien!A149:A150)","v":0},0,{"$f":"DSUM(laufkalender,Laufkal!$AI$5,Kriterien!A149:A150)","v":0}]
[null,null,24,{"$f":"DSUM(laufkalender,Laufkal!$F$5,Kriterien!A151:A152)","v":0},{"$f":"DSUM(radelkalender,Radelkal!$F$4,Kriterien!A151:A152)","v":0},0,{"$f":"DSUM(laufkalender,Laufkal!$AI$5,Kriterien!A151:A152)","v":0}]
[null,null,25,{"$f":"DSUM(laufkalender,Laufkal!$F$5,Kriterien!A153:A154)","v":0},{"$f":"DSUM(radelkalender,Radelkal!$F$4,Kriterien!A153:A154)","v":0},0,{"$f":"DSUM(laufkalender,Laufkal!$AI$5,Kriterien!A153:A154)","v":0}]
[null,null,26,{"$f":"DSUM(laufkalender,Laufkal!$F$5,Kriterien!A155:A156)","v":0},{"$f":"DSUM(radelkalender,Radelkal!$F$4,Kriterien!A155:A156)","v":0},0,{"$f":"DSUM(laufkalender,Laufkal!$AI$5,Kriterien!A155:A156)","v":0}]
[null,null,27,{"$f":"DSUM(laufkalender,Laufkal!$F$5,Kriterien!A157:A158)","v":0},{"$f":"DSUM(radelkalender,Radelkal!$F$4,Kriterien!A157:A158)","v":0},0,{"$f":"DSUM(laufkalender,Laufkal!$AI$5,Kriterien!A157:A158)","v":0}]
[null,null,28,{"$f":"DSUM(laufkalender,Laufkal!$F$5,Kriterien!A159:A160)","v":0},{"$f":"DSUM(radelkalender,Radelkal!$F$4,Kriterien!A159:A160)","v":0},0,{"$f":"DSUM(laufkalender,Laufkal!$AI$5,Kriterien!A159:A160)","v":0}]
[null,null,29,{"$f":"DSUM(laufkalender,Laufkal!$F$5,Kriterien!A161:A162)","v":0},{"$f":"DSUM(radelkalender,Radelkal!$F$4,Kriterien!A161:A162)","v":0},0,{"$f":"DSUM(laufkalender,Laufkal!$AI$5,Kriterien!A161:A162)","v":0}]
[null,null,30,{"$f":"DSUM(laufkalender,Laufkal!$F$5,Kriterien!A163:A164)","v":0},{"$f":"DSUM(radelkalender,Radelkal!$F$4,Kriterien!A163:A164)","v":0},0,{"$f":"DSUM(laufkalender,Laufkal!$AI$5,Kriterien!A163:A164)","v":0}]
[null,null,31,{"$f":"DSUM(laufkalender,Laufkal!$F$5,Kriterien!A165:A166)","v":0},{"$f":"DSUM(radelkalender,Radelkal!$F$4,Kriterien!A165:A166)","v":0},0,{"$f":"DSUM(laufkalender,Laufkal!$AI$5,Kriterien!A165:A166)","v":0}]
[null,null,32,{"$f":"DSUM(laufkalender,Laufkal!$F$5,Kriterien!A167:A168)","v":0},{"$f":"DSUM(radelkalender,Radelkal!$F$4,Kriterien!A167:A168)","v":0},0,{"$f":"DSUM(laufkalender,Laufkal!$AI$5,Kriterien!A167:A168)","v":0}]
[null,null,33,{"$f":"DSUM(laufkalender,Laufkal!$F$5,Kriterien!A169:A170)","v":0},{"$f":"DSUM(radelkalender,Radelkal!$F$4,Kriterien!A169:A170)","v":0},0,{"$f":"DSUM(laufkalender,Laufkal!$AI$5,Kriterien!A169:A170)","v":0}]
[null,null,34,{"$f":"DSUM(laufkalender,Laufkal!$F$5,Kriterien!A171:A172)","v":0},{"$f":"DSUM(radelkalender,Radelkal!$F$4,Kriterien!A171:A172)","v":0},0,{"$f":"DSUM(laufkalender,Laufkal!$AI$5,Kriterien!A171:A172)","v":0}]
[null,null,35,{"$f":"DSUM(laufkalender,Laufkal!$F$5,Kriterien!A173:A174)","v":0},{"$f":"DSUM(radelkalender,Radelkal!$F$4,Kriterien!A173:A174)","v":0},0,{"$f":"DSUM(laufkalender,Laufkal!$AI$5,Kriterien!A173:A174)","v":0}]
[null,null,36,{"$f":"DSUM(laufkalender,Laufkal!$F$5,Kriterien!A175:A176)","v":0},{"$f":"DSUM(radelkalender,Radelkal!$F$4,Kriterien!A175:A176)","v":0},0,{"$f":"DSUM(laufkalender,Laufkal!$AI$5,Kriterien!A175:A176)","v":0}]
[null,null,37,{"$f":"DSUM(laufkalender,Laufkal!$F$5,Kriterien!A177:A178)","v":0},{"$f":"DSUM(radelkalender,Radelkal!$F$4,Kriterien!A177:A178)","v":0},0,{"$f":"DSUM(laufkalender,Laufkal!$AI$5,Kriterien!A177:A178)","v":0}]
[null,null,38,{"$f":"DSUM(laufkalender,Laufkal!$F$5,Kriterien!A179:A180)","v":0},{"$f":"DSUM(radelkalender,Radelkal!$F$4,Kriterien!A179:A180)","v":0},0,{"$f":"DSUM(laufkalender,Laufkal!$AI$5,Kriterien!A179:A180)","v":0}]
[null,null,39,{"$f":"DSUM(laufkalender,Laufkal!$F$5,Kriterien!A181:A182)","v":0},{"$f":"DSUM(radelkalender,Radelkal!$F$4,Kriterien!A181:A182)","v":0},0,{"$f":"DSUM(laufkalender,Laufkal!$AI$5,Kriterien!A181:A182)","v":0}]
[null,null,40,{"$f":"DSUM(laufkalender,Laufkal!$F$5,Kriterien!A183:A184)","v":0},{"$f":"DSUM(radelkalender,Radelkal!$F$4,Kriterien!A183:A184)","v":0},0,{"$f":"DSUM(laufkalender,Laufkal!$AI$5,Kriterien!A183:A184)","v":0}]
[null,null,41,{"$f":"DSUM(laufkalender,Laufkal!$F$5,Kriterien!A185:A186)","v":0},{"$f":"DSUM(radelkalender,Radelkal!$F$4,Kriterien!A185:A186)","v":0},0,{"$f":"DSUM(laufkalender,Laufkal!$AI$5,Kriterien!A185:A186)","v":0}]
[null,null,42,{"$f":"DSUM(laufkalender,Laufkal!$F$5,Kriterien!A187:A188)","v":0},{"$f":"DSUM(radelkalender,Radelkal!$F$4,Kriterien!A187:A188)","v":0},0,{"$f":"DSUM(laufkalender,Laufkal!$AI$5,Kriterien!A187:A188)","v":0}]
[null,null,43,{"$f":"DSUM(laufkalender,Laufkal!$F$5,Kriterien!A189:A190)","v":0},{"$f":"DSUM(radelkalender,Radelkal!$F$4,Kriterien!A189:A190)","v":0},0,{"$f":"DSUM(laufkalender,Laufkal!$AI$5,Kriterien!A189:A190)","v":0}]
[null,null,44,{"$f":"DSUM(laufkalender,Laufkal!$F$5,Kriterien!A191:A192)","v":0},{"$f":"DSUM(radelkalender,Radelkal!$F$4,Kriterien!A191:A192)","v":0},0,{"$f":"DSUM(laufkalender,Laufkal!$AI$5,Kriterien!A191:A192)","v":0}]
[null,null,45,{"$f":"DSUM(laufkalender,Laufkal!$F$5,Kriterien!A193:A194)","v":0},{"$f":"DSUM(radelkalender,Radelkal!$F$4,Kriterien!A193:A194)","v":0},0,{"$f":"DSUM(laufkalender,Laufkal!$AI$5,Kriterien!A193:A194)","v":0}]
[null,null,46,{"$f":"DSUM(laufkalender,Laufkal!$F$5,Kriterien!A195:A196)","v":0},{"$f":"DSUM(radelkalender,Radelkal!$F$4,Kriterien!A195:A196)","v":0},0,{"$f":"DSUM(laufkalender,Laufkal!$AI$5,Kriterien!A195:A196)","v":0}]
[null,null,47,{"$f":"DSUM(laufkalender,Laufkal!$F$5,Kriterien!A197:A198)","v":0},{"$f":"DSUM(radelkalender,Radelkal!$F$4,Kriterien!A197:A198)","v":0},0,{"$f":"DSUM(laufkalender,Laufkal!$AI$5,Kriterien!A197:A198)","v":0}]
[null,null,48,{"$f":"DSUM(laufkalender,Laufkal!$F$5,Kriterien!A199:A200)","v":0},{"$f":"DSUM(radelkalender,Radelkal!$F$4,Kriterien!A199:A200)","v":0},0,{"$f":"DSUM(laufkalender,Laufkal!$AI$5,Kriterien!A199:A200)","v":0}]
[null,null,49,{"$f":"DSUM(laufkalender,Laufkal!$F$5,Kriterien!A201:A202)","v":0},{"$f":"DSUM(radelkalender,Radelkal!$F$4,Kriterien!A201:A202)","v":0},0,{"$f":"DSUM(laufkalender,Laufkal!$AI$5,Kriterien!A201:A202)","v":0}]
[null,null,50,{"$f":"DSUM(laufkalender,Laufkal!$F$5,Kriterien!A203:A204)","v":0},{"$f":"DSUM(radelkalender,Radelkal!$F$4,Kriterien!A203:A204)","v":0},0,{"$f":"DSUM(laufkalender,Laufkal!$AI$5,Kriterien!A203:A204)","v":0}]
[null,null,51,{"$f":"DSUM(laufkalender,Laufkal!$F$5,Kriterien!A205:A206)","v":0},{"$f":"DSUM(radelkalender,Radelkal!$F$4,Kriterien!A205:A206)","v":0},0,{"$f":"DSUM(laufkalender,Laufkal!$AI$5,Kriterien!A205:A206)","v":0}]
[null,null,52,{"$f":"DSUM(laufkalender,Laufkal!$F$5,Kriterien!A207:A208)","v":0},{"$f":"DSUM(radelkalender,Radelkal!$F$4,Kriterien!A207:A208)","v":0},0,{"$f":"DSUM(laufkalender,Laufkal!$AI$5,Kriterien!A207:A208)","v":0}]
[null,null,53,{"$f":"DSUM(laufkalender,Laufkal!$F$5,Kriterien!A209:A210)+laufkmfolgejahr","v":0},{"$f":"DSUM(radelkalender,Radelkal!$F$4,Kriterien!A209:A210)","v":0},0,{"$f":"DSUM(laufkalender,Laufkal!$AI$5,Kriterien!A209:A210)","v":0}]
[]
[null,null,null,{"$f":"SUM(D49:D103)","v":28.5},{"$f":"SUM(E49:E103)","v":20},{"$f":"SUM(F49:F103)","v":34.214285714285715},{"$f":"SUM(G49:G103)","v":0}]

{"sheet":"Jahre","index":14,"n_rows":0,"n_cols":0,"rows_kept":0,"cut":false,"hidden":false,"merged":[]}

{"sheet":"Strecken","index":15,"n_rows":36,"n_cols":1,"rows_kept":36,"cut":false,"hidden":false,"merged":[]}
["Laufstrecken"]
["Strecke 1"]
["Strecke 2"]
["Strecke 3"]
["Strecke 4"]
["Strecke 5"]
["Strecke 6"]
["Strecke 7"]
["Strecke 8"]
["Strecke 9"]
["Strecke 10"]
[]
["Radstrecken"]
["Strecke 1"]
["Strecke 2"]
["Strecke 3"]
["Strecke 4"]
["Strecke 5"]
["Strecke 6"]
["Strecke 7"]
["Strecke 8"]
["Strecke 9"]
["Strecke 10"]
[]
["Distanzen"]
[5]
[10]
[15]
[20]
[21.1]
[25]
[30]
[42.2]
[]
["Zum Einfügen weiterer Strecken neue Zeilen vor der letzten Zeile einfügen."]
["Dadurch wird der festgelegte Eingabe-Bereich automatisch erweitert."]

{"sheet":"Bel-Kriterien","index":16,"n_rows":28,"n_cols":27,"rows_kept":28,"cut":false,"hidden":false,"merged":[]}
["Kriterien und Formeln zur Berechnung der Belastungen je Monat"]
["In diesem Blatt sind keine individuellen Änderungen notwendig.",null,null,null,null,null,null,null,null,null,null,null,null,null,1,2,3,4,5,6,7,8,9,10,11,12,"Sum"]
["mo","bel","mo","bel","mo","bel","mo","bel","mo","bel","mo","bel",null,{"$f":"+Kriterien!B26","v":"W"},{"$f":"DSUM(laufkalender,Laufkal!F5,A3:B4)","v":10},{"$f":"DSUM(laufkalender,Laufkal!$F$5,A5:B6)","v":0},{"$f":"DSUM(laufkalender,Laufkal!$F$5,A7:B8)","v":0},{"$f":"DSUM(laufkalender,Laufkal!$F$5,A9:B10)","v":0},{"$f":"DSUM(laufkalender,Laufkal!$F$5,A11:B12)","v":0},{"$f":"DSUM(laufkalender,Laufkal!$F$5,A13:B14)","v":0},{"$f":"DSUM(laufkalender,Laufkal!$F$5,A15:B16)","v":0},{"$f":"DSUM(laufkalender,Laufkal!$F$5,A17:B18)","v":0},{"$f":"DSUM(laufkalender,Laufkal!$F$5,A19:B20)","v":0},{"$f":"DSUM(laufkalender,Laufkal!$F$5,A21:B22)","v":0},{"$f":"DSUM(laufkalender,Laufkal!$F$5,A23:B24)","v":0},{"$f":"DSUM(laufkalender,Laufkal!$F$5,A25:B26)","v":0},{"$f":"SUM(O3:Z3)","v":10}]
[1,{"$f":"+Kriterien!$B$26","v":"W"},1,{"$f":"+Kriterien!$B$27","v":"T >90%"},1,{"$f":"+Kriterien!$B$28","v":"G2>80%"},1,{"$f":"+Kriterien!$B$29","v":"G1>70%"},1,{"$f":"+Kriterien!$B$30","v":"L>65%"},1,{"$f":"+Kriterien!$B$31","v":"R<65%"},null,{"$f":"+Kriterien!B27","v":"T >90%"},{"$f":"DSUM(laufkalender,Laufkal!$F$5,C3:D4)","v":0},{"$f":"DSUM(laufkalender,Laufkal!$F$5,C5:D6)","v":0},{"$f":"DSUM(laufkalender,Laufkal!$F$5,C7:D8)","v":0},{"$f":"DSUM(laufkalender,Laufkal!$F$5,C9:D10)","v":0},{"$f":"DSUM(laufkalender,Laufkal!$F$5,C11:D12)","v":0},{"$f":"DSUM(laufkalender,Laufkal!$F$5,C13:D14)","v":0},{"$f":"DSUM(laufkalender,Laufkal!$F$5,C15:D16)","v":0},{"$f":"DSUM(laufkalender,Laufkal!$F$5,C17:D18)","v":0},{"$f":"DSUM(laufkalender,Laufkal!$F$5,C19:D20)","v":0},{"$f":"DSUM(laufkalender,Laufkal!$F$5,C21:D22)","v":0},{"$f":"DSUM(laufkalender,Laufkal!$F$5,C23:D24)","v":0},{"$f":"DSUM(laufkalender,Laufkal!$F$5,C25:D26)","v":0},{"$f":"SUM(O4:Z4)","v":0}]
["mo","bel","mo","bel","mo","bel","mo","bel","mo","bel","mo","bel",null,{"$f":"+Kriterien!B28","v":"G2>80%"},{"$f":"DSUM(laufkalender,Laufkal!$F$5,E3:F4)","v":0},{"$f":"DSUM(laufkalender,Laufkal!$F$5,E5:F6)","v":0},{"$f":"DSUM(laufkalender,Laufkal!$F$5,E7:F8)","v":0},{"$f":"DSUM(laufkalender,Laufkal!$F$5,E9:F10)","v":0},{"$f":"DSUM(laufkalender,Laufkal!$F$5,E11:F12)","v":0},{"$f":"DSUM(laufkalender,Laufkal!$F$5,E13:F14)","v":0},{"$f":"DSUM(laufkalender,Laufkal!$F$5,E15:F16)","v":0},{"$f":"DSUM(laufkalender,Laufkal!$F$5,E17:F18)","v":0},{"$f":"DSUM(laufkalender,Laufkal!$F$5,E19:F20)","v":0},{"$f":"DSUM(laufkalender,Laufkal!$F$5,E21:F22)","v":0},{"$f":"DSUM(laufkalender,Laufkal!$F$5,E23:F24)","v":0},{"$f":"DSUM(laufkalender,Laufkal!$F$5,E25:F26)","v":0},0]
[2,{"$f":"+Kriterien!$B$26","v":"W"},2,{"$f":"+Kriterien!$B$27","v":"T >90%"},2,{"$f":"+Kriterien!$B$28","v":"G2>80%"},2,{"$f":"+Kriterien!$B$29","v":"G1>70%"},2,{"$f":"+Kriterien!$B$30","v":"L>65%"},2,{"$f":"+Kriterien!$B$31","v":"R<65%"},null,{"$f":"+Kriterien!B29","v":"G1>70%"},{"$f":"DSUM(laufkalender,Laufkal!$F$5,G3:H4)","v":0},{"$f":"DSUM(laufkalender,Laufkal!$F$5,G5:H6)","v":0},{"$f":"DSUM(laufkalender,Laufkal!$F$5,G7:H8)","v":0},{"$f":"DSUM(laufkalender,Laufkal!$F$5,G9:H10)","v":0},{"$f":"DSUM(laufkalender,Laufkal!$F$5,G11:H12)","v":0},{"$f":"DSUM(laufkalender,Laufkal!$F$5,G13:H14)","v":0},{"$f":"DSUM(laufkalender,Laufkal!$F$5,G15:H16)","v":0},{"$f":"DSUM(laufkalender,Laufkal!$F$5,G17:H18)","v":0},{"$f":"DSUM(laufkalender,Laufkal!$F$5,G19:H20)","v":0},{"$f":"DSUM(laufkalender,Laufkal!$F$5,G21:H22)","v":0},{"$f":"DSUM(laufkalender,Laufkal!$F$5,G23:H24)","v":0},{"$f":"DSUM(laufkalender,Laufkal!$F$5,G25:H26)","v":0},0]
["mo","bel","mo","bel","mo","bel","mo","bel","mo","bel","mo","bel",null,{"$f":"+Kriterien!B30","v":"L>65%"},{"$f":"DSUM(laufkalender,Laufkal!$F$5,I3:J4)","v":12},{"$f":"DSUM(laufkalender,Laufkal!$F$5,I5:J6)","v":0},{"$f":"DSUM(laufkalender,Laufkal!$F$5,I7:J8)","v":0},{"$f":"DSUM(laufkalender,Laufkal!$F$5,I9:J10)","v":0},{"$f":"DSUM(laufkalender,Laufkal!$F$5,I11:J12)","v":0},{"$f":"DSUM(laufkalender,Laufkal!$F$5,I13:J14)","v":0},{"$f":"DSUM(laufkalender,Laufkal!$F$5,I15:J16)","v":0},{"$f":"DSUM(laufkalender,Laufkal!$F$5,I17:J18)","v":0},{"$f":"DSUM(laufkalender,Laufkal!$F$5,I19:J20)","v":0},{"$f":"DSUM(laufkalender,Laufkal!$F$5,I21:J22)","v":0},{"$f":"DSUM(laufkalender,Laufkal!$F$5,I23:J24)","v":0},{"$f":"DSUM(laufkalender,Laufkal!$F$5,I25:J26)","v":0},12]
[3,{"$f":"+Kriterien!$B$26","v":"W"},3,{"$f":"+Kriterien!$B$27","v":"T >90%"},3,{"$f":"+Kriterien!$B$28","v":"G2>80%"},3,{"$f":"+Kriterien!$B$29","v":"G1>70%"},3,{"$f":"+Kriterien!$B$30","v":"L>65%"},3,{"$f":"+Kriterien!$B$31","v":"R<65%"},null,{"$f":"+Kriterien!B31","v":"R<65%"},{"$f":"DSUM(laufkalender,Laufkal!$F$5,K3:L4)","v":6.5},{"$f":"DSUM(laufkalender,Laufkal!$F$5,K5:L6)","v":0},{"$f":"DSUM(laufkalender,Laufkal!$F$5,K7:L8)","v":0},{"$f":"DSUM(laufkalender,Laufkal!$F$5,K9:L10)","v":0},{"$f":"DSUM(laufkalender,Laufkal!$F$5,K11:L12)","v":0},{"$f":"DSUM(laufkalender,Laufkal!$F$5,K13:L14)","v":0},{"$f":"DSUM(laufkalender,Laufkal!$F$5,K15:L16)","v":0},{"$f":"DSUM(laufkalender,Laufkal!$F$5,K17:L18)","v":0},{"$f":"DSUM(laufkalender,Laufkal!$F$5,K19:L20)","v":0},{"$f":"DSUM(laufkalender,Laufkal!$F$5,K21:L22)","v":0},{"$f":"DSUM(laufkalender,Laufkal!$F$5,K23:L24)","v":0},{"$f":"DSUM(laufkalender,Laufkal!$F$5,K25:L26)","v":0},6.5]
["mo","bel","mo","bel","mo","bel","mo","bel","mo","bel","mo","bel",null,"Sum",{"$f":"SUM(O3:O8)","v":28.5},{"$f":"SUM(P3:P8)","v":0},0,0,0,0,0,0,0,0,0,0,28.5]
[4,{"$f":"+Kriterien!$B$26","v":"W"},4,{"$f":"+Kriterien!$B$27","v":"T >90%"},4,{"$f":"+Kriterien!$B$28","v":"G2>80%"},4,{"$f":"+Kriterien!$B$29","v":"G1>70%"},4,{"$f":"+Kriterien!$B$30","v":"L>65%"},4,{"$f":"+Kriterien!$B$31","v":"R<65%"}]
["mo","bel","mo","bel","mo","bel","mo","bel","mo","bel","mo","bel",null,{"$f":"+Kriterien!B26","v":"W"},{"$f":"IF(O3=0,0,+O3/O9)","v":0.35087719298245612},{"$f":"IF(P3=0,0,+P3/P9)","v":0},0,0,0,0,0,0,0,0,0,0,{"$f":"+AA3/AA9","v":0.35087719298245612}]
[5,{"$f":"+Kriterien!$B$26","v":"W"},5,{"$f":"+Kriterien!$B$27","v":"T >90%"},5,{"$f":"+Kriterien!$B$28","v":"G2>80%"},5,{"$f":"+Kriterien!$B$29","v":"G1>70%"},5,{"$f":"+Kriterien!$B$30","v":"L>65%"},5,{"$f":"+Kriterien!$B$31","v":"R<65%"},null,{"$f":"+Kriterien!B27","v":"T >90%"},{"$f":"IF(O4=0,0,+O4/O9)","v":0},{"$f":"IF(P4=0,0,+P4/P9)","v":0},0,0,0,0,0,0,0,0,0,0,{"$f":"+AA4/AA9","v":0}]
["mo","bel","mo","bel","mo","bel","mo","bel","mo","bel","mo","bel",null,{"$f":"+Kriterien!B28","v":"G2>80%"},{"$f":"IF(O5=0,0,+O5/O9)","v":0},{"$f":"IF(P5=0,0,+P5/P9)","v":0},0,0,0,0,0,0,0,0,0,0,{"$f":"+AA5/AA9","v":0}]
[6,{"$f":"+Kriterien!$B$26","v":"W"},6,{"$f":"+Kriterien!$B$27","v":"T >90%"},6,{"$f":"+Kriterien!$B$28","v":"G2>80%"},6,{"$f":"+Kriterien!$B$29","v":"G1>70%"},6,{"$f":"+Kriterien!$B$30","v":"L>65%"},6,{"$f":"+Kriterien!$B$31","v":"R<65%"},null,{"$f":"+Kriterien!B29","v":"G1>70%"},{"$f":"IF(O6=0,0,+O6/O9)","v":0},{"$f":"IF(P6=0,0,+P6/P9)","v":0},0,0,0,0,0,0,0,0,0,0,{"$f":"+AA6/AA9","v":0}]
["mo","bel","mo","bel","mo","bel","mo","bel","mo","bel","mo","bel",null,{"$f":"+Kriterien!B30","v":"L>65%"},{"$f":"IF(O7=0,0,+O7/O9)","v":0.42105263157894735},{"$f":"IF(P7=0,0,+P7/P9)","v":0},0,0,0,0,0,0,0,0,0,0,{"$f":"+AA7/AA9","v":0.42105263157894735}]
[7,{"$f":"+Kriterien!$B$26","v":"W"},7,{"$f":"+Kriterien!$B$27","v":"T >90%"},7,{"$f":"+Kriterien!$B$28","v":"G2>80%"},7,{"$f":"+Kriterien!$B$29","v":"G1>70%"},7,{"$f":"+Kriterien!$B$30","v":"L>65%"},7,{"$f":"+Kriterien!$B$31","v":"R<65%"},null,{"$f":"+Kriterien!B31","v":"R<65%"},{"$f":"IF(O8=0,0,+O8/O9)","v":0.22807017543859648},{"$f":"IF(P8=0,0,+P8/P9)","v":0},0,0,0,0,0,0,0,0,0,0,{"$f":"+AA8/AA9","v":0.22807017543859648}]
["mo","bel","mo","bel","mo","bel","mo","bel","mo","bel","mo","bel",null,"Sum",{"$f":"SUM(O11:O16)","v":1},{"$f":"SUM(P11:P16)","v":0},0,0,0,0,0,0,0,0,0,0,1]
[8,{"$f":"+Kriterien!$B$26","v":"W"},8,{"$f":"+Kriterien!$B$27","v":"T >90%"},8,{"$f":"+Kriterien!$B$28","v":"G2>80%"},8,{"$f":"+Kriterien!$B$29","v":"G1>70%"},8,{"$f":"+Kriterien!$B$30","v":"L>65%"},8,{"$f":"+Kriterien!$B$31","v":"R<65%"}]
["mo","bel","mo","bel","mo","bel","mo","bel","mo","bel","mo","bel"]
[9,{"$f":"+Kriterien!$B$26","v":"W"},9,{"$f":"+Kriterien!$B$27","v":"T >90%"},9,{"$f":"+Kriterien!$B$28","v":"G2>80%"},9,{"$f":"+Kriterien!$B$29","v":"G1>70%"},9,{"$f":"+Kriterien!$B$30","v":"L>65%"},9,{"$f":"+Kriterien!$B$31","v":"R<65%"}]
["mo","bel","mo","bel","mo","bel","mo","bel","mo","bel","mo","bel"]
[10,{"$f":"+Kriterien!$B$26","v":"W"},10,{"$f":"+Kriterien!$B$27","v":"T >90%"},10,{"$f":"+Kriterien!$B$28","v":"G2>80%"},10,{"$f":"+Kriterien!$B$29","v":"G1>70%"},10,{"$f":"+Kriterien!$B$30","v":"L>65%"},10,{"$f":"+Kriterien!$B$31","v":"R<65%"}]
["mo","bel","mo","bel","mo","bel","mo","bel","mo","bel","mo","bel"]
[11,{"$f":"+Kriterien!$B$26","v":"W"},11,{"$f":"+Kriterien!$B$27","v":"T >90%"},11,{"$f":"+Kriterien!$B$28","v":"G2>80%"},11,{"$f":"+Kriterien!$B$29","v":"G1>70%"},11,{"$f":"+Kriterien!$B$30","v":"L>65%"},11,{"$f":"+Kriterien!$B$31","v":"R<65%"}]
["mo","bel","mo","bel","mo","bel","mo","bel","mo","bel","mo","bel"]
[12,{"$f":"+Kriterien!$B$26","v":"W"},12,{"$f":"+Kriterien!$B$27","v":"T >90%"},12,{"$f":"+Kriterien!$B$28","v":"G2>80%"},12,{"$f":"+Kriterien!$B$29","v":"G1>70%"},12,{"$f":"+Kriterien!$B$30","v":"L>65%"},12,{"$f":"+Kriterien!$B$31","v":"R<65%"}]
[]
["Sollen mehr als 6 Belastungskriterien verwendet werden, müssen diese Tabellen manuell erweitert werden, damit Statistiken und Grafiken vollständig sind."]